BEGIN:VCALENDAR
VERSION:2.0
PRODID:-//Passpartout - ECPv6.15.20//NONSGML v1.0//EN
CALSCALE:GREGORIAN
METHOD:PUBLISH
X-ORIGINAL-URL:https://passpartout.art
X-WR-CALDESC:Eventi per Passpartout
REFRESH-INTERVAL;VALUE=DURATION:PT1H
X-Robots-Tag:noindex
X-PUBLISHED-TTL:PT1H
BEGIN:VTIMEZONE
TZID:Europe/Rome
BEGIN:DAYLIGHT
TZOFFSETFROM:+0100
TZOFFSETTO:+0200
TZNAME:CEST
DTSTART:20250330T010000
END:DAYLIGHT
BEGIN:STANDARD
TZOFFSETFROM:+0200
TZOFFSETTO:+0100
TZNAME:CET
DTSTART:20251026T010000
END:STANDARD
BEGIN:DAYLIGHT
TZOFFSETFROM:+0100
TZOFFSETTO:+0200
TZNAME:CEST
DTSTART:20260329T010000
END:DAYLIGHT
BEGIN:STANDARD
TZOFFSETFROM:+0200
TZOFFSETTO:+0100
TZNAME:CET
DTSTART:20261025T010000
END:STANDARD
BEGIN:DAYLIGHT
TZOFFSETFROM:+0100
TZOFFSETTO:+0200
TZNAME:CEST
DTSTART:20270328T010000
END:DAYLIGHT
BEGIN:STANDARD
TZOFFSETFROM:+0200
TZOFFSETTO:+0100
TZNAME:CET
DTSTART:20271031T010000
END:STANDARD
END:VTIMEZONE
BEGIN:VEVENT
DTSTART;TZID=Europe/Rome:20260221T154500
DTEND;TZID=Europe/Rome:20260221T154500
DTSTAMP:20260424T215704
CREATED:20260201T153155Z
LAST-MODIFIED:20260201T153155Z
UID:7919-1771688700-1771688700@passpartout.art
SUMMARY:Passeggiata accompagnata al Museo del Volo (30 min) e Laboratorio creativo
DESCRIPTION:Alla scoperta dei principi del volo con 6 postazioni interattive e il tavolo del piccolo progettista di macchine volanti! (Il laboratorio si svolge in autonomia nell’aula didattica riscaldata)
URL:https://passpartout.art/evento/passeggiata-accompagnata-al-museo-del-volo-30-min-e-laboratorio-creativo-12/
CATEGORIES:Parchi ville monumenti
END:VEVENT
END:VCALENDAR