BEGIN:VCALENDAR
VERSION:2.0
PRODID:-//Passpartout - ECPv6.15.20//NONSGML v1.0//EN
CALSCALE:GREGORIAN
METHOD:PUBLISH
X-WR-CALNAME:Passpartout
X-ORIGINAL-URL:https://passpartout.art
X-WR-CALDESC:Eventi per Passpartout
REFRESH-INTERVAL;VALUE=DURATION:PT1H
X-Robots-Tag:noindex
X-PUBLISHED-TTL:PT1H
BEGIN:VTIMEZONE
TZID:Europe/Rome
BEGIN:DAYLIGHT
TZOFFSETFROM:+0100
TZOFFSETTO:+0200
TZNAME:CEST
DTSTART:20250330T010000
END:DAYLIGHT
BEGIN:STANDARD
TZOFFSETFROM:+0200
TZOFFSETTO:+0100
TZNAME:CET
DTSTART:20251026T010000
END:STANDARD
BEGIN:DAYLIGHT
TZOFFSETFROM:+0100
TZOFFSETTO:+0200
TZNAME:CEST
DTSTART:20260329T010000
END:DAYLIGHT
BEGIN:STANDARD
TZOFFSETFROM:+0200
TZOFFSETTO:+0100
TZNAME:CET
DTSTART:20261025T010000
END:STANDARD
BEGIN:DAYLIGHT
TZOFFSETFROM:+0100
TZOFFSETTO:+0200
TZNAME:CEST
DTSTART:20270328T010000
END:DAYLIGHT
BEGIN:STANDARD
TZOFFSETFROM:+0200
TZOFFSETTO:+0100
TZNAME:CET
DTSTART:20271031T010000
END:STANDARD
END:VTIMEZONE
BEGIN:VEVENT
DTSTART;TZID=Europe/Rome:20260419T100000
DTEND;TZID=Europe/Rome:20260419T100000
DTSTAMP:20260423T055250
CREATED:20260331T203651Z
LAST-MODIFIED:20260331T203651Z
UID:8359-1776592800-1776592800@passpartout.art
SUMMARY:Children's Museum Verona - laboratori ThinkLab
DESCRIPTION:Il museo interattivo STEAM per bambini 0-12 anni. Laboratori ThinkLab ogni sabato e domenica.
URL:https://passpartout.art/evento/childrens-museum-verona-laboratori-thinklab-6/
CATEGORIES:Musei
END:VEVENT
BEGIN:VEVENT
DTSTART;TZID=Europe/Rome:20260419T100000
DTEND;TZID=Europe/Rome:20260419T100000
DTSTAMP:20260423T055250
CREATED:20260331T203454Z
LAST-MODIFIED:20260331T203454Z
UID:8319-1776592800-1776592800@passpartout.art
SUMMARY:Castello di San Pelagio - Museo del Volo e Labirinti
DESCRIPTION:Apertura domenicale del Castello di San Pelagio con il Museo del Volo e i labirinti del parco.
URL:https://passpartout.art/evento/castello-di-san-pelagio-museo-del-volo-e-labirinti-3/
CATEGORIES:Musei
END:VEVENT
BEGIN:VEVENT
DTSTART;TZID=Europe/Rome:20260418T150000
DTEND;TZID=Europe/Rome:20260418T150000
DTSTAMP:20260423T055250
CREATED:20260331T203607Z
LAST-MODIFIED:20260331T203607Z
UID:8345-1776524400-1776524400@passpartout.art
SUMMARY:Il Sabato di Gallerie|LAB
DESCRIPTION:Ogni sabato pomeriggio visite guidate e laboratori creativi per bambini 7-10 anni e famiglie. Attività comprese nel biglietto di ingresso (gratuito per bambini). Prenotazione obbligatoria entro le 13 del giorno precedente.
URL:https://passpartout.art/evento/il-sabato-di-gallerielab-3/
CATEGORIES:Musei
END:VEVENT
BEGIN:VEVENT
DTSTART;TZID=Europe/Rome:20260418T150000
DTEND;TZID=Europe/Rome:20260418T150000
DTSTAMP:20260423T055250
CREATED:20260331T203321Z
LAST-MODIFIED:20260331T203321Z
UID:8287-1776524400-1776524400@passpartout.art
SUMMARY:EsperiMUSME
DESCRIPTION:Laboratorio scientifico per bambini dai 6 agli 11 anni al museo di storia della medicina. Ogni sabato pomeriggio.
URL:https://passpartout.art/evento/esperimusme-3/
CATEGORIES:Musei
END:VEVENT
BEGIN:VEVENT
DTSTART;TZID=Europe/Rome:20260418T100000
DTEND;TZID=Europe/Rome:20260418T100000
DTSTAMP:20260423T055250
CREATED:20260331T203651Z
LAST-MODIFIED:20260331T203651Z
UID:8358-1776506400-1776506400@passpartout.art
SUMMARY:Children's Museum Verona - laboratori ThinkLab
DESCRIPTION:Il museo interattivo STEAM per bambini 0-12 anni. Laboratori ThinkLab ogni sabato e domenica.
URL:https://passpartout.art/evento/childrens-museum-verona-laboratori-thinklab-5/
CATEGORIES:Musei
END:VEVENT
BEGIN:VEVENT
DTSTART;TZID=Europe/Rome:20260412T163000
DTEND;TZID=Europe/Rome:20260412T163000
DTSTAMP:20260423T055250
CREATED:20260331T203436Z
LAST-MODIFIED:20260331T203436Z
UID:8312-1776011400-1776011400@passpartout.art
SUMMARY:La favola di Amore e Psiche
DESCRIPTION:Fucina dei Piccoli: la favola di Amore e Psiche raccontata con poesia\, ironia e colpi di scena. Produzione Teatro del Fiammifero. 8€ intero\, 7€ under 12\, gratuito sotto 3 anni.
URL:https://passpartout.art/evento/la-favola-di-amore-e-psiche/
CATEGORIES:Teatro
END:VEVENT
BEGIN:VEVENT
DTSTART;TZID=Europe/Rome:20260412T100000
DTEND;TZID=Europe/Rome:20260412T100000
DTSTAMP:20260423T055250
CREATED:20260331T203651Z
LAST-MODIFIED:20260331T203651Z
UID:8357-1775988000-1775988000@passpartout.art
SUMMARY:Children's Museum Verona - laboratori ThinkLab
DESCRIPTION:Il museo interattivo STEAM per bambini 0-12 anni. Laboratori ThinkLab ogni sabato e domenica.
URL:https://passpartout.art/evento/childrens-museum-verona-laboratori-thinklab-4/
CATEGORIES:Musei
END:VEVENT
BEGIN:VEVENT
DTSTART;TZID=Europe/Rome:20260412T100000
DTEND;TZID=Europe/Rome:20260412T100000
DTSTAMP:20260423T055250
CREATED:20260331T203453Z
LAST-MODIFIED:20260331T203453Z
UID:8318-1775988000-1775988000@passpartout.art
SUMMARY:Castello di San Pelagio - Museo del Volo e Labirinti
DESCRIPTION:Apertura domenicale del Castello di San Pelagio con il Museo del Volo e i labirinti del parco.
URL:https://passpartout.art/evento/castello-di-san-pelagio-museo-del-volo-e-labirinti-2/
CATEGORIES:Musei
END:VEVENT
BEGIN:VEVENT
DTSTART;TZID=Europe/Rome:20260411T150000
DTEND;TZID=Europe/Rome:20260411T150000
DTSTAMP:20260423T055250
CREATED:20260331T203606Z
LAST-MODIFIED:20260331T203606Z
UID:8344-1775919600-1775919600@passpartout.art
SUMMARY:Il Sabato di Gallerie|LAB
DESCRIPTION:Ogni sabato pomeriggio visite guidate e laboratori creativi per bambini 7-10 anni e famiglie. Attività comprese nel biglietto di ingresso (gratuito per bambini). Prenotazione obbligatoria entro le 13 del giorno precedente.
URL:https://passpartout.art/evento/il-sabato-di-gallerielab-2/
CATEGORIES:Musei
END:VEVENT
BEGIN:VEVENT
DTSTART;TZID=Europe/Rome:20260411T150000
DTEND;TZID=Europe/Rome:20260411T150000
DTSTAMP:20260423T055250
CREATED:20260331T203320Z
LAST-MODIFIED:20260331T203320Z
UID:8286-1775919600-1775919600@passpartout.art
SUMMARY:EsperiMUSME
DESCRIPTION:Laboratorio scientifico per bambini dai 6 agli 11 anni al museo di storia della medicina. Ogni sabato pomeriggio.
URL:https://passpartout.art/evento/esperimusme-2/
CATEGORIES:Musei
END:VEVENT
BEGIN:VEVENT
DTSTART;TZID=Europe/Rome:20260411T100000
DTEND;TZID=Europe/Rome:20260411T100000
DTSTAMP:20260423T055250
CREATED:20260331T203651Z
LAST-MODIFIED:20260331T203651Z
UID:8356-1775901600-1775901600@passpartout.art
SUMMARY:Children's Museum Verona - laboratori ThinkLab
DESCRIPTION:Il museo interattivo STEAM per bambini 0-12 anni. Laboratori ThinkLab ogni sabato e domenica.
URL:https://passpartout.art/evento/childrens-museum-verona-laboratori-thinklab-3/
CATEGORIES:Musei
END:VEVENT
BEGIN:VEVENT
DTSTART;TZID=Europe/Rome:20260406T100000
DTEND;TZID=Europe/Rome:20260406T100000
DTSTAMP:20260423T055250
CREATED:20260331T203505Z
LAST-MODIFIED:20260331T203505Z
UID:8321-1775469600-1775469600@passpartout.art
SUMMARY:Castello di San Pelagio - Pasquetta
DESCRIPTION:Apertura festiva (Pasquetta) del Castello di San Pelagio con Museo del Volo e labirinti. Biglietto intero 16€\, ridotto (5-12 anni) 12€.
URL:https://passpartout.art/evento/castello-di-san-pelagio-pasquetta/
CATEGORIES:Musei
END:VEVENT
BEGIN:VEVENT
DTSTART;TZID=Europe/Rome:20260406T090000
DTEND;TZID=Europe/Rome:20260406T090000
DTSTAMP:20260423T055250
CREATED:20260331T203336Z
LAST-MODIFIED:20260331T203336Z
UID:8294-1775466000-1775466000@passpartout.art
SUMMARY:Pasquetta a Cittadella
DESCRIPTION:Apertura straordinaria delle Mura di Cittadella per Pasquetta. Camminamento Ronda aperto 9-19; Teatro Sociale 11-14 e 15-18.
URL:https://passpartout.art/evento/pasquetta-a-cittadella/
CATEGORIES:Parchi ville monumenti
END:VEVENT
BEGIN:VEVENT
DTSTART;TZID=Europe/Rome:20260405T100000
DTEND;TZID=Europe/Rome:20260405T100000
DTSTAMP:20260423T055250
CREATED:20260331T203637Z
LAST-MODIFIED:20260331T203637Z
UID:8355-1775383200-1775383200@passpartout.art
SUMMARY:Children's Museum Verona - laboratori ThinkLab
DESCRIPTION:Il museo interattivo STEAM per bambini 0-12 anni. Laboratori ThinkLab ogni sabato e domenica.
URL:https://passpartout.art/evento/childrens-museum-verona-laboratori-thinklab-2/
CATEGORIES:Musei
END:VEVENT
BEGIN:VEVENT
DTSTART;TZID=Europe/Rome:20260405T100000
DTEND;TZID=Europe/Rome:20260405T100000
DTSTAMP:20260423T055250
CREATED:20260331T203453Z
LAST-MODIFIED:20260331T203453Z
UID:8317-1775383200-1775383200@passpartout.art
SUMMARY:Castello di San Pelagio - Museo del Volo e Labirinti
DESCRIPTION:Apertura domenicale del Castello di San Pelagio con il Museo del Volo e i labirinti del parco. Visita guidata alle Stanze Dannunziane ore 11\, 12\, 15\, 16\, 17. Biglietto intero 16€\, ridotto (5-12 anni) 12€\, famiglie 32€ + 9€ per ragazzo aggiuntivo.
URL:https://passpartout.art/evento/castello-di-san-pelagio-museo-del-volo-e-labirinti/
CATEGORIES:Musei
END:VEVENT
BEGIN:VEVENT
DTSTART;TZID=Europe/Rome:20260405T090000
DTEND;TZID=Europe/Rome:20260405T090000
DTSTAMP:20260423T055250
CREATED:20260331T203336Z
LAST-MODIFIED:20260331T203336Z
UID:8293-1775379600-1775379600@passpartout.art
SUMMARY:Pasqua a Cittadella
DESCRIPTION:Apertura straordinaria delle Mura di Cittadella per Pasqua. Camminamento Ronda aperto 9-19; Teatro Sociale 11-14 e 15-18.
URL:https://passpartout.art/evento/pasqua-a-cittadella/
CATEGORIES:Parchi ville monumenti
END:VEVENT
BEGIN:VEVENT
DTSTART;TZID=Europe/Rome:20260405T081500
DTEND;TZID=Europe/Rome:20260405T081500
DTSTAMP:20260423T055250
CREATED:20260331T203621Z
LAST-MODIFIED:20260331T203621Z
UID:8347-1775376900-1775376900@passpartout.art
SUMMARY:#domenicaalmuseo - Ingresso gratuito
DESCRIPTION:Prima domenica del mese: ingresso gratuito alle Gallerie dell’Accademia (#domenicaalmuseo\, iniziativa MiC). Nessuna prenotazione\, accesso in ordine di arrivo.
URL:https://passpartout.art/evento/domenicaalmuseo-ingresso-gratuito/
CATEGORIES:Musei
END:VEVENT
BEGIN:VEVENT
DTSTART;TZID=Europe/Rome:20260404T150000
DTEND;TZID=Europe/Rome:20260404T150000
DTSTAMP:20260423T055250
CREATED:20260331T203606Z
LAST-MODIFIED:20260331T203606Z
UID:8343-1775314800-1775314800@passpartout.art
SUMMARY:Il Sabato di Gallerie|LAB
DESCRIPTION:Ogni sabato pomeriggio visite guidate e laboratori creativi per bambini 7-10 anni e famiglie. Attività comprese nel biglietto di ingresso (gratuito per bambini). Prenotazione obbligatoria entro le 13 del giorno precedente.
URL:https://passpartout.art/evento/il-sabato-di-gallerielab/
CATEGORIES:Musei
END:VEVENT
BEGIN:VEVENT
DTSTART;TZID=Europe/Rome:20260404T150000
DTEND;TZID=Europe/Rome:20260404T150000
DTSTAMP:20260423T055250
CREATED:20260331T203143Z
LAST-MODIFIED:20260331T203143Z
UID:8285-1775314800-1775314800@passpartout.art
SUMMARY:EsperiMUSME
DESCRIPTION:Laboratorio scientifico per bambini dai 6 agli 11 anni al museo di storia della medicina. Ogni sabato pomeriggio.
URL:https://passpartout.art/evento/esperimusme/
CATEGORIES:Musei
END:VEVENT
BEGIN:VEVENT
DTSTART;TZID=Europe/Rome:20260404T100000
DTEND;TZID=Europe/Rome:20260404T100000
DTSTAMP:20260423T055250
CREATED:20260331T203636Z
LAST-MODIFIED:20260331T203636Z
UID:8354-1775296800-1775296800@passpartout.art
SUMMARY:Children's Museum Verona - laboratori ThinkLab
DESCRIPTION:Il museo interattivo STEAM per bambini 0-12 anni. Ogni sabato e domenica: laboratori ThinkLab (falegnameria\, robotica\, coding)\, exhibit interattivi acqua/luce/fisica. Ingresso gratuito per bambini. Prenotazione consigliata. Si entra senza scarpe.
URL:https://passpartout.art/evento/childrens-museum-verona-laboratori-thinklab/
CATEGORIES:Musei
END:VEVENT
BEGIN:VEVENT
DTSTART;TZID=Europe/Rome:20260319T090000
DTEND;TZID=Europe/Rome:20260319T090000
DTSTAMP:20260423T055250
CREATED:20260227T221046Z
LAST-MODIFIED:20260227T221046Z
UID:8224-1773910800-1773910800@passpartout.art
SUMMARY:FESTA DEL PAPA’ SOPRA LE MURA
DESCRIPTION:Fai un regalo al tuo papà e portalo a fare una passeggiata panoramica a 15 metri d’altezza sopra le Mura di Cittadella.
URL:https://passpartout.art/evento/festa-del-papa-sopra-le-mura/
CATEGORIES:Musei
END:VEVENT
BEGIN:VEVENT
DTSTART;TZID=Europe/Rome:20260315T160000
DTEND;TZID=Europe/Rome:20260315T160000
DTSTAMP:20260423T055250
CREATED:20260227T221045Z
LAST-MODIFIED:20260227T221045Z
UID:8223-1773590400-1773590400@passpartout.art
SUMMARY:TEATRO PER BAMBINI Il Gobbo di Notre Dame
DESCRIPTION:Teatro per bambini della Compagnia Magicabula al Teatro Sociale. Info Pro Cittadella: info@procittadella.it
URL:https://passpartout.art/evento/teatro-per-bambini-il-gobbo-di-notre-dame/
CATEGORIES:Musei
END:VEVENT
BEGIN:VEVENT
DTSTART;TZID=Europe/Rome:20260301T173000
DTEND;TZID=Europe/Rome:20260301T173000
DTSTAMP:20260423T055250
CREATED:20260227T220030Z
LAST-MODIFIED:20260227T220030Z
UID:8036-1772386200-1772386200@passpartout.art
SUMMARY:Il grande viaggio del piccolo Händel
DESCRIPTION:Un appassionante concerto spettacolo per far conoscere ai più piccoli la storia e la musica del grande compositore e giramondo George Frideric Händel. Nello spettacolo\, i piccoli spettatori viaggeranno dagli innevati paesaggi tedeschi alla scintillante Parigi\, dalle assolate spiagge italiane alle rive del Tamigi\, in compagnia di un gruppo di bizzarri musicisti alla ricerca della “Fonte dell’ispirazione”. A guidarli il maestro Händel in carne e ossa (o meglio in stoffa e gommapiuma!) e la sua assistente Clotilde (Annachiara Zanoli\, attrice e artigiana puppet maker).
URL:https://passpartout.art/evento/il-grande-viaggio-del-piccolo-handel-2/
CATEGORIES:Teatri
END:VEVENT
BEGIN:VEVENT
DTSTART;TZID=Europe/Rome:20260301T160000
DTEND;TZID=Europe/Rome:20260301T160000
DTSTAMP:20260423T055250
CREATED:20260227T220030Z
LAST-MODIFIED:20260227T220030Z
UID:8035-1772380800-1772380800@passpartout.art
SUMMARY:Il grande viaggio del piccolo Händel
DESCRIPTION:Un appassionante concerto spettacolo per far conoscere ai più piccoli la storia e la musica del grande compositore e giramondo George Frideric Händel. Nello spettacolo\, i piccoli spettatori viaggeranno dagli innevati paesaggi tedeschi alla scintillante Parigi\, dalle assolate spiagge italiane alle rive del Tamigi\, in compagnia di un gruppo di bizzarri musicisti alla ricerca della “Fonte dell’ispirazione”. A guidarli il maestro Händel in carne e ossa (o meglio in stoffa e gommapiuma!) e la sua assistente Clotilde (Annachiara Zanoli\, attrice e artigiana puppet maker).
URL:https://passpartout.art/evento/il-grande-viaggio-del-piccolo-handel/
CATEGORIES:Teatri
END:VEVENT
BEGIN:VEVENT
DTSTART;TZID=Europe/Rome:20260301T110000
DTEND;TZID=Europe/Rome:20260301T110000
DTSTAMP:20260423T055250
CREATED:20260227T220025Z
LAST-MODIFIED:20260227T220025Z
UID:8030-1772362800-1772362800@passpartout.art
SUMMARY:Prima giornata al castello per il sogno del volo
DESCRIPTION:Un’intera giornata dedicata al sogno del volo\, tra cultura\, natura ed esperienze per tutte le età. Il Museo del Volo e il Parco storico accolgono i visitatori con percorsi immersivi accompagnati da audioguide tematiche di AmuseApp\, la mostra Volo&Arte e le attività interattive Fly Garden per adulti e bambini. Il programma si arricchisce con visite guidate esclusive alla Torre e alle Stanze dannunziane\, laboratori creativi per famiglie\, esperienze di yoga per grandi e piccoli e momenti speciali che intrecciano storia\, arte e benessere\, in una cornice unica.
URL:https://passpartout.art/evento/prima-giornata-al-castello-per-il-sogno-del-volo/
CATEGORIES:Parchi ville monumenti
END:VEVENT
BEGIN:VEVENT
DTSTART;TZID=Europe/Rome:20260228T154500
DTEND;TZID=Europe/Rome:20260228T154500
DTSTAMP:20260423T055250
CREATED:20260201T153200Z
LAST-MODIFIED:20260201T153200Z
UID:7921-1772293500-1772293500@passpartout.art
SUMMARY:Passeggiata accompagnata al Museo del Volo (30 min) e Laboratorio creativo
DESCRIPTION:Alla scoperta dei principi del volo con 6 postazioni interattive e il tavolo del piccolo progettista di macchine volanti! (Il laboratorio si svolge in autonomia nell’aula didattica riscaldata)
URL:https://passpartout.art/evento/passeggiata-accompagnata-al-museo-del-volo-30-min-e-laboratorio-creativo-14/
CATEGORIES:Parchi ville monumenti
END:VEVENT
BEGIN:VEVENT
DTSTART;TZID=Europe/Rome:20260222T154500
DTEND;TZID=Europe/Rome:20260222T154500
DTSTAMP:20260423T055250
CREATED:20260201T153200Z
LAST-MODIFIED:20260201T153200Z
UID:7920-1771775100-1771775100@passpartout.art
SUMMARY:Passeggiata accompagnata al Museo del Volo (30 min) e Laboratorio creativo
DESCRIPTION:Alla scoperta dei principi del volo con 6 postazioni interattive e il tavolo del piccolo progettista di macchine volanti! (Il laboratorio si svolge in autonomia nell’aula didattica riscaldata)
URL:https://passpartout.art/evento/passeggiata-accompagnata-al-museo-del-volo-30-min-e-laboratorio-creativo-13/
CATEGORIES:Parchi ville monumenti
END:VEVENT
BEGIN:VEVENT
DTSTART;TZID=Europe/Rome:20260221T154500
DTEND;TZID=Europe/Rome:20260221T154500
DTSTAMP:20260423T055250
CREATED:20260201T153155Z
LAST-MODIFIED:20260201T153155Z
UID:7919-1771688700-1771688700@passpartout.art
SUMMARY:Passeggiata accompagnata al Museo del Volo (30 min) e Laboratorio creativo
DESCRIPTION:Alla scoperta dei principi del volo con 6 postazioni interattive e il tavolo del piccolo progettista di macchine volanti! (Il laboratorio si svolge in autonomia nell’aula didattica riscaldata)
URL:https://passpartout.art/evento/passeggiata-accompagnata-al-museo-del-volo-30-min-e-laboratorio-creativo-12/
CATEGORIES:Parchi ville monumenti
END:VEVENT
BEGIN:VEVENT
DTSTART;TZID=Europe/Rome:20260215T154500
DTEND;TZID=Europe/Rome:20260215T154500
DTSTAMP:20260423T055250
CREATED:20260201T153155Z
LAST-MODIFIED:20260201T153155Z
UID:7918-1771170300-1771170300@passpartout.art
SUMMARY:Passeggiata accompagnata al Museo del Volo (30 min) e Laboratorio creativo
DESCRIPTION:Alla scoperta dei principi del volo con 6 postazioni interattive e il tavolo del piccolo progettista di macchine volanti! (Il laboratorio si svolge in autonomia nell’aula didattica riscaldata)
URL:https://passpartout.art/evento/passeggiata-accompagnata-al-museo-del-volo-30-min-e-laboratorio-creativo-11/
CATEGORIES:Parchi ville monumenti
END:VEVENT
BEGIN:VEVENT
DTSTART;TZID=Europe/Rome:20260214T154500
DTEND;TZID=Europe/Rome:20260214T154500
DTSTAMP:20260423T055250
CREATED:20260201T153154Z
LAST-MODIFIED:20260201T153154Z
UID:7917-1771083900-1771083900@passpartout.art
SUMMARY:Passeggiata accompagnata al Museo del Volo (30 min) e Laboratorio creativo
DESCRIPTION:Alla scoperta dei principi del volo con 6 postazioni interattive e il tavolo del piccolo progettista di macchine volanti! (Il laboratorio si svolge in autonomia nell’aula didattica riscaldata)
URL:https://passpartout.art/evento/passeggiata-accompagnata-al-museo-del-volo-30-min-e-laboratorio-creativo-10/
CATEGORIES:Parchi ville monumenti
END:VEVENT
END:VCALENDAR