BEGIN:VCALENDAR
VERSION:2.0
PRODID:-//Passpartout - ECPv6.15.20//NONSGML v1.0//EN
CALSCALE:GREGORIAN
METHOD:PUBLISH
X-ORIGINAL-URL:https://passpartout.art
X-WR-CALDESC:Eventi per Passpartout
REFRESH-INTERVAL;VALUE=DURATION:PT1H
X-Robots-Tag:noindex
X-PUBLISHED-TTL:PT1H
BEGIN:VTIMEZONE
TZID:Europe/Rome
BEGIN:DAYLIGHT
TZOFFSETFROM:+0100
TZOFFSETTO:+0200
TZNAME:CEST
DTSTART:20240331T010000
END:DAYLIGHT
BEGIN:STANDARD
TZOFFSETFROM:+0200
TZOFFSETTO:+0100
TZNAME:CET
DTSTART:20241027T010000
END:STANDARD
BEGIN:DAYLIGHT
TZOFFSETFROM:+0100
TZOFFSETTO:+0200
TZNAME:CEST
DTSTART:20250330T010000
END:DAYLIGHT
BEGIN:STANDARD
TZOFFSETFROM:+0200
TZOFFSETTO:+0100
TZNAME:CET
DTSTART:20251026T010000
END:STANDARD
BEGIN:DAYLIGHT
TZOFFSETFROM:+0100
TZOFFSETTO:+0200
TZNAME:CEST
DTSTART:20260329T010000
END:DAYLIGHT
BEGIN:STANDARD
TZOFFSETFROM:+0200
TZOFFSETTO:+0100
TZNAME:CET
DTSTART:20261025T010000
END:STANDARD
END:VTIMEZONE
BEGIN:VEVENT
DTSTART;TZID=Europe/Rome:20251025T150000
DTEND;TZID=Europe/Rome:20251025T150000
DTSTAMP:20260419T184511
CREATED:20251003T154936Z
LAST-MODIFIED:20251003T154936Z
UID:7337-1761404400-1761404400@passpartout.art
SUMMARY:Caccia ai fantasmi nel Castello
DESCRIPTION:Con l’arrivo di Halloween il castello è infestato da simpatici fantasmini bianchi. Si sono nascosti dappertutto\, nei torrioni\, nei cunicoli\, in cortile e persino nel pozzo e in tanti altri luoghi del castello: aspettano solo di essere trovati. Chi ci aiuta a scovarli? Chi riuscirà a trovarli tutti? Superata questa prova da brividi i bambini saranno proclamati “cacciatori e cacciatrici di fantasmi del castello di Rovereto”.
URL:https://passpartout.art/evento/caccia-ai-fantasmi-nel-castello-8/
CATEGORIES:Musei
END:VEVENT
END:VCALENDAR