BEGIN:VCALENDAR
VERSION:2.0
PRODID:-//Passpartout - ECPv6.15.20//NONSGML v1.0//EN
CALSCALE:GREGORIAN
METHOD:PUBLISH
X-ORIGINAL-URL:https://passpartout.art
X-WR-CALDESC:Eventi per Passpartout
REFRESH-INTERVAL;VALUE=DURATION:PT1H
X-Robots-Tag:noindex
X-PUBLISHED-TTL:PT1H
BEGIN:VTIMEZONE
TZID:Europe/Rome
BEGIN:DAYLIGHT
TZOFFSETFROM:+0100
TZOFFSETTO:+0200
TZNAME:CEST
DTSTART:20240331T010000
END:DAYLIGHT
BEGIN:STANDARD
TZOFFSETFROM:+0200
TZOFFSETTO:+0100
TZNAME:CET
DTSTART:20241027T010000
END:STANDARD
BEGIN:DAYLIGHT
TZOFFSETFROM:+0100
TZOFFSETTO:+0200
TZNAME:CEST
DTSTART:20250330T010000
END:DAYLIGHT
BEGIN:STANDARD
TZOFFSETFROM:+0200
TZOFFSETTO:+0100
TZNAME:CET
DTSTART:20251026T010000
END:STANDARD
BEGIN:DAYLIGHT
TZOFFSETFROM:+0100
TZOFFSETTO:+0200
TZNAME:CEST
DTSTART:20260329T010000
END:DAYLIGHT
BEGIN:STANDARD
TZOFFSETFROM:+0200
TZOFFSETTO:+0100
TZNAME:CET
DTSTART:20261025T010000
END:STANDARD
END:VTIMEZONE
BEGIN:VEVENT
DTSTART;TZID=Europe/Rome:20250525T150000
DTEND;TZID=Europe/Rome:20250525T150000
DTSTAMP:20260424T001246
CREATED:20250430T221440Z
LAST-MODIFIED:20250430T221440Z
UID:6525-1748185200-1748185200@passpartout.art
SUMMARY:Little Mart | Sfumature pastello
DESCRIPTION:I pastelli permettono un contatto diretto con i pigmenti\, le sostanze coloranti alla base di molte tecniche artistiche. Grazie a cere ed oli\, la finissima polvere colorata si trasforma in uno strumento che offre un’ampia gamma di cromatismi e sensazioni tattili. Questo nuovo laboratorio nasce per sperimentare i molteplici usi dei pastelli a olio\, a cera e cretosi\, ispirandosi alle opere delle Collezioni del Mart.
URL:https://passpartout.art/evento/little-mart-sfumature-pastello-3/
CATEGORIES:Musei
END:VEVENT
END:VCALENDAR