BEGIN:VCALENDAR
VERSION:2.0
PRODID:-//Passpartout - ECPv6.15.20//NONSGML v1.0//EN
CALSCALE:GREGORIAN
METHOD:PUBLISH
X-WR-CALNAME:Passpartout
X-ORIGINAL-URL:https://passpartout.art
X-WR-CALDESC:Eventi per Passpartout
REFRESH-INTERVAL;VALUE=DURATION:PT1H
X-Robots-Tag:noindex
X-PUBLISHED-TTL:PT1H
BEGIN:VTIMEZONE
TZID:Europe/Rome
BEGIN:DAYLIGHT
TZOFFSETFROM:+0100
TZOFFSETTO:+0200
TZNAME:CEST
DTSTART:20240331T010000
END:DAYLIGHT
BEGIN:STANDARD
TZOFFSETFROM:+0200
TZOFFSETTO:+0100
TZNAME:CET
DTSTART:20241027T010000
END:STANDARD
BEGIN:DAYLIGHT
TZOFFSETFROM:+0100
TZOFFSETTO:+0200
TZNAME:CEST
DTSTART:20250330T010000
END:DAYLIGHT
BEGIN:STANDARD
TZOFFSETFROM:+0200
TZOFFSETTO:+0100
TZNAME:CET
DTSTART:20251026T010000
END:STANDARD
BEGIN:DAYLIGHT
TZOFFSETFROM:+0100
TZOFFSETTO:+0200
TZNAME:CEST
DTSTART:20260329T010000
END:DAYLIGHT
BEGIN:STANDARD
TZOFFSETFROM:+0200
TZOFFSETTO:+0100
TZNAME:CET
DTSTART:20261025T010000
END:STANDARD
END:VTIMEZONE
BEGIN:VEVENT
DTSTART;TZID=Europe/Rome:20250216T100000
DTEND;TZID=Europe/Rome:20250216T100000
DTSTAMP:20260421T053554
CREATED:20250129T223156Z
LAST-MODIFIED:20250129T223156Z
UID:6158-1739700000-1739700000@passpartout.art
SUMMARY:W la domenica! Le giornate per le famiglie al Mart
DESCRIPTION:E se andassimo al museo? Il 20 ottobre e 17 novembre 2024\, 19 gennaio e 16 febbraio 2025 il Mart dedica quattro domeniche alle famiglie con workshop\, laboratori\, spettacoli\, proposte accessibili\, visite guidate e animate alle mostre. Ma c’è di più: entrare al museo costa 10€ a famiglia (massimo 2 adulti over 26) grazie alla speciale tariffa ridotta. Ogni domenica si apre con un laboratorio nella Biblioteca Civica Tartarotti e si chiude con uno spettacolo a cura del Centro Servizi Culturali S. Chiara.
URL:https://passpartout.art/evento/w-la-domenica-le-giornate-per-le-famiglie-al-mart-2/
CATEGORIES:Musei
END:VEVENT
BEGIN:VEVENT
DTSTART;TZID=Europe/Rome:20250216T100000
DTEND;TZID=Europe/Rome:20250216T100000
DTSTAMP:20260421T053554
CREATED:20250129T223210Z
LAST-MODIFIED:20250129T223210Z
UID:6161-1739700000-1739700000@passpartout.art
SUMMARY:Visita animata | C'era una volta l'arte etrusca
DESCRIPTION:Un viaggio nel tempo alla scoperta dell’antica civiltà etrusca. Il “portale magico”\, rappresentato dall’opera di Michelangelo Pistoletto\, all’inizio della mostra Etruschi del Novecento\, ci introduce a un percorso ricco di scoperte e di sorprese.
URL:https://passpartout.art/evento/visita-animata-cera-una-volta-larte-etrusca-2/
CATEGORIES:Musei
END:VEVENT
BEGIN:VEVENT
DTSTART;TZID=Europe/Rome:20250216T120000
DTEND;TZID=Europe/Rome:20250216T120000
DTSTAMP:20260421T053554
CREATED:20250129T223155Z
LAST-MODIFIED:20250129T223155Z
UID:6155-1739707200-1739707200@passpartout.art
SUMMARY:Visita animata | C'era una volta l'arte etrusca
DESCRIPTION:Un viaggio nel tempo alla scoperta dell’antica civiltà etrusca. Il “portale magico”\, rappresentato dall’opera di Michelangelo Pistoletto\, all’inizio della mostra Etruschi del Novecento\, ci introduce a un percorso ricco di scoperte e di sorprese.
URL:https://passpartout.art/evento/visita-animata-cera-una-volta-larte-etrusca/
CATEGORIES:Musei
END:VEVENT
BEGIN:VEVENT
DTSTART;TZID=Europe/Rome:20250216T140000
DTEND;TZID=Europe/Rome:20250216T140000
DTSTAMP:20260421T053554
CREATED:20250129T223140Z
LAST-MODIFIED:20250129T223140Z
UID:6151-1739714400-1739714400@passpartout.art
SUMMARY:Visita animata | Alla scoperta dell'arteLe giornate per le famiglie al Mart
DESCRIPTION:Scopriamo la varietà dei linguaggi dell’arte moderna e contemporanea nel nuovo allestimento delle Collezioni. Un percorso ricco di sorprese\, dai suoni degli Intonarumori futuristi agli oggetti reinterpretati dalla Pop Art e dall’Arte povera.
URL:https://passpartout.art/evento/visita-animata-alla-scoperta-dellartele-giornate-per-le-famiglie-al-mart/
CATEGORIES:Musei
END:VEVENT
BEGIN:VEVENT
DTSTART;TZID=Europe/Rome:20250216T150000
DTEND;TZID=Europe/Rome:20250216T150000
DTSTAMP:20260421T053554
CREATED:20250129T223154Z
LAST-MODIFIED:20250129T223154Z
UID:6154-1739718000-1739718000@passpartout.art
SUMMARY:Little Mart | Animali tra le pagine
DESCRIPTION:Impariamo a costruire un libro a fisarmonica sul tema degli animali metamorfici e fantastici\, sperimentando diverse tecniche: ritagliando e incollando immagini tratte da antiche stampe creiamo nuove specie animali; da una macchia di colore facciamo nascere una farfalla\, un granchio o un essere mostruoso; stampiamo la sagoma di un animaletto con un timbro ritagliato nella gomma.
URL:https://passpartout.art/evento/little-mart-animali-tra-le-pagine-2/
CATEGORIES:Musei
END:VEVENT
BEGIN:VEVENT
DTSTART;TZID=Europe/Rome:20250216T153000
DTEND;TZID=Europe/Rome:20250216T153000
DTSTAMP:20260421T053554
CREATED:20250129T223141Z
LAST-MODIFIED:20250129T223141Z
UID:6153-1739719800-1739719800@passpartout.art
SUMMARY:Visita animata | Alla scoperta dell'arte
DESCRIPTION:Scopriamo la varietà dei linguaggi dell’arte moderna e contemporanea nel nuovo allestimento delle Collezioni. Un percorso ricco di sorprese\, dai suoni degli Intonarumori futuristi agli oggetti reinterpretati dalla Pop Art e dall’Arte povera.
URL:https://passpartout.art/evento/visita-animata-alla-scoperta-dellarte-3/
CATEGORIES:Musei
END:VEVENT
END:VCALENDAR