BEGIN:VCALENDAR
VERSION:2.0
PRODID:-//Passpartout - ECPv6.15.20//NONSGML v1.0//EN
CALSCALE:GREGORIAN
METHOD:PUBLISH
X-ORIGINAL-URL:https://passpartout.art
X-WR-CALDESC:Eventi per Passpartout
REFRESH-INTERVAL;VALUE=DURATION:PT1H
X-Robots-Tag:noindex
X-PUBLISHED-TTL:PT1H
BEGIN:VTIMEZONE
TZID:Europe/Rome
BEGIN:DAYLIGHT
TZOFFSETFROM:+0100
TZOFFSETTO:+0200
TZNAME:CEST
DTSTART:20240331T010000
END:DAYLIGHT
BEGIN:STANDARD
TZOFFSETFROM:+0200
TZOFFSETTO:+0100
TZNAME:CET
DTSTART:20241027T010000
END:STANDARD
BEGIN:DAYLIGHT
TZOFFSETFROM:+0100
TZOFFSETTO:+0200
TZNAME:CEST
DTSTART:20250330T010000
END:DAYLIGHT
BEGIN:STANDARD
TZOFFSETFROM:+0200
TZOFFSETTO:+0100
TZNAME:CET
DTSTART:20251026T010000
END:STANDARD
BEGIN:DAYLIGHT
TZOFFSETFROM:+0100
TZOFFSETTO:+0200
TZNAME:CEST
DTSTART:20260329T010000
END:DAYLIGHT
BEGIN:STANDARD
TZOFFSETFROM:+0200
TZOFFSETTO:+0100
TZNAME:CET
DTSTART:20261025T010000
END:STANDARD
END:VTIMEZONE
BEGIN:VEVENT
DTSTART;TZID=Europe/Rome:20250202T100000
DTEND;TZID=Europe/Rome:20250202T100000
DTSTAMP:20260423T144208
CREATED:20250129T223141Z
LAST-MODIFIED:20250129T223141Z
UID:6152-1738490400-1738490400@passpartout.art
SUMMARY:Mi sento Fortunato. Visita animata alla Casa d'Arte Futurista Depero
DESCRIPTION:Un percorso alla scoperta dell’arte e della vita di Fortunato Depero basato sull’uso di uno speciale mazzo di carte. I partecipanti potranno pescare la loro carta “fortunata” che li indirizzerà a contenuti e sperimentazioni diverse: dal viaggio dell’artista a New York alle marionette per il teatro\, dalla sua visione della città di Rovereto alla tecnica delle tarsie in panno e in buxus.
URL:https://passpartout.art/evento/mi-sento-fortunato-visita-animata-alla-casa-darte-futurista-depero-5/
CATEGORIES:Musei
END:VEVENT
BEGIN:VEVENT
DTSTART;TZID=Europe/Rome:20250202T100000
DTEND;TZID=Europe/Rome:20250202T100000
DTSTAMP:20260423T144208
CREATED:20250129T223209Z
LAST-MODIFIED:20250129T223209Z
UID:6159-1738490400-1738490400@passpartout.art
SUMMARY:Little Mart | Paesaggi
DESCRIPTION:Un laboratorio alla scoperta della pittura di Francesco De Grandi\, in occasione della sua mostra personale alla Galleria Civica di Trento. Protagonista dell’attività è la natura rigogliosa rappresentata nelle sue grandi tele dai colori saturi.
URL:https://passpartout.art/evento/little-mart-paesaggi/
CATEGORIES:Musei
END:VEVENT
BEGIN:VEVENT
DTSTART;TZID=Europe/Rome:20250202T150000
DTEND;TZID=Europe/Rome:20250202T150000
DTSTAMP:20260423T144208
CREATED:20250129T223210Z
LAST-MODIFIED:20250129T223210Z
UID:6160-1738508400-1738508400@passpartout.art
SUMMARY:Little Mart | In bianco e nero
DESCRIPTION:Alla scoperta dell’arte in bianco e nero nel nuovo allestimento delle Collezioni del Mart! Dai segni grafici dei quadri astratti di Giuseppe Capogrossi e Antonio Sanfilippo alle silhouette tratte dalle fotografie di personaggi famosi dipinte da Sergio Lombardo\, questo laboratorio è dedicato alle possibilità espressive del bianco e nero.
URL:https://passpartout.art/evento/little-mart-in-bianco-e-nero/
CATEGORIES:Musei
END:VEVENT
END:VCALENDAR