BEGIN:VCALENDAR
VERSION:2.0
PRODID:-//Passpartout - ECPv6.15.20//NONSGML v1.0//EN
CALSCALE:GREGORIAN
METHOD:PUBLISH
X-WR-CALNAME:Passpartout
X-ORIGINAL-URL:https://passpartout.art
X-WR-CALDESC:Eventi per Passpartout
REFRESH-INTERVAL;VALUE=DURATION:PT1H
X-Robots-Tag:noindex
X-PUBLISHED-TTL:PT1H
BEGIN:VTIMEZONE
TZID:Europe/Rome
BEGIN:DAYLIGHT
TZOFFSETFROM:+0100
TZOFFSETTO:+0200
TZNAME:CEST
DTSTART:20230326T010000
END:DAYLIGHT
BEGIN:STANDARD
TZOFFSETFROM:+0200
TZOFFSETTO:+0100
TZNAME:CET
DTSTART:20231029T010000
END:STANDARD
BEGIN:DAYLIGHT
TZOFFSETFROM:+0100
TZOFFSETTO:+0200
TZNAME:CEST
DTSTART:20240331T010000
END:DAYLIGHT
BEGIN:STANDARD
TZOFFSETFROM:+0200
TZOFFSETTO:+0100
TZNAME:CET
DTSTART:20241027T010000
END:STANDARD
BEGIN:DAYLIGHT
TZOFFSETFROM:+0100
TZOFFSETTO:+0200
TZNAME:CEST
DTSTART:20250330T010000
END:DAYLIGHT
BEGIN:STANDARD
TZOFFSETFROM:+0200
TZOFFSETTO:+0100
TZNAME:CET
DTSTART:20251026T010000
END:STANDARD
END:VTIMEZONE
BEGIN:VEVENT
DTSTART;TZID=Europe/Rome:20241214T150000
DTEND;TZID=Europe/Rome:20241214T150000
DTSTAMP:20260424T054745
CREATED:20241129T223124Z
LAST-MODIFIED:20241129T223124Z
UID:5750-1734188400-1734188400@passpartout.art
SUMMARY:Costruiamo insieme… un museo!
DESCRIPTION:Visitare i musei è sempre divertente e interessante\, ma nelle sale espositive manca sempre qualcosa… Non sarebbe bello se ci fosse una una sala piena delle nostre cose preferite? E allora ecco che dopo aver visto curiosato nel museo e scoperto come si formano le collezioni e come si raccolgono e si conservano oggetti e documenti\, potremo costruire insieme il nostro personalissimo museo.
URL:https://passpartout.art/evento/costruiamo-insieme-un-museo/
CATEGORIES:Musei
END:VEVENT
END:VCALENDAR