BEGIN:VCALENDAR
VERSION:2.0
PRODID:-//Passpartout - ECPv6.15.20//NONSGML v1.0//EN
CALSCALE:GREGORIAN
METHOD:PUBLISH
X-ORIGINAL-URL:https://passpartout.art
X-WR-CALDESC:Eventi per Passpartout
REFRESH-INTERVAL;VALUE=DURATION:PT1H
X-Robots-Tag:noindex
X-PUBLISHED-TTL:PT1H
BEGIN:VTIMEZONE
TZID:Europe/Rome
BEGIN:DAYLIGHT
TZOFFSETFROM:+0100
TZOFFSETTO:+0200
TZNAME:CEST
DTSTART:20230326T010000
END:DAYLIGHT
BEGIN:STANDARD
TZOFFSETFROM:+0200
TZOFFSETTO:+0100
TZNAME:CET
DTSTART:20231029T010000
END:STANDARD
BEGIN:DAYLIGHT
TZOFFSETFROM:+0100
TZOFFSETTO:+0200
TZNAME:CEST
DTSTART:20240331T010000
END:DAYLIGHT
BEGIN:STANDARD
TZOFFSETFROM:+0200
TZOFFSETTO:+0100
TZNAME:CET
DTSTART:20241027T010000
END:STANDARD
BEGIN:DAYLIGHT
TZOFFSETFROM:+0100
TZOFFSETTO:+0200
TZNAME:CEST
DTSTART:20250330T010000
END:DAYLIGHT
BEGIN:STANDARD
TZOFFSETFROM:+0200
TZOFFSETTO:+0100
TZNAME:CET
DTSTART:20251026T010000
END:STANDARD
END:VTIMEZONE
BEGIN:VEVENT
DTSTART;TZID=Europe/Rome:20241207T150000
DTEND;TZID=Europe/Rome:20241207T150000
DTSTAMP:20260425T174102
CREATED:20241129T223124Z
LAST-MODIFIED:20241129T223124Z
UID:5749-1733583600-1733583600@passpartout.art
SUMMARY:Ma chi è?!
DESCRIPTION:Un bravo investigatore deve seguire tre regole importantissime: osservare\, riflettere e soprattutto fare le domande giuste! Percorrendo i lunghi cunicoli del Castello di Rovereto\, scendendo e salendo le scale e fermandoci con il naso all’insù\, cercheremo gli indizi più strampalati per scoprire il misterioso protagonista della storia che andremo ad ascoltare. Ha i baffi o porta gli occhiali? Cosa indossa? E soprattutto\, che cosa ci fa al Castello? Scoprendo le risposte\, conosceremo mille curiosità sul castello e tutti i suoi segreti.
URL:https://passpartout.art/evento/ma-chi-e-2/
CATEGORIES:Musei
END:VEVENT
END:VCALENDAR