BEGIN:VCALENDAR
VERSION:2.0
PRODID:-//Passpartout - ECPv6.15.20//NONSGML v1.0//EN
CALSCALE:GREGORIAN
METHOD:PUBLISH
X-WR-CALNAME:Passpartout
X-ORIGINAL-URL:https://passpartout.art
X-WR-CALDESC:Eventi per Passpartout
REFRESH-INTERVAL;VALUE=DURATION:PT1H
X-Robots-Tag:noindex
X-PUBLISHED-TTL:PT1H
BEGIN:VTIMEZONE
TZID:Europe/Rome
BEGIN:DAYLIGHT
TZOFFSETFROM:+0100
TZOFFSETTO:+0200
TZNAME:CEST
DTSTART:20230326T010000
END:DAYLIGHT
BEGIN:STANDARD
TZOFFSETFROM:+0200
TZOFFSETTO:+0100
TZNAME:CET
DTSTART:20231029T010000
END:STANDARD
BEGIN:DAYLIGHT
TZOFFSETFROM:+0100
TZOFFSETTO:+0200
TZNAME:CEST
DTSTART:20240331T010000
END:DAYLIGHT
BEGIN:STANDARD
TZOFFSETFROM:+0200
TZOFFSETTO:+0100
TZNAME:CET
DTSTART:20241027T010000
END:STANDARD
BEGIN:DAYLIGHT
TZOFFSETFROM:+0100
TZOFFSETTO:+0200
TZNAME:CEST
DTSTART:20250330T010000
END:DAYLIGHT
BEGIN:STANDARD
TZOFFSETFROM:+0200
TZOFFSETTO:+0100
TZNAME:CET
DTSTART:20251026T010000
END:STANDARD
END:VTIMEZONE
BEGIN:VEVENT
DTSTART;TZID=Europe/Rome:20241130T150000
DTEND;TZID=Europe/Rome:20241130T150000
DTSTAMP:20260421T210307
CREATED:20241030T075614Z
LAST-MODIFIED:20241030T075614Z
UID:5478-1732978800-1732978800@passpartout.art
SUMMARY:Storie al castello
DESCRIPTION:Tra le torri e i cunicoli del castello si nascondono un sacco di storie con protagonisti personaggi strani e curiosi. Cosa fanno lì? Perché sono arrivati lì? Riusciranno i piccoli visitatori a rispondere a queste domande? Equipaggiati di fantasia e tanta immaginazione ricostruiremo le loro storie tra racconti e letture animate che coinvolgeranno tutti\, grandi e piccini!
URL:https://passpartout.art/evento/storie-al-castello-4/
CATEGORIES:Musei
END:VEVENT
BEGIN:VEVENT
DTSTART;TZID=Europe/Rome:20241130T200000
DTEND;TZID=Europe/Rome:20241130T200000
DTSTAMP:20260421T210307
CREATED:20241030T080409Z
LAST-MODIFIED:20241030T080409Z
UID:5615-1732996800-1732996800@passpartout.art
SUMMARY:Art Exhibition
DESCRIPTION:Ogni sabato sera un laboratorio artistico: scopri la realtà attraverso gli occhi dei più grandi artisti e crea le tue opere d’arte con varie tecniche pittoriche!
URL:https://passpartout.art/evento/art-exhibition-5/
CATEGORIES:Musei
END:VEVENT
END:VCALENDAR