BEGIN:VCALENDAR
VERSION:2.0
PRODID:-//Passpartout - ECPv6.15.20//NONSGML v1.0//EN
CALSCALE:GREGORIAN
METHOD:PUBLISH
X-ORIGINAL-URL:https://passpartout.art
X-WR-CALDESC:Eventi per Passpartout
REFRESH-INTERVAL;VALUE=DURATION:PT1H
X-Robots-Tag:noindex
X-PUBLISHED-TTL:PT1H
BEGIN:VTIMEZONE
TZID:Europe/Rome
BEGIN:DAYLIGHT
TZOFFSETFROM:+0100
TZOFFSETTO:+0200
TZNAME:CEST
DTSTART:20230326T010000
END:DAYLIGHT
BEGIN:STANDARD
TZOFFSETFROM:+0200
TZOFFSETTO:+0100
TZNAME:CET
DTSTART:20231029T010000
END:STANDARD
BEGIN:DAYLIGHT
TZOFFSETFROM:+0100
TZOFFSETTO:+0200
TZNAME:CEST
DTSTART:20240331T010000
END:DAYLIGHT
BEGIN:STANDARD
TZOFFSETFROM:+0200
TZOFFSETTO:+0100
TZNAME:CET
DTSTART:20241027T010000
END:STANDARD
BEGIN:DAYLIGHT
TZOFFSETFROM:+0100
TZOFFSETTO:+0200
TZNAME:CEST
DTSTART:20250330T010000
END:DAYLIGHT
BEGIN:STANDARD
TZOFFSETFROM:+0200
TZOFFSETTO:+0100
TZNAME:CET
DTSTART:20251026T010000
END:STANDARD
END:VTIMEZONE
BEGIN:VEVENT
DTSTART;TZID=Europe/Rome:20241103T100000
DTEND;TZID=Europe/Rome:20241103T100000
DTSTAMP:20260422T034302
CREATED:20241030T075514Z
LAST-MODIFIED:20241030T075514Z
UID:5460-1730628000-1730628000@passpartout.art
SUMMARY:Mi sento Fortunato. Visita animata alla Casa d'Arte Futurista Depero
DESCRIPTION:Un percorso alla scoperta dell’arte e della vita di Fortunato Depero basato sull’uso di uno speciale mazzo di carte. I partecipanti potranno pescare la loro carta “fortunata” che li indirizzerà a contenuti e sperimentazioni diverse: dal viaggio dell’artista a New York alle marionette per il teatro\, dalla sua visione della città di Rovereto alla tecnica delle tarsie in panno e in buxus
URL:https://passpartout.art/evento/mi-sento-fortunato-visita-animata-alla-casa-darte-futurista-depero-2/
CATEGORIES:Musei
END:VEVENT
BEGIN:VEVENT
DTSTART;TZID=Europe/Rome:20241103T100000
DTEND;TZID=Europe/Rome:20241103T100000
DTSTAMP:20260422T034302
CREATED:20241030T075529Z
LAST-MODIFIED:20241030T075529Z
UID:5461-1730628000-1730628000@passpartout.art
SUMMARY:Paesaggi
DESCRIPTION:Un laboratorio alla scoperta della pittura di Francesco De Grandi\, in occasione della sua mostra personale alla Galleria Civica di Trento. Protagonista dell’attività è la natura rigogliosa rappresentata nelle sue grandi tele dai colori saturi.
URL:https://passpartout.art/evento/paesaggi/
CATEGORIES:Musei
END:VEVENT
BEGIN:VEVENT
DTSTART;TZID=Europe/Rome:20241103T150000
DTEND;TZID=Europe/Rome:20241103T150000
DTSTAMP:20260422T034302
CREATED:20241030T075529Z
LAST-MODIFIED:20241030T075529Z
UID:5462-1730646000-1730646000@passpartout.art
SUMMARY:Little Mart | Ci disegno dentro
DESCRIPTION:Questo laboratorio è ispirato alle opere dell’illustratrice americana Lisa Congdon\, caratterizzate da forme dai colori vivaci e attraversate da linee sottili. I bambini imparano a trasformare una macchia di colore in un pesce\, una foglia\, un fiore… disegnandovi sopra con inchiostro bianco o nero. Le sottili linee dentro la forma colorata definiscono la lisca di un pesce\, le nervature di una foglia o il pistillo e i petali di un fiore.
URL:https://passpartout.art/evento/little-mart-ci-disegno-dentro-2/
CATEGORIES:Musei
END:VEVENT
END:VCALENDAR