BEGIN:VCALENDAR
VERSION:2.0
PRODID:-//Passpartout - ECPv6.15.20//NONSGML v1.0//EN
CALSCALE:GREGORIAN
METHOD:PUBLISH
X-ORIGINAL-URL:https://passpartout.art
X-WR-CALDESC:Eventi per Passpartout
REFRESH-INTERVAL;VALUE=DURATION:PT1H
X-Robots-Tag:noindex
X-PUBLISHED-TTL:PT1H
BEGIN:VTIMEZONE
TZID:Europe/Rome
BEGIN:DAYLIGHT
TZOFFSETFROM:+0100
TZOFFSETTO:+0200
TZNAME:CEST
DTSTART:20230326T010000
END:DAYLIGHT
BEGIN:STANDARD
TZOFFSETFROM:+0200
TZOFFSETTO:+0100
TZNAME:CET
DTSTART:20231029T010000
END:STANDARD
BEGIN:DAYLIGHT
TZOFFSETFROM:+0100
TZOFFSETTO:+0200
TZNAME:CEST
DTSTART:20240331T010000
END:DAYLIGHT
BEGIN:STANDARD
TZOFFSETFROM:+0200
TZOFFSETTO:+0100
TZNAME:CET
DTSTART:20241027T010000
END:STANDARD
BEGIN:DAYLIGHT
TZOFFSETFROM:+0100
TZOFFSETTO:+0200
TZNAME:CEST
DTSTART:20250330T010000
END:DAYLIGHT
BEGIN:STANDARD
TZOFFSETFROM:+0200
TZOFFSETTO:+0100
TZNAME:CET
DTSTART:20251026T010000
END:STANDARD
END:VTIMEZONE
BEGIN:VEVENT
DTSTART;TZID=Europe/Rome:20241102T103000
DTEND;TZID=Europe/Rome:20241102T103000
DTSTAMP:20260422T020044
CREATED:20241030T075544Z
LAST-MODIFIED:20241030T075544Z
UID:5470-1730543400-1730543400@passpartout.art
SUMMARY:Caccia ai fantasmi nel Castello
DESCRIPTION:Con l’arrivo di Halloween il castello è infestato da simpatici fantasmini bianchi. Si sono nascosti dappertutto\, nei torrioni\, nei cunicoli\, in cortile e persino nel pozzo e in tanti altri luoghi del castello: aspettano solo di essere trovati. Chi ci aiuta a scovarli? Chi riuscirà a trovarli tutti? Superata questa prova da brividi i bambini saranno proclamati “cacciatori e cacciatrici di fantasmi del castello di Rovereto”.
URL:https://passpartout.art/evento/caccia-ai-fantasmi-nel-castello-2/
CATEGORIES:Musei
END:VEVENT
BEGIN:VEVENT
DTSTART;TZID=Europe/Rome:20241102T140000
DTEND;TZID=Europe/Rome:20241102T140000
DTSTAMP:20260422T020044
CREATED:20241030T075559Z
LAST-MODIFIED:20241030T075559Z
UID:5471-1730556000-1730556000@passpartout.art
SUMMARY:Caccia ai fantasmi nel Castello
DESCRIPTION:Con l’arrivo di Halloween il castello è infestato da simpatici fantasmini bianchi. Si sono nascosti dappertutto\, nei torrioni\, nei cunicoli\, in cortile e persino nel pozzo e in tanti altri luoghi del castello: aspettano solo di essere trovati. Chi ci aiuta a scovarli? Chi riuscirà a trovarli tutti? Superata questa prova da brividi i bambini saranno proclamati “cacciatori e cacciatrici di fantasmi del castello di Rovereto”.
URL:https://passpartout.art/evento/caccia-ai-fantasmi-nel-castello-3/
CATEGORIES:Musei
END:VEVENT
BEGIN:VEVENT
DTSTART;TZID=Europe/Rome:20241102T163000
DTEND;TZID=Europe/Rome:20241102T163000
DTSTAMP:20260422T020044
CREATED:20241030T075559Z
LAST-MODIFIED:20241030T075559Z
UID:5472-1730565000-1730565000@passpartout.art
SUMMARY:Caccia ai fantasmi nel Castello
DESCRIPTION:Con l’arrivo di Halloween il castello è infestato da simpatici fantasmini bianchi. Si sono nascosti dappertutto\, nei torrioni\, nei cunicoli\, in cortile e persino nel pozzo e in tanti altri luoghi del castello: aspettano solo di essere trovati. Chi ci aiuta a scovarli? Chi riuscirà a trovarli tutti? Superata questa prova da brividi i bambini saranno proclamati “cacciatori e cacciatrici di fantasmi del castello di Rovereto”.
URL:https://passpartout.art/evento/caccia-ai-fantasmi-nel-castello-4/
CATEGORIES:Musei
END:VEVENT
BEGIN:VEVENT
DTSTART;TZID=Europe/Rome:20241102T200000
DTEND;TZID=Europe/Rome:20241102T200000
DTSTAMP:20260422T020044
CREATED:20241030T080409Z
LAST-MODIFIED:20241030T080409Z
UID:5611-1730577600-1730577600@passpartout.art
SUMMARY:Art Exhibition
DESCRIPTION:Ogni sabato sera un laboratorio artistico: scopri la realtà attraverso gli occhi dei più grandi artisti e crea le tue opere d’arte con varie tecniche pittoriche!
URL:https://passpartout.art/evento/art-exhibition/
CATEGORIES:Musei
END:VEVENT
END:VCALENDAR