BEGIN:VCALENDAR
VERSION:2.0
PRODID:-//Passpartout - ECPv6.15.20//NONSGML v1.0//EN
CALSCALE:GREGORIAN
METHOD:PUBLISH
X-WR-CALNAME:Passpartout
X-ORIGINAL-URL:https://passpartout.art
X-WR-CALDESC:Eventi per Passpartout
REFRESH-INTERVAL;VALUE=DURATION:PT1H
X-Robots-Tag:noindex
X-PUBLISHED-TTL:PT1H
BEGIN:VTIMEZONE
TZID:Europe/Rome
BEGIN:DAYLIGHT
TZOFFSETFROM:+0100
TZOFFSETTO:+0200
TZNAME:CEST
DTSTART:20230326T010000
END:DAYLIGHT
BEGIN:STANDARD
TZOFFSETFROM:+0200
TZOFFSETTO:+0100
TZNAME:CET
DTSTART:20231029T010000
END:STANDARD
BEGIN:DAYLIGHT
TZOFFSETFROM:+0100
TZOFFSETTO:+0200
TZNAME:CEST
DTSTART:20240331T010000
END:DAYLIGHT
BEGIN:STANDARD
TZOFFSETFROM:+0200
TZOFFSETTO:+0100
TZNAME:CET
DTSTART:20241027T010000
END:STANDARD
BEGIN:DAYLIGHT
TZOFFSETFROM:+0100
TZOFFSETTO:+0200
TZNAME:CEST
DTSTART:20250330T010000
END:DAYLIGHT
BEGIN:STANDARD
TZOFFSETFROM:+0200
TZOFFSETTO:+0100
TZNAME:CET
DTSTART:20251026T010000
END:STANDARD
END:VTIMEZONE
BEGIN:VEVENT
DTSTART;TZID=Europe/Rome:20241013T150000
DTEND;TZID=Europe/Rome:20241013T150000
DTSTAMP:20260424T054824
CREATED:20241004T233936Z
LAST-MODIFIED:20241004T233936Z
UID:5306-1728831600-1728831600@passpartout.art
SUMMARY:Little Mart | Creature fantastiche
DESCRIPTION:Visitiamo le mostre Surrealismi. Da de Chirico a Gaetano Pesce e Il sogno di Luigi Serafini alla scoperta di creature fantastiche\, bizzarre\, sorprendenti. Le opere in mostra ispireranno curiose narrazioni e l’invenzione di figure frutto di metamorfosi e ibridazioni.
URL:https://passpartout.art/evento/little-mart-creature-fantastiche/
CATEGORIES:Musei
END:VEVENT
END:VCALENDAR