BEGIN:VCALENDAR
VERSION:2.0
PRODID:-//Passpartout - ECPv6.15.20//NONSGML v1.0//EN
CALSCALE:GREGORIAN
METHOD:PUBLISH
X-ORIGINAL-URL:https://passpartout.art
X-WR-CALDESC:Eventi per Passpartout
REFRESH-INTERVAL;VALUE=DURATION:PT1H
X-Robots-Tag:noindex
X-PUBLISHED-TTL:PT1H
BEGIN:VTIMEZONE
TZID:Europe/Rome
BEGIN:DAYLIGHT
TZOFFSETFROM:+0100
TZOFFSETTO:+0200
TZNAME:CEST
DTSTART:20230326T010000
END:DAYLIGHT
BEGIN:STANDARD
TZOFFSETFROM:+0200
TZOFFSETTO:+0100
TZNAME:CET
DTSTART:20231029T010000
END:STANDARD
BEGIN:DAYLIGHT
TZOFFSETFROM:+0100
TZOFFSETTO:+0200
TZNAME:CEST
DTSTART:20240331T010000
END:DAYLIGHT
BEGIN:STANDARD
TZOFFSETFROM:+0200
TZOFFSETTO:+0100
TZNAME:CET
DTSTART:20241027T010000
END:STANDARD
BEGIN:DAYLIGHT
TZOFFSETFROM:+0100
TZOFFSETTO:+0200
TZNAME:CEST
DTSTART:20250330T010000
END:DAYLIGHT
BEGIN:STANDARD
TZOFFSETFROM:+0200
TZOFFSETTO:+0100
TZNAME:CET
DTSTART:20251026T010000
END:STANDARD
END:VTIMEZONE
BEGIN:VEVENT
DTSTART;TZID=Europe/Rome:20240609T110000
DTEND;TZID=Europe/Rome:20240609T110000
DTSTAMP:20260424T223230
CREATED:20240530T224607Z
LAST-MODIFIED:20240530T224607Z
UID:5017-1717930800-1717930800@passpartout.art
SUMMARY:Little Mart | Fai fiorire la fontana del Mart
DESCRIPTION:In occasione di Palazzi aperti\, invitiamo bambine e bambini a creare delle ninfee colorate da far galleggiare nella fontana del polo museale.
URL:https://passpartout.art/evento/little-mart-fai-fiorire-la-fontana-del-mart/
CATEGORIES:Musei
END:VEVENT
BEGIN:VEVENT
DTSTART;TZID=Europe/Rome:20240609T150000
DTEND;TZID=Europe/Rome:20240609T150000
DTSTAMP:20260424T223230
CREATED:20240530T224607Z
LAST-MODIFIED:20240530T224607Z
UID:5018-1717945200-1717945200@passpartout.art
SUMMARY:Little Mart | Libro griglia
DESCRIPTION:Numeri\, lettere\, forme e colori trovano posto all’interno di griglie quadrate\, base di partenza per costruire le pagine di un libro ispirato ad alcuni progetti editoriali curati da artisti e conservati nell’Archivio del ‘900
URL:https://passpartout.art/evento/little-mart-libro-griglia/
CATEGORIES:Musei
END:VEVENT
END:VCALENDAR