BEGIN:VCALENDAR
VERSION:2.0
PRODID:-//Passpartout - ECPv6.15.20//NONSGML v1.0//EN
CALSCALE:GREGORIAN
METHOD:PUBLISH
X-ORIGINAL-URL:https://passpartout.art
X-WR-CALDESC:Eventi per Passpartout
REFRESH-INTERVAL;VALUE=DURATION:PT1H
X-Robots-Tag:noindex
X-PUBLISHED-TTL:PT1H
BEGIN:VTIMEZONE
TZID:Europe/Rome
BEGIN:DAYLIGHT
TZOFFSETFROM:+0100
TZOFFSETTO:+0200
TZNAME:CEST
DTSTART:20230326T010000
END:DAYLIGHT
BEGIN:STANDARD
TZOFFSETFROM:+0200
TZOFFSETTO:+0100
TZNAME:CET
DTSTART:20231029T010000
END:STANDARD
BEGIN:DAYLIGHT
TZOFFSETFROM:+0100
TZOFFSETTO:+0200
TZNAME:CEST
DTSTART:20240331T010000
END:DAYLIGHT
BEGIN:STANDARD
TZOFFSETFROM:+0200
TZOFFSETTO:+0100
TZNAME:CET
DTSTART:20241027T010000
END:STANDARD
BEGIN:DAYLIGHT
TZOFFSETFROM:+0100
TZOFFSETTO:+0200
TZNAME:CEST
DTSTART:20250330T010000
END:DAYLIGHT
BEGIN:STANDARD
TZOFFSETFROM:+0200
TZOFFSETTO:+0100
TZNAME:CET
DTSTART:20251026T010000
END:STANDARD
END:VTIMEZONE
BEGIN:VEVENT
DTSTART;TZID=Europe/Rome:20240211T100000
DTEND;TZID=Europe/Rome:20240211T100000
DTSTAMP:20260420T160038
CREATED:20240205T220136Z
LAST-MODIFIED:20240205T220136Z
UID:4175-1707645600-1707645600@passpartout.art
SUMMARY:W la domenica!\nLe giornate per le famiglie al Mart
DESCRIPTION:Una domenica completamente dedicata a bambini e famiglie con workshop. laboratori. spettacoli. e visite guidate. in più uno spettacolo finale!
URL:https://passpartout.art/evento/w-la-domenicale-giornate-per-le-famiglie-al-mart-6/
CATEGORIES:Musei
END:VEVENT
BEGIN:VEVENT
DTSTART;TZID=Europe/Rome:20240211T150000
DTEND;TZID=Europe/Rome:20240211T150000
DTSTAMP:20260420T160038
CREATED:20240205T220150Z
LAST-MODIFIED:20240205T220150Z
UID:4180-1707663600-1707663600@passpartout.art
SUMMARY:Little Mart | Ci vuole pazienza
DESCRIPTION:Ci vuole pazienza per osservare un’opera d’arte. Ci vuole pazienza per creare un dipinto. pennellata dopo pennellata. segno dopo segno. Questo nuovo progetto invita bambini e bambine a esplorare la mostra Global Painting. La Nuova pittura cinese e a immergersi con calma nelle sue molteplici suggestioni visive!
URL:https://passpartout.art/evento/little-mart-ci-vuole-pazienza/
CATEGORIES:Musei
END:VEVENT
END:VCALENDAR