BEGIN:VCALENDAR
VERSION:2.0
PRODID:-//Passpartout - ECPv6.15.20//NONSGML v1.0//EN
CALSCALE:GREGORIAN
METHOD:PUBLISH
X-WR-CALNAME:Passpartout
X-ORIGINAL-URL:https://passpartout.art
X-WR-CALDESC:Eventi per Passpartout
REFRESH-INTERVAL;VALUE=DURATION:PT1H
X-Robots-Tag:noindex
X-PUBLISHED-TTL:PT1H
BEGIN:VTIMEZONE
TZID:Europe/Rome
BEGIN:DAYLIGHT
TZOFFSETFROM:+0100
TZOFFSETTO:+0200
TZNAME:CEST
DTSTART:20230326T010000
END:DAYLIGHT
BEGIN:STANDARD
TZOFFSETFROM:+0200
TZOFFSETTO:+0100
TZNAME:CET
DTSTART:20231029T010000
END:STANDARD
BEGIN:DAYLIGHT
TZOFFSETFROM:+0100
TZOFFSETTO:+0200
TZNAME:CEST
DTSTART:20240331T010000
END:DAYLIGHT
BEGIN:STANDARD
TZOFFSETFROM:+0200
TZOFFSETTO:+0100
TZNAME:CET
DTSTART:20241027T010000
END:STANDARD
BEGIN:DAYLIGHT
TZOFFSETFROM:+0100
TZOFFSETTO:+0200
TZNAME:CEST
DTSTART:20250330T010000
END:DAYLIGHT
BEGIN:STANDARD
TZOFFSETFROM:+0200
TZOFFSETTO:+0100
TZNAME:CET
DTSTART:20251026T010000
END:STANDARD
END:VTIMEZONE
BEGIN:VEVENT
DTSTART;TZID=Europe/Rome:20240114T100000
DTEND;TZID=Europe/Rome:20240114T100000
DTSTAMP:20260422T005451
CREATED:20231229T190922Z
LAST-MODIFIED:20231229T190922Z
UID:4019-1705226400-1705226400@passpartout.art
SUMMARY:W la domenica!\nLe giornate per le famiglie al Mart
DESCRIPTION:Una domenica completamente dedicata a bambini e famiglie con workshop; laboratori; spettacoli; e visite guidate; in più uno spettacolo finale!
URL:https://passpartout.art/evento/w-la-domenicale-giornate-per-le-famiglie-al-mart-2/
CATEGORIES:Musei
END:VEVENT
BEGIN:VEVENT
DTSTART;TZID=Europe/Rome:20240114T150000
DTEND;TZID=Europe/Rome:20240114T150000
DTSTAMP:20260422T005451
CREATED:20231229T190935Z
LAST-MODIFIED:20231229T190935Z
UID:4025-1705244400-1705244400@passpartout.art
SUMMARY:Libri imbullonati
DESCRIPTION:Un laboratorio dedicato al celebre “Libro imbullonato” di Fortunato Depero: uno dei capisaldi della rivoluzione tipografica futurista. Dopo aver sfogliato una riproduzione fedele del libro; i partecipanti potranno creare a loro volta un libro d’artista rilegato con bulloni; sperimentando giochi di lettering e composizioni ispirate alle opere di Depero!
URL:https://passpartout.art/evento/libri-imbullonati/
CATEGORIES:Musei
END:VEVENT
END:VCALENDAR