BEGIN:VCALENDAR
VERSION:2.0
PRODID:-//Passpartout - ECPv6.15.20//NONSGML v1.0//EN
CALSCALE:GREGORIAN
METHOD:PUBLISH
X-ORIGINAL-URL:https://passpartout.art
X-WR-CALDESC:Eventi per Passpartout
REFRESH-INTERVAL;VALUE=DURATION:PT1H
X-Robots-Tag:noindex
X-PUBLISHED-TTL:PT1H
BEGIN:VTIMEZONE
TZID:Europe/Rome
BEGIN:DAYLIGHT
TZOFFSETFROM:+0100
TZOFFSETTO:+0200
TZNAME:CEST
DTSTART:20240331T010000
END:DAYLIGHT
BEGIN:STANDARD
TZOFFSETFROM:+0200
TZOFFSETTO:+0100
TZNAME:CET
DTSTART:20241027T010000
END:STANDARD
BEGIN:DAYLIGHT
TZOFFSETFROM:+0100
TZOFFSETTO:+0200
TZNAME:CEST
DTSTART:20250330T010000
END:DAYLIGHT
BEGIN:STANDARD
TZOFFSETFROM:+0200
TZOFFSETTO:+0100
TZNAME:CET
DTSTART:20251026T010000
END:STANDARD
BEGIN:DAYLIGHT
TZOFFSETFROM:+0100
TZOFFSETTO:+0200
TZNAME:CEST
DTSTART:20260329T010000
END:DAYLIGHT
BEGIN:STANDARD
TZOFFSETFROM:+0200
TZOFFSETTO:+0100
TZNAME:CET
DTSTART:20261025T010000
END:STANDARD
END:VTIMEZONE
BEGIN:VEVENT
DTSTART;TZID=Europe/Rome:20250103T083000
DTEND;TZID=Europe/Rome:20250103T083000
DTSTAMP:20260421T091405
CREATED:20241228T191904Z
LAST-MODIFIED:20241228T191904Z
UID:5968-1735893000-1735893000@passpartout.art
SUMMARY:Holiday on Mart Winter. Vacanze al Mart
DESCRIPTION:Durante le vacanze di Natale torna la colonia diurna del Mart dedicata ai bambini dai 5 ai 12 anni: un modo diverso di trascorrere le vacanze in città\, vivendo esperienze creative ed educative a tutto tondo\, sperimentando in modo divertente le tecniche e i linguaggi dell’arte\, esplorando il museo in modo giocoso.
URL:https://passpartout.art/evento/holiday-on-mart-winter-vacanze-al-mart-2/
CATEGORIES:Musei
END:VEVENT
BEGIN:VEVENT
DTSTART;TZID=Europe/Rome:20250103T150000
DTEND;TZID=Europe/Rome:20250103T150000
DTSTAMP:20260421T091405
CREATED:20241228T191920Z
LAST-MODIFIED:20241228T191920Z
UID:5974-1735916400-1735916400@passpartout.art
SUMMARY:Alla scoperta del museo e del castello
DESCRIPTION:Dietro ad ogni oggetto si nasconde una storia e al Museo della Guerra le collezioni hanno molto da raccontarci. Con un percorso guidato che ci porterà a spasso nella storia\, osserveremo oggetti\, immagini e documenti per imparare come vivevano i soldati e la popolazione civile al tempo della Prima guerra mondiale.
URL:https://passpartout.art/evento/alla-scoperta-del-museo-e-del-castello-8/
CATEGORIES:Musei
END:VEVENT
BEGIN:VEVENT
DTSTART;TZID=Europe/Rome:20250105T100000
DTEND;TZID=Europe/Rome:20250105T100000
DTSTAMP:20260421T091405
CREATED:20241228T191905Z
LAST-MODIFIED:20241228T191905Z
UID:5969-1736071200-1736071200@passpartout.art
SUMMARY:Mi sento Fortunato. Visita animata alla Casa d'Arte Futurista Depero
DESCRIPTION:Sta per iniziare un nuovo anno e noi siamo pronti a contarne i giorni con uno speciale calendario da tavola. Ogni mese ha la forma di una casa e tutte insieme formano un villaggio colorato che può essere ripiegato come un libro. Partendo da una striscia di carta a fisarmonica ogni bambino potrà personalizzare forme e colori delle case.
URL:https://passpartout.art/evento/mi-sento-fortunato-visita-animata-alla-casa-darte-futurista-depero-4/
CATEGORIES:Musei
END:VEVENT
BEGIN:VEVENT
DTSTART;TZID=Europe/Rome:20250105T100000
DTEND;TZID=Europe/Rome:20250105T100000
DTSTAMP:20260421T091405
CREATED:20241228T191905Z
LAST-MODIFIED:20241228T191905Z
UID:5970-1736071200-1736071200@passpartout.art
SUMMARY:Little Mart | Gli stracci della Befana
DESCRIPTION:Un laboratorio per aspettare la Befana con un pizzico di creatività. Il suo tradizionale abito stracciato viene rappresentato dai bambini con carta e stoffa di riciclo.
URL:https://passpartout.art/evento/little-mart-gli-stracci-della-befana-2/
CATEGORIES:Musei
END:VEVENT
BEGIN:VEVENT
DTSTART;TZID=Europe/Rome:20250105T150000
DTEND;TZID=Europe/Rome:20250105T150000
DTSTAMP:20260421T091405
CREATED:20241228T191918Z
LAST-MODIFIED:20241228T191918Z
UID:5971-1736089200-1736089200@passpartout.art
SUMMARY:Little Mart | Alfabeto a colori
DESCRIPTION:Quattro lettere dell’alfabeto che compongono una parola importante – pace – hanno per sfondo composizioni di pattern colorati creati con diverse tecniche (stencil\, timbri\, stampa pochoir…). Un laboratorio per sperimentare stratificazioni di forme e di colori e creare sorprendenti effetti decorativi.
URL:https://passpartout.art/evento/little-mart-alfabeto-a-colori/
CATEGORIES:Musei
END:VEVENT
BEGIN:VEVENT
DTSTART;TZID=Europe/Rome:20250111T150000
DTEND;TZID=Europe/Rome:20250111T150000
DTSTAMP:20260421T091405
CREATED:20241228T191920Z
LAST-MODIFIED:20241228T191920Z
UID:5975-1736607600-1736607600@passpartout.art
SUMMARY:Costruiamo insieme…un castello!
DESCRIPTION:Com’è fatto un castello? Chi abitava nel castello di Rovereto? Esplorando i torrioni\, i cunicoli\, le cannoniere e gli spazi più nascosti del castello cercheremo di scoprirlo insieme. Armati di carta e cartoncino\, matite e forbici ogni bambino e bambina costruirà il proprio castello di carta\, che potrà diventare il luogo in cui ambientare mille avventure.
URL:https://passpartout.art/evento/costruiamo-insiemeun-castello/
CATEGORIES:Musei
END:VEVENT
BEGIN:VEVENT
DTSTART;TZID=Europe/Rome:20250112T150000
DTEND;TZID=Europe/Rome:20250112T150000
DTSTAMP:20260421T091405
CREATED:20241228T191919Z
LAST-MODIFIED:20241228T191919Z
UID:5972-1736694000-1736694000@passpartout.art
SUMMARY:Little Mart | Sogni etruschi
DESCRIPTION:Un laboratorio per osservare\, inventare\, trasformare le molteplici suggestioni visive offerte dalla mostra Etruschi del Novecento. Un percorso tra volti di terracotta e fantastiche chimere\, per immergersi nel sogno etrusco.
URL:https://passpartout.art/evento/little-mart-sogni-etruschi/
CATEGORIES:Musei
END:VEVENT
BEGIN:VEVENT
DTSTART;TZID=Europe/Rome:20250118T150000
DTEND;TZID=Europe/Rome:20250118T150000
DTSTAMP:20260421T091405
CREATED:20241228T191933Z
LAST-MODIFIED:20241228T191933Z
UID:5976-1737212400-1737212400@passpartout.art
SUMMARY:Hai mai visto un drago?
DESCRIPTION:Nei castelli vivono solo principesse e principi… ne siete proprio sicuri? Scopriremo che tra torri e cunicoli si aggirano anche molti draghi\, tutti diversi tra loro! Un viaggio alla scoperta di tutto ma proprio tutto quello che c’è da sapere sui draghi e su altri animali reali e fantastici che hanno lasciato tracce del loro passaggio nel castello.
URL:https://passpartout.art/evento/hai-mai-visto-un-drago/
CATEGORIES:Musei
END:VEVENT
BEGIN:VEVENT
DTSTART;TZID=Europe/Rome:20250119T100000
DTEND;TZID=Europe/Rome:20250119T100000
DTSTAMP:20260421T091405
CREATED:20241228T191904Z
LAST-MODIFIED:20241228T191904Z
UID:5967-1737280800-1737280800@passpartout.art
SUMMARY:W la domenica!\nLe giornate per le famiglie al Mart
DESCRIPTION:E se andassimo al museo? Il 20 ottobre e 17 novembre 2024\, 19 gennaio e 16 febbraio 2025 il Mart dedica quattro domeniche alle famiglie con workshop\, laboratori\, spettacoli\, proposte accessibili\, visite guidate e animate alle mostre. Ma c’è di più: entrare al museo costa 10€ a famiglia (massimo 2 adulti over 26) grazie alla speciale tariffa ridotta. Ogni domenica si apre con un laboratorio nella Biblioteca Civica Tartarotti e si chiude con uno spettacolo a cura del Centro Servizi Culturali S. Chiara.
URL:https://passpartout.art/evento/w-la-domenicale-giornate-per-le-famiglie-al-mart-11/
CATEGORIES:Musei
END:VEVENT
BEGIN:VEVENT
DTSTART;TZID=Europe/Rome:20250125T000000
DTEND;TZID=Europe/Rome:20250125T000000
DTSTAMP:20260421T091405
CREATED:20241228T191934Z
LAST-MODIFIED:20241228T191934Z
UID:5977-1737763200-1737763200@passpartout.art
SUMMARY:Un'avventura al Castello
DESCRIPTION:Un custode\, un po’ smemorato e un po’ burlone\, ha dimenticato all’interno del castello alcuni oggetti importantissimi: dalle chiavi per aprire il cancello al secchio per l’acqua… Grazie a una mappa e a qualche indizio lasciato qua e là lungo il percorso esploreremo torrioni\, cunicoli e bugigattoli e scopriremo insieme spazi del castello solitamente chiusi ai visitatori.
URL:https://passpartout.art/evento/unavventura-al-castello-4/
CATEGORIES:Musei
END:VEVENT
BEGIN:VEVENT
DTSTART;TZID=Europe/Rome:20250126T150000
DTEND;TZID=Europe/Rome:20250126T150000
DTSTAMP:20260421T091405
CREATED:20241228T191919Z
LAST-MODIFIED:20241228T191919Z
UID:5973-1737903600-1737903600@passpartout.art
SUMMARY:Little Mart | In disordine
DESCRIPTION:Chi ha detto che non può esserci bellezza nel disordine? Nella mostra dedicata al X Premio Fondazione VAF\, i dipinti affollati di oggetti di Adriano Annino e le buffe facce scombinate di Michele Tajariol ispirano le sperimentazioni di questo laboratorio. Ci divertiremo a disegnare accumulazioni di figure e a fare dei collage ricombinando frammenti di immagini.
URL:https://passpartout.art/evento/little-mart-in-disordine/
CATEGORIES:Musei
END:VEVENT
END:VCALENDAR