BEGIN:VCALENDAR
VERSION:2.0
PRODID:-//Passpartout - ECPv6.15.20//NONSGML v1.0//EN
CALSCALE:GREGORIAN
METHOD:PUBLISH
X-WR-CALNAME:Passpartout
X-ORIGINAL-URL:https://passpartout.art
X-WR-CALDESC:Eventi per Passpartout
REFRESH-INTERVAL;VALUE=DURATION:PT1H
X-Robots-Tag:noindex
X-PUBLISHED-TTL:PT1H
BEGIN:VTIMEZONE
TZID:Europe/Rome
BEGIN:DAYLIGHT
TZOFFSETFROM:+0100
TZOFFSETTO:+0200
TZNAME:CEST
DTSTART:20230326T010000
END:DAYLIGHT
BEGIN:STANDARD
TZOFFSETFROM:+0200
TZOFFSETTO:+0100
TZNAME:CET
DTSTART:20231029T010000
END:STANDARD
BEGIN:DAYLIGHT
TZOFFSETFROM:+0100
TZOFFSETTO:+0200
TZNAME:CEST
DTSTART:20240331T010000
END:DAYLIGHT
BEGIN:STANDARD
TZOFFSETFROM:+0200
TZOFFSETTO:+0100
TZNAME:CET
DTSTART:20241027T010000
END:STANDARD
BEGIN:DAYLIGHT
TZOFFSETFROM:+0100
TZOFFSETTO:+0200
TZNAME:CEST
DTSTART:20250330T010000
END:DAYLIGHT
BEGIN:STANDARD
TZOFFSETFROM:+0200
TZOFFSETTO:+0100
TZNAME:CET
DTSTART:20251026T010000
END:STANDARD
END:VTIMEZONE
BEGIN:VEVENT
DTSTART;TZID=Europe/Rome:20240901T100000
DTEND;TZID=Europe/Rome:20240901T100000
DTSTAMP:20260422T142031
CREATED:20240828T211324Z
LAST-MODIFIED:20240828T211324Z
UID:5198-1725184800-1725184800@passpartout.art
SUMMARY:Little Mart | Collage giapponesi
DESCRIPTION:La tecnica del chigiri-e (collage di carte strappate) appartiene alla tradizione giapponese e in questo laboratorio viene proposta per stimolare la manualità e la creatività dei più piccoli. Le suggestioni ricavate dall’osservazione di alcuni dipinti di Albino Rossi\, alla quale la Galleria Civica dedica una personale\, vengono rielaborate in collage composti da frammenti di carte colorate.
URL:https://passpartout.art/evento/little-mart-collage-giapponesi-2/
CATEGORIES:Musei
END:VEVENT
BEGIN:VEVENT
DTSTART;TZID=Europe/Rome:20240901T110000
DTEND;TZID=Europe/Rome:20240901T110000
DTSTAMP:20260422T142031
CREATED:20240828T211325Z
LAST-MODIFIED:20240828T211325Z
UID:5199-1725188400-1725188400@passpartout.art
SUMMARY:Mi sento Fortunato
DESCRIPTION:Un percorso alla scoperta dell’arte e della vita di Fortunato Depero basato sull’uso di uno speciale mazzo di carte. I partecipanti potranno pescare la loro carta “Fortunata” che li indirizzerà a contenuti e sperimentazioni diverse\, dal viaggio dell’artista a New York alle marionette per il teatro\, dalla sua visione della città di Rovereto alla tecnica delle tarsie in panno e in buxus.
URL:https://passpartout.art/evento/mi-sento-fortunato/
CATEGORIES:Musei
END:VEVENT
BEGIN:VEVENT
DTSTART;TZID=Europe/Rome:20240901T150000
DTEND;TZID=Europe/Rome:20240901T150000
DTSTAMP:20260422T142031
CREATED:20240828T211325Z
LAST-MODIFIED:20240828T211325Z
UID:5200-1725202800-1725202800@passpartout.art
SUMMARY:Little Mart | Ruota!
DESCRIPTION:Sperimentiamo il dinamismo dell’arte futurista! L’attività inizia con la visita ad alcune opere futuriste esposte nella mostra Arte e fascismo. Ci concentreremo\, in particolare\, sul movimento rotatorio espresso dal “profilo continuo” dello scultore Renato Bertelli e su un dipinto di Renato Di Bosso dal caratteristico formato tondo.
URL:https://passpartout.art/evento/little-mart-ruota/
CATEGORIES:Musei
END:VEVENT
BEGIN:VEVENT
DTSTART;TZID=Europe/Rome:20240907T150000
DTEND;TZID=Europe/Rome:20240907T150000
DTSTAMP:20260422T142031
CREATED:20240828T211351Z
LAST-MODIFIED:20240828T211351Z
UID:5206-1725721200-1725721200@passpartout.art
SUMMARY:Visita animata al Castello e al Museo per piccoli esploratori
DESCRIPTION:Per conoscere da vicino il Castello di Rovereto e scoprire tutti i suoi segreti\, osserveremo insieme i dettagli e i particolari delle sue mura e delle torri\, avventurandoci nei cunicoli e guardando la città dall’alto\, sulle sue terrazze panoramiche. Nella nostra esplorazione\, viaggeremo attraverso i secoli\, scoprendo anche gli oggetti e le fotografie conservati nel Museo\, per imparare come vivevano le persone al tempo della Prima guerra mondiale.
URL:https://passpartout.art/evento/visita-animata-al-castello-e-al-museo-per-piccoli-esploratori-10/
CATEGORIES:Musei
END:VEVENT
BEGIN:VEVENT
DTSTART;TZID=Europe/Rome:20240908T150000
DTEND;TZID=Europe/Rome:20240908T150000
DTSTAMP:20260422T142031
CREATED:20240828T211336Z
LAST-MODIFIED:20240828T211336Z
UID:5201-1725807600-1725807600@passpartout.art
SUMMARY:Little Mart | Costellazioni d'artista
DESCRIPTION:Molti artisti hanno reinventato il cielo notturno nei loro dipinti e disegni\, dando vita a nuove\, fantastiche\, costellazioni. Dai cieli punteggiati di strane creature colorate dei quadri di Mirò alle reti di segni disegnate da Picasso e da altri artisti del nostro tempo\, sono numerosi gli esempi ai quali è possibile ispirarsi per creare un originale campionario di cieli stellati. I cartoncini con le diverse sperimentazioni vengono uniti con un fermacampione in modo da comporre un libretto dedicato alle mappe celesti.
URL:https://passpartout.art/evento/little-mart-costellazioni-dartista-2/
CATEGORIES:Musei
END:VEVENT
BEGIN:VEVENT
DTSTART;TZID=Europe/Rome:20240914T110000
DTEND;TZID=Europe/Rome:20240914T110000
DTSTAMP:20260422T142031
CREATED:20240828T211337Z
LAST-MODIFIED:20240828T211337Z
UID:5202-1726311600-1726311600@passpartout.art
SUMMARY:Strip Strap
DESCRIPTION:Il Mart partecipa al festival Rovereto & Comics con un laboratorio che invita a trasformare le pagine di vecchi fumetti in fantastiche creazioni a collage. Ci divertiremo a strappare le strisce disegnate e a incollarle in modo da comporre nuove narrazioni.
URL:https://passpartout.art/evento/strip-strap-2/
CATEGORIES:Musei
END:VEVENT
BEGIN:VEVENT
DTSTART;TZID=Europe/Rome:20240914T150000
DTEND;TZID=Europe/Rome:20240914T150000
DTSTAMP:20260422T142031
CREATED:20240828T211351Z
LAST-MODIFIED:20240828T211351Z
UID:5207-1726326000-1726326000@passpartout.art
SUMMARY:Super gang!!! | Rovereto&Comics
DESCRIPTION:Proveremo insieme a creare la nostra banda di eroi\, supereroi\, animali fantastici e personaggi incredibili\, giocando con le forme e le pagine di uno strano libretto che ci permetterà di inventare moltissime storie con protagonisti sempre diversi e unici!
URL:https://passpartout.art/evento/super-gang-roveretocomics/
CATEGORIES:Musei
END:VEVENT
BEGIN:VEVENT
DTSTART;TZID=Europe/Rome:20240915T150000
DTEND;TZID=Europe/Rome:20240915T150000
DTSTAMP:20260422T142031
CREATED:20240828T211337Z
LAST-MODIFIED:20240828T211337Z
UID:5203-1726412400-1726412400@passpartout.art
SUMMARY:Little Mart | Rosso e blu
DESCRIPTION:Due colori agli antipodi. Cosa succede quando li si mette in relazione?In questo laboratorio sperimenteremo diversi giochi compositivi con questa formidabile coppia di colori.
URL:https://passpartout.art/evento/little-mart-rosso-e-blu-2/
CATEGORIES:Musei
END:VEVENT
BEGIN:VEVENT
DTSTART;TZID=Europe/Rome:20240921T150000
DTEND;TZID=Europe/Rome:20240921T150000
DTSTAMP:20260422T142031
CREATED:20240828T211352Z
LAST-MODIFIED:20240828T211352Z
UID:5208-1726930800-1726930800@passpartout.art
SUMMARY:Gira e rigira. Muoversi intorno al castello e al suo borgo
DESCRIPTION:Il castello e il suo borgo custodiscono una storia molto affascinante tutta da scoprire e raccontare. Attraverso un percorso tra i cunicoli e le alte mura si scoprirà come si viveva all’interno di un castello e a com’era fatto il villaggio che attorniava le sue mura tanto tempo fa. Tutti i partecipanti saranno coinvolti nella realizzazione di una grande mappa per ricordare il vecchio castello e il suo borgo.
URL:https://passpartout.art/evento/gira-e-rigira-muoversi-intorno-al-castello-e-al-suo-borgo/
CATEGORIES:Musei
END:VEVENT
BEGIN:VEVENT
DTSTART;TZID=Europe/Rome:20240922T150000
DTEND;TZID=Europe/Rome:20240922T150000
DTSTAMP:20260422T142031
CREATED:20240828T211338Z
LAST-MODIFIED:20240828T211338Z
UID:5204-1727017200-1727017200@passpartout.art
SUMMARY:Little Mart | Il libro dei pattern
DESCRIPTION:Che cos’è un pattern? Quanti modi ci sono per decorare una superficie? In questo laboratorio sperimentiamo tecniche come il frottage\, la stampa con i timbri e lo stencil per creare le pagine di un libro da arricchire con stickers e piccoli disegni su fogli trasparenti\, da sovrapporre agli sfondi dipinti.
URL:https://passpartout.art/evento/little-mart-il-libro-dei-pattern/
CATEGORIES:Musei
END:VEVENT
BEGIN:VEVENT
DTSTART;TZID=Europe/Rome:20240928T150000
DTEND;TZID=Europe/Rome:20240928T150000
DTSTAMP:20260422T142031
CREATED:20240828T211352Z
LAST-MODIFIED:20240828T211352Z
UID:5209-1727535600-1727535600@passpartout.art
SUMMARY:Un’avventura al Castello
DESCRIPTION:Un custode\, un po’ smemorato e un po’ burlone\, ha dimenticato all’interno del castello alcuni oggetti importantissimi: dalle chiavi per aprire il cancello al secchio per l’acqua… Grazie a una mappa e a qualche indizio lasciato qua e là lungo il percorso esploreremo torrioni\, cunicoli e stanze segrete\, scoprendo insieme spazi del castello solitamente chiusi ai visitatori.
URL:https://passpartout.art/evento/unavventura-al-castello-2/
CATEGORIES:Musei
END:VEVENT
BEGIN:VEVENT
DTSTART;TZID=Europe/Rome:20240929T150000
DTEND;TZID=Europe/Rome:20240929T150000
DTSTAMP:20260422T142031
CREATED:20240828T211338Z
LAST-MODIFIED:20240828T211338Z
UID:5205-1727622000-1727622000@passpartout.art
SUMMARY:Little Mart | Nuovi alfabeti
DESCRIPTION:I caratteri tipografici disegnati dal grafico Leonardo Sonnoli ispirano questo laboratorio che invita i bambini a inventare “nuovi alfabeti”\, misteriosi e fantastici. Con le forme ritagliate nella gommina e nel cartoncino si creano timbri da usare per stampare delle originali cartoline.
URL:https://passpartout.art/evento/little-mart-nuovi-alfabeti/
CATEGORIES:Musei
END:VEVENT
END:VCALENDAR