BEGIN:VCALENDAR
VERSION:2.0
PRODID:-//Passpartout - ECPv6.15.20//NONSGML v1.0//EN
CALSCALE:GREGORIAN
METHOD:PUBLISH
X-ORIGINAL-URL:https://passpartout.art
X-WR-CALDESC:Eventi per Passpartout
REFRESH-INTERVAL;VALUE=DURATION:PT1H
X-Robots-Tag:noindex
X-PUBLISHED-TTL:PT1H
BEGIN:VTIMEZONE
TZID:Europe/Rome
BEGIN:DAYLIGHT
TZOFFSETFROM:+0100
TZOFFSETTO:+0200
TZNAME:CEST
DTSTART:20250330T010000
END:DAYLIGHT
BEGIN:STANDARD
TZOFFSETFROM:+0200
TZOFFSETTO:+0100
TZNAME:CET
DTSTART:20251026T010000
END:STANDARD
BEGIN:DAYLIGHT
TZOFFSETFROM:+0100
TZOFFSETTO:+0200
TZNAME:CEST
DTSTART:20260329T010000
END:DAYLIGHT
BEGIN:STANDARD
TZOFFSETFROM:+0200
TZOFFSETTO:+0100
TZNAME:CET
DTSTART:20261025T010000
END:STANDARD
BEGIN:DAYLIGHT
TZOFFSETFROM:+0100
TZOFFSETTO:+0200
TZNAME:CEST
DTSTART:20270328T010000
END:DAYLIGHT
BEGIN:STANDARD
TZOFFSETFROM:+0200
TZOFFSETTO:+0100
TZNAME:CET
DTSTART:20271031T010000
END:STANDARD
END:VTIMEZONE
BEGIN:VEVENT
DTSTART;TZID=Europe/Rome:20260118T110000
DTEND;TZID=Europe/Rome:20260118T110000
DTSTAMP:20260423T021519
CREATED:20260103T091931Z
LAST-MODIFIED:20260103T091931Z
UID:7778-1768734000-1768734000@passpartout.art
SUMMARY:Fuoco e fulmini
DESCRIPTION:La capacità di padroneggiare il fuoco ha sempre affascinato gli esseri umani fin dall’antichità e grazie alla scienza ne abbiamo appreso tutti i segreti. In questo laboratorio il fuoco sarà generato e domato grazie alla chimica\, per scoprire che il fuoco altro non è che una reazione esotermica e che tale reazione può prodursi anche grazie ai fulmini. Un laboratorio scoppiettante e ricco di sorprese.
URL:https://passpartout.art/evento/fuoco-e-fulmini-8/
CATEGORIES:Planetari musei scientifici osservatori
END:VEVENT
BEGIN:VEVENT
DTSTART;TZID=Europe/Rome:20260118T160000
DTEND;TZID=Europe/Rome:20260118T160000
DTSTAMP:20260423T021519
CREATED:20260103T092132Z
LAST-MODIFIED:20260103T092132Z
UID:7781-1768752000-1768752000@passpartout.art
SUMMARY:Cucine esplosive
DESCRIPTION:Vi siete mai chieste se la frutta può esplodere come dinamite? Un palloncino scoppiare con un agrume? Se la farina è come polvere da sparo? Una serie di esplosioni generate utilizzando solo ingredienti presenti in cucina. Un susseguirsi di esperimenti scientifici che lasceranno a bocca aperta dando un “sapore” del tutto nuovo alla scienza.
URL:https://passpartout.art/evento/cucine-esplosive-8/
CATEGORIES:Planetari musei scientifici osservatori
END:VEVENT
BEGIN:VEVENT
DTSTART;TZID=Europe/Rome:20260118T173000
DTEND;TZID=Europe/Rome:20260118T173000
DTSTAMP:20260423T021519
CREATED:20260103T091931Z
LAST-MODIFIED:20260103T091931Z
UID:7779-1768757400-1768757400@passpartout.art
SUMMARY:Fuoco e fulmini
DESCRIPTION:La capacità di padroneggiare il fuoco ha sempre affascinato gli esseri umani fin dall’antichità e grazie alla scienza ne abbiamo appreso tutti i segreti. In questo laboratorio il fuoco sarà generato e domato grazie alla chimica\, per scoprire che il fuoco altro non è che una reazione esotermica e che tale reazione può prodursi anche grazie ai fulmini. Un laboratorio scoppiettante e ricco di sorprese.
URL:https://passpartout.art/evento/fuoco-e-fulmini-9/
CATEGORIES:Planetari musei scientifici osservatori
END:VEVENT
END:VCALENDAR