BEGIN:VCALENDAR
VERSION:2.0
PRODID:-//Passpartout - ECPv6.15.20//NONSGML v1.0//EN
CALSCALE:GREGORIAN
METHOD:PUBLISH
X-WR-CALNAME:Passpartout
X-ORIGINAL-URL:https://passpartout.art
X-WR-CALDESC:Eventi per Passpartout
REFRESH-INTERVAL;VALUE=DURATION:PT1H
X-Robots-Tag:noindex
X-PUBLISHED-TTL:PT1H
BEGIN:VTIMEZONE
TZID:Europe/Rome
BEGIN:DAYLIGHT
TZOFFSETFROM:+0100
TZOFFSETTO:+0200
TZNAME:CEST
DTSTART:20250330T010000
END:DAYLIGHT
BEGIN:STANDARD
TZOFFSETFROM:+0200
TZOFFSETTO:+0100
TZNAME:CET
DTSTART:20251026T010000
END:STANDARD
BEGIN:DAYLIGHT
TZOFFSETFROM:+0100
TZOFFSETTO:+0200
TZNAME:CEST
DTSTART:20260329T010000
END:DAYLIGHT
BEGIN:STANDARD
TZOFFSETFROM:+0200
TZOFFSETTO:+0100
TZNAME:CET
DTSTART:20261025T010000
END:STANDARD
BEGIN:DAYLIGHT
TZOFFSETFROM:+0100
TZOFFSETTO:+0200
TZNAME:CEST
DTSTART:20270328T010000
END:DAYLIGHT
BEGIN:STANDARD
TZOFFSETFROM:+0200
TZOFFSETTO:+0100
TZNAME:CET
DTSTART:20271031T010000
END:STANDARD
END:VTIMEZONE
BEGIN:VEVENT
DTSTART;TZID=Europe/Rome:20260106T110000
DTEND;TZID=Europe/Rome:20260106T110000
DTSTAMP:20260419T012252
CREATED:20260103T091529Z
LAST-MODIFIED:20260103T091529Z
UID:7768-1767697200-1767697200@passpartout.art
SUMMARY:The elf on the lab
DESCRIPTION:Dopo aver finito il lavoro a casa di tantissimi bambini\, gli elfi sono passati dal nostro museo e stanno combinando tantissimi pasticci. Tra robot mal programmati e esperimenti da sistemare i ragazzi dovranno provare a rimettere in ordine il laboratorio!
URL:https://passpartout.art/evento/the-elf-on-the-lab-8/
CATEGORIES:Planetari musei scientifici osservatori
END:VEVENT
BEGIN:VEVENT
DTSTART;TZID=Europe/Rome:20260106T173000
DTEND;TZID=Europe/Rome:20260106T173000
DTSTAMP:20260419T012252
CREATED:20260103T091530Z
LAST-MODIFIED:20260103T091530Z
UID:7769-1767720600-1767720600@passpartout.art
SUMMARY:The elf on the lab
DESCRIPTION:Dopo aver finito il lavoro a casa di tantissimi bambini\, gli elfi sono passati dal nostro museo e stanno combinando tantissimi pasticci. Tra robot mal programmati e esperimenti da sistemare i ragazzi dovranno provare a rimettere in ordine il laboratorio!
URL:https://passpartout.art/evento/the-elf-on-the-lab-9/
CATEGORIES:Planetari musei scientifici osservatori
END:VEVENT
END:VCALENDAR