BEGIN:VCALENDAR
VERSION:2.0
PRODID:-//Passpartout - ECPv6.15.20//NONSGML v1.0//EN
CALSCALE:GREGORIAN
METHOD:PUBLISH
X-ORIGINAL-URL:https://passpartout.art
X-WR-CALDESC:Eventi per Passpartout
REFRESH-INTERVAL;VALUE=DURATION:PT1H
X-Robots-Tag:noindex
X-PUBLISHED-TTL:PT1H
BEGIN:VTIMEZONE
TZID:Europe/Rome
BEGIN:DAYLIGHT
TZOFFSETFROM:+0100
TZOFFSETTO:+0200
TZNAME:CEST
DTSTART:20240331T010000
END:DAYLIGHT
BEGIN:STANDARD
TZOFFSETFROM:+0200
TZOFFSETTO:+0100
TZNAME:CET
DTSTART:20241027T010000
END:STANDARD
BEGIN:DAYLIGHT
TZOFFSETFROM:+0100
TZOFFSETTO:+0200
TZNAME:CEST
DTSTART:20250330T010000
END:DAYLIGHT
BEGIN:STANDARD
TZOFFSETFROM:+0200
TZOFFSETTO:+0100
TZNAME:CET
DTSTART:20251026T010000
END:STANDARD
BEGIN:DAYLIGHT
TZOFFSETFROM:+0100
TZOFFSETTO:+0200
TZNAME:CEST
DTSTART:20260329T010000
END:DAYLIGHT
BEGIN:STANDARD
TZOFFSETFROM:+0200
TZOFFSETTO:+0100
TZNAME:CET
DTSTART:20261025T010000
END:STANDARD
END:VTIMEZONE
BEGIN:VEVENT
DTSTART;TZID=Europe/Rome:20251207T110000
DTEND;TZID=Europe/Rome:20251207T110000
DTSTAMP:20260423T003324
CREATED:20251205T165250Z
LAST-MODIFIED:20251205T165250Z
UID:7580-1765105200-1765105200@passpartout.art
SUMMARY:REGALI IN PROVETTA
DESCRIPTION:Sempre di corsa per fare i regali di Natale? Nessun problema\, al MU-CH abbiamo pensato ad un laboratorio apposta per te! Vieni a trovarci e scopri come la scienza può trasformarsi nella tua alleata per la creazione di regali personalizzati\, biglietti unici e tutto ciò di cui hai bisogno per rendere le tue feste sotto l’albero davvero indimenticabili.
URL:https://passpartout.art/evento/regali-in-provetta-3/
CATEGORIES:Planetari musei scientifici osservatori
END:VEVENT
BEGIN:VEVENT
DTSTART;TZID=Europe/Rome:20251207T160000
DTEND;TZID=Europe/Rome:20251207T160000
DTSTAMP:20260423T003324
CREATED:20251205T165309Z
LAST-MODIFIED:20251205T165309Z
UID:7587-1765123200-1765123200@passpartout.art
SUMMARY:REACTION SHOW
DESCRIPTION:Un incalzante susseguirsi di reazioni chimiche\, dinamico e divertente\, passando da cambi di colore a reazioni di ossidazione. Un percorso sulla conoscenza di reazioni chimiche comuni ma anche complesse\, realizzate in maniera scientificamente rigorosa ma scenograficamente spettacolare.
URL:https://passpartout.art/evento/reaction-show-10/
CATEGORIES:Planetari musei scientifici osservatori
END:VEVENT
BEGIN:VEVENT
DTSTART;TZID=Europe/Rome:20251207T173000
DTEND;TZID=Europe/Rome:20251207T173000
DTSTAMP:20260423T003324
CREATED:20251205T165250Z
LAST-MODIFIED:20251205T165250Z
UID:7581-1765128600-1765128600@passpartout.art
SUMMARY:REGALI IN PROVETTA
DESCRIPTION:Sempre di corsa per fare i regali di Natale? Nessun problema\, al MU-CH abbiamo pensato ad un laboratorio apposta per te! Vieni a trovarci e scopri come la scienza può trasformarsi nella tua alleata per la creazione di regali personalizzati\, biglietti unici e tutto ciò di cui hai bisogno per rendere le tue feste sotto l’albero davvero indimenticabili.
URL:https://passpartout.art/evento/regali-in-provetta-4/
CATEGORIES:Planetari musei scientifici osservatori
END:VEVENT
END:VCALENDAR