BEGIN:VCALENDAR
VERSION:2.0
PRODID:-//Passpartout - ECPv6.15.20//NONSGML v1.0//EN
CALSCALE:GREGORIAN
METHOD:PUBLISH
X-ORIGINAL-URL:https://passpartout.art
X-WR-CALDESC:Eventi per Passpartout
REFRESH-INTERVAL;VALUE=DURATION:PT1H
X-Robots-Tag:noindex
X-PUBLISHED-TTL:PT1H
BEGIN:VTIMEZONE
TZID:Europe/Rome
BEGIN:DAYLIGHT
TZOFFSETFROM:+0100
TZOFFSETTO:+0200
TZNAME:CEST
DTSTART:20240331T010000
END:DAYLIGHT
BEGIN:STANDARD
TZOFFSETFROM:+0200
TZOFFSETTO:+0100
TZNAME:CET
DTSTART:20241027T010000
END:STANDARD
BEGIN:DAYLIGHT
TZOFFSETFROM:+0100
TZOFFSETTO:+0200
TZNAME:CEST
DTSTART:20250330T010000
END:DAYLIGHT
BEGIN:STANDARD
TZOFFSETFROM:+0200
TZOFFSETTO:+0100
TZNAME:CET
DTSTART:20251026T010000
END:STANDARD
BEGIN:DAYLIGHT
TZOFFSETFROM:+0100
TZOFFSETTO:+0200
TZNAME:CEST
DTSTART:20260329T010000
END:DAYLIGHT
BEGIN:STANDARD
TZOFFSETFROM:+0200
TZOFFSETTO:+0100
TZNAME:CET
DTSTART:20261025T010000
END:STANDARD
END:VTIMEZONE
BEGIN:VEVENT
DTSTART;TZID=Europe/Rome:20251122T110000
DTEND;TZID=Europe/Rome:20251122T110000
DTSTAMP:20260422T173353
CREATED:20251030T133812Z
LAST-MODIFIED:20251030T133812Z
UID:7434-1763809200-1763809200@passpartout.art
SUMMARY:PICCOLO CHIMICO/PICCOLA CHIMICA
DESCRIPTION:In tanti ci hanno giocato da piccoli\, è uno dei giochi più famosi al mondo e ha più di 100 anni. In questo laboratorio riceverete un kit per chimici/e in erba con cui sperimentare una serie di reazioni\, da quelle esplosive a quelle che fanno cambiare colore ai liquidi. Un concentrato di esperienze per conoscere questa affascinante materia: la chimica!
URL:https://passpartout.art/evento/piccolo-chimico-piccola-chimica-3/
CATEGORIES:Planetari musei scientifici osservatori
END:VEVENT
BEGIN:VEVENT
DTSTART;TZID=Europe/Rome:20251122T160000
DTEND;TZID=Europe/Rome:20251122T160000
DTSTAMP:20260422T173353
CREATED:20251030T133828Z
LAST-MODIFIED:20251030T133828Z
UID:7442-1763827200-1763827200@passpartout.art
SUMMARY:CHIMICI IGNOTI
DESCRIPTION:Un gameshow coinvolgente e adrenalinico\, in cui i concorrenti dovranno abbinare gli elementi della tavola periodica alle loro caratteristiche più curiose. Tra esperimenti\, suggerimenti e strategie sveleremo le identità nascoste degli atomi!
URL:https://passpartout.art/evento/chimici-ignoti-6/
CATEGORIES:Planetari musei scientifici osservatori
END:VEVENT
BEGIN:VEVENT
DTSTART;TZID=Europe/Rome:20251122T173000
DTEND;TZID=Europe/Rome:20251122T173000
DTSTAMP:20260422T173353
CREATED:20251030T133813Z
LAST-MODIFIED:20251030T133813Z
UID:7435-1763832600-1763832600@passpartout.art
SUMMARY:PICCOLO CHIMICO/PICCOLA CHIMICA
DESCRIPTION:In tanti ci hanno giocato da piccoli\, è uno dei giochi più famosi al mondo e ha più di 100 anni. In questo laboratorio riceverete un kit per chimici/e in erba con cui sperimentare una serie di reazioni\, da quelle esplosive a quelle che fanno cambiare colore ai liquidi. Un concentrato di esperienze per conoscere questa affascinante materia: la chimica!
URL:https://passpartout.art/evento/piccolo-chimico-piccola-chimica-4/
CATEGORIES:Planetari musei scientifici osservatori
END:VEVENT
END:VCALENDAR