BEGIN:VCALENDAR
VERSION:2.0
PRODID:-//Passpartout - ECPv6.15.20//NONSGML v1.0//EN
CALSCALE:GREGORIAN
METHOD:PUBLISH
X-ORIGINAL-URL:https://passpartout.art
X-WR-CALDESC:Eventi per Passpartout
REFRESH-INTERVAL;VALUE=DURATION:PT1H
X-Robots-Tag:noindex
X-PUBLISHED-TTL:PT1H
BEGIN:VTIMEZONE
TZID:Europe/Rome
BEGIN:DAYLIGHT
TZOFFSETFROM:+0100
TZOFFSETTO:+0200
TZNAME:CEST
DTSTART:20240331T010000
END:DAYLIGHT
BEGIN:STANDARD
TZOFFSETFROM:+0200
TZOFFSETTO:+0100
TZNAME:CET
DTSTART:20241027T010000
END:STANDARD
BEGIN:DAYLIGHT
TZOFFSETFROM:+0100
TZOFFSETTO:+0200
TZNAME:CEST
DTSTART:20250330T010000
END:DAYLIGHT
BEGIN:STANDARD
TZOFFSETFROM:+0200
TZOFFSETTO:+0100
TZNAME:CET
DTSTART:20251026T010000
END:STANDARD
BEGIN:DAYLIGHT
TZOFFSETFROM:+0100
TZOFFSETTO:+0200
TZNAME:CEST
DTSTART:20260329T010000
END:DAYLIGHT
BEGIN:STANDARD
TZOFFSETFROM:+0200
TZOFFSETTO:+0100
TZNAME:CET
DTSTART:20261025T010000
END:STANDARD
END:VTIMEZONE
BEGIN:VEVENT
DTSTART;TZID=Europe/Rome:20251109T110000
DTEND;TZID=Europe/Rome:20251109T110000
DTSTAMP:20260423T003254
CREATED:20251030T133858Z
LAST-MODIFIED:20251030T133858Z
UID:7452-1762686000-1762686000@passpartout.art
SUMMARY:FUOCO E FULMINI
DESCRIPTION:La capacità di padroneggiare il fuoco ha sempre affascinato gli esseri umani fin dall’antichità e grazie alla scienza ne abbiamo appreso tutti i segreti. In questo laboratorio il fuoco sarà generato e domato grazie alla chimica\, per scoprire che il fuoco altro non è che una reazione esotermica e che tale reazione può prodursi anche grazie ai fulmini. Un laboratorio scoppiettante e ricco di sorprese.
URL:https://passpartout.art/evento/fuoco-e-fulmini-4/
CATEGORIES:Planetari musei scientifici osservatori
END:VEVENT
BEGIN:VEVENT
DTSTART;TZID=Europe/Rome:20251109T160000
DTEND;TZID=Europe/Rome:20251109T160000
DTSTAMP:20260423T003254
CREATED:20251030T133813Z
LAST-MODIFIED:20251030T133813Z
UID:7437-1762704000-1762704000@passpartout.art
SUMMARY:CUCINE ESPLOSIVE
DESCRIPTION:Vi siete mai chieste se la frutta può esplodere come dinamite? Un palloncino scoppiare con un agrume? Se la farina è come polvere da sparo? Una serie di esplosioni generate utilizzando solo ingredienti presenti in cucina. Un susseguirsi di esperimenti scientifici che lasceranno a bocca aperta dando un “sapore” del tutto nuovo alla scienza.
URL:https://passpartout.art/evento/cucine-esplosive-4/
CATEGORIES:Planetari musei scientifici osservatori
END:VEVENT
BEGIN:VEVENT
DTSTART;TZID=Europe/Rome:20251109T173000
DTEND;TZID=Europe/Rome:20251109T173000
DTSTAMP:20260423T003254
CREATED:20251030T133912Z
LAST-MODIFIED:20251030T133912Z
UID:7453-1762709400-1762709400@passpartout.art
SUMMARY:FUOCO E FULMINI
DESCRIPTION:La capacità di padroneggiare il fuoco ha sempre affascinato gli esseri umani fin dall’antichità e grazie alla scienza ne abbiamo appreso tutti i segreti. In questo laboratorio il fuoco sarà generato e domato grazie alla chimica\, per scoprire che il fuoco altro non è che una reazione esotermica e che tale reazione può prodursi anche grazie ai fulmini. Un laboratorio scoppiettante e ricco di sorprese.
URL:https://passpartout.art/evento/fuoco-e-fulmini-5/
CATEGORIES:Planetari musei scientifici osservatori
END:VEVENT
END:VCALENDAR