BEGIN:VCALENDAR
VERSION:2.0
PRODID:-//Passpartout - ECPv6.15.20//NONSGML v1.0//EN
CALSCALE:GREGORIAN
METHOD:PUBLISH
X-ORIGINAL-URL:https://passpartout.art
X-WR-CALDESC:Eventi per Passpartout
REFRESH-INTERVAL;VALUE=DURATION:PT1H
X-Robots-Tag:noindex
X-PUBLISHED-TTL:PT1H
BEGIN:VTIMEZONE
TZID:Europe/Rome
BEGIN:DAYLIGHT
TZOFFSETFROM:+0100
TZOFFSETTO:+0200
TZNAME:CEST
DTSTART:20250330T010000
END:DAYLIGHT
BEGIN:STANDARD
TZOFFSETFROM:+0200
TZOFFSETTO:+0100
TZNAME:CET
DTSTART:20251026T010000
END:STANDARD
BEGIN:DAYLIGHT
TZOFFSETFROM:+0100
TZOFFSETTO:+0200
TZNAME:CEST
DTSTART:20260329T010000
END:DAYLIGHT
BEGIN:STANDARD
TZOFFSETFROM:+0200
TZOFFSETTO:+0100
TZNAME:CET
DTSTART:20261025T010000
END:STANDARD
BEGIN:DAYLIGHT
TZOFFSETFROM:+0100
TZOFFSETTO:+0200
TZNAME:CEST
DTSTART:20270328T010000
END:DAYLIGHT
BEGIN:STANDARD
TZOFFSETFROM:+0200
TZOFFSETTO:+0100
TZNAME:CET
DTSTART:20271031T010000
END:STANDARD
END:VTIMEZONE
BEGIN:VEVENT
DTSTART;TZID=Europe/Rome:20260425T100000
DTEND;TZID=Europe/Rome:20260425T100000
DTSTAMP:20260419T181921
CREATED:20260331T203421Z
LAST-MODIFIED:20260331T203421Z
UID:8307-1777111200-1777111200@passpartout.art
SUMMARY:Laboratori e show scientifici al MU-CH
DESCRIPTION:Il Museo della Chimica propone ogni sabato e domenica laboratori nel C-Lab e show scientifici.
URL:https://passpartout.art/evento/laboratori-e-show-scientifici-al-mu-ch-7/
CATEGORIES:Musei
END:VEVENT
BEGIN:VEVENT
DTSTART;TZID=Europe/Rome:20260426T100000
DTEND;TZID=Europe/Rome:20260426T100000
DTSTAMP:20260419T181921
CREATED:20260331T203421Z
LAST-MODIFIED:20260331T203421Z
UID:8308-1777197600-1777197600@passpartout.art
SUMMARY:Laboratori e show scientifici al MU-CH
DESCRIPTION:Il Museo della Chimica propone ogni sabato e domenica laboratori nel C-Lab e show scientifici.
URL:https://passpartout.art/evento/laboratori-e-show-scientifici-al-mu-ch-8/
CATEGORIES:Musei
END:VEVENT
BEGIN:VEVENT
DTSTART;TZID=Europe/Rome:20261005T113000
DTEND;TZID=Europe/Rome:20261005T113000
DTSTAMP:20260419T181921
CREATED:20251003T155021Z
LAST-MODIFIED:20251003T155021Z
UID:7352-1791199800-1791199800@passpartout.art
SUMMARY:CACCIA AL TESORO I SEGRETI DI NEWTON
DESCRIPTION:Un’attività ludico-didattica che trasforma la chimica in un’avventura interattiva per bambini. Attraverso la scoperta di messaggi invisibili nascosti su fogli di carta e l’uso di reagenti naturali\, i partecipanti sperimenteranno reazioni chimiche in maniera pratica e divertente. Divisi in squadre\, i bambini collaboreranno per risolvere enigmi scientifici\, stimolando curiosità e lavoro di gruppo. L’esperienza si concluderà con una riflessione sui concetti appresi e una premiazione per la squadra vincitrice\, unendo divertimento\, scienza e scoperta in un gioco coinvolgente e intelligente.
URL:https://passpartout.art/evento/caccia-al-tesoro-i-segreti-di-newton/
CATEGORIES:Planetari musei scientifici osservatori
END:VEVENT
BEGIN:VEVENT
DTSTART;TZID=Europe/Rome:20261005T160000
DTEND;TZID=Europe/Rome:20261005T160000
DTSTAMP:20260419T181921
CREATED:20251003T155021Z
LAST-MODIFIED:20251003T155021Z
UID:7353-1791216000-1791216000@passpartout.art
SUMMARY:CACCIA AL TESORO I SEGRETI DI NEWTON
DESCRIPTION:Un’attività ludico-didattica che trasforma la chimica in un’avventura interattiva per bambini. Attraverso la scoperta di messaggi invisibili nascosti su fogli di carta e l’uso di reagenti naturali\, i partecipanti sperimenteranno reazioni chimiche in maniera pratica e divertente. Divisi in squadre\, i bambini collaboreranno per risolvere enigmi scientifici\, stimolando curiosità e lavoro di gruppo. L’esperienza si concluderà con una riflessione sui concetti appresi e una premiazione per la squadra vincitrice\, unendo divertimento\, scienza e scoperta in un gioco coinvolgente e intelligente.
URL:https://passpartout.art/evento/caccia-al-tesoro-i-segreti-di-newton-2/
CATEGORIES:Planetari musei scientifici osservatori
END:VEVENT
END:VCALENDAR