BEGIN:VCALENDAR
VERSION:2.0
PRODID:-//Passpartout - ECPv6.15.20//NONSGML v1.0//EN
CALSCALE:GREGORIAN
METHOD:PUBLISH
X-WR-CALNAME:Passpartout
X-ORIGINAL-URL:https://passpartout.art
X-WR-CALDESC:Eventi per Passpartout
REFRESH-INTERVAL;VALUE=DURATION:PT1H
X-Robots-Tag:noindex
X-PUBLISHED-TTL:PT1H
BEGIN:VTIMEZONE
TZID:Europe/Rome
BEGIN:DAYLIGHT
TZOFFSETFROM:+0100
TZOFFSETTO:+0200
TZNAME:CEST
DTSTART:20250330T010000
END:DAYLIGHT
BEGIN:STANDARD
TZOFFSETFROM:+0200
TZOFFSETTO:+0100
TZNAME:CET
DTSTART:20251026T010000
END:STANDARD
BEGIN:DAYLIGHT
TZOFFSETFROM:+0100
TZOFFSETTO:+0200
TZNAME:CEST
DTSTART:20260329T010000
END:DAYLIGHT
BEGIN:STANDARD
TZOFFSETFROM:+0200
TZOFFSETTO:+0100
TZNAME:CET
DTSTART:20261025T010000
END:STANDARD
BEGIN:DAYLIGHT
TZOFFSETFROM:+0100
TZOFFSETTO:+0200
TZNAME:CEST
DTSTART:20270328T010000
END:DAYLIGHT
BEGIN:STANDARD
TZOFFSETFROM:+0200
TZOFFSETTO:+0100
TZNAME:CET
DTSTART:20271031T010000
END:STANDARD
END:VTIMEZONE
BEGIN:VEVENT
DTSTART;TZID=Europe/Rome:20260419T100000
DTEND;TZID=Europe/Rome:20260419T100000
DTSTAMP:20260419T195529
CREATED:20260331T203421Z
LAST-MODIFIED:20260331T203421Z
UID:8306-1776592800-1776592800@passpartout.art
SUMMARY:Laboratori e show scientifici al MU-CH
DESCRIPTION:Il Museo della Chimica propone ogni sabato e domenica laboratori nel C-Lab e show scientifici.
URL:https://passpartout.art/evento/laboratori-e-show-scientifici-al-mu-ch-6/
CATEGORIES:Musei
END:VEVENT
BEGIN:VEVENT
DTSTART;TZID=Europe/Rome:20260418T100000
DTEND;TZID=Europe/Rome:20260418T100000
DTSTAMP:20260419T195529
CREATED:20260331T203407Z
LAST-MODIFIED:20260331T203407Z
UID:8305-1776506400-1776506400@passpartout.art
SUMMARY:Laboratori e show scientifici al MU-CH
DESCRIPTION:Il Museo della Chimica propone ogni sabato e domenica laboratori nel C-Lab e show scientifici.
URL:https://passpartout.art/evento/laboratori-e-show-scientifici-al-mu-ch-5/
CATEGORIES:Musei
END:VEVENT
BEGIN:VEVENT
DTSTART;TZID=Europe/Rome:20260412T100000
DTEND;TZID=Europe/Rome:20260412T100000
DTSTAMP:20260419T195529
CREATED:20260331T203406Z
LAST-MODIFIED:20260331T203406Z
UID:8304-1775988000-1775988000@passpartout.art
SUMMARY:Laboratori e show scientifici al MU-CH
DESCRIPTION:Il Museo della Chimica propone ogni sabato e domenica laboratori nel C-Lab e show scientifici.
URL:https://passpartout.art/evento/laboratori-e-show-scientifici-al-mu-ch-4/
CATEGORIES:Musei
END:VEVENT
BEGIN:VEVENT
DTSTART;TZID=Europe/Rome:20260411T100000
DTEND;TZID=Europe/Rome:20260411T100000
DTSTAMP:20260419T195529
CREATED:20260331T203406Z
LAST-MODIFIED:20260331T203406Z
UID:8303-1775901600-1775901600@passpartout.art
SUMMARY:Laboratori e show scientifici al MU-CH
DESCRIPTION:Il Museo della Chimica propone ogni sabato e domenica laboratori nel C-Lab e show scientifici.
URL:https://passpartout.art/evento/laboratori-e-show-scientifici-al-mu-ch-3/
CATEGORIES:Musei
END:VEVENT
BEGIN:VEVENT
DTSTART;TZID=Europe/Rome:20260405T100000
DTEND;TZID=Europe/Rome:20260405T100000
DTSTAMP:20260419T195529
CREATED:20260331T203406Z
LAST-MODIFIED:20260331T203406Z
UID:8302-1775383200-1775383200@passpartout.art
SUMMARY:Laboratori e show scientifici al MU-CH
DESCRIPTION:Il Museo della Chimica propone ogni sabato e domenica laboratori nel C-Lab e show scientifici.
URL:https://passpartout.art/evento/laboratori-e-show-scientifici-al-mu-ch-2/
CATEGORIES:Musei
END:VEVENT
BEGIN:VEVENT
DTSTART;TZID=Europe/Rome:20260404T100000
DTEND;TZID=Europe/Rome:20260404T100000
DTSTAMP:20260419T195529
CREATED:20260331T203405Z
LAST-MODIFIED:20260331T203405Z
UID:8301-1775296800-1775296800@passpartout.art
SUMMARY:Laboratori e show scientifici al MU-CH
DESCRIPTION:Il Museo della Chimica propone ogni sabato e domenica laboratori nel C-Lab e show scientifici. Esperimenti interattivi per bambini e famiglie. C-Lab: 9€ a persona; Show scientifico: 5€.
URL:https://passpartout.art/evento/laboratori-e-show-scientifici-al-mu-ch/
CATEGORIES:Musei
END:VEVENT
BEGIN:VEVENT
DTSTART;TZID=Europe/Rome:20260329T163000
DTEND;TZID=Europe/Rome:20260329T163000
DTSTAMP:20260419T195529
CREATED:20260227T221031Z
LAST-MODIFIED:20260227T221031Z
UID:8221-1774801800-1774801800@passpartout.art
SUMMARY:EGGCELLENT!
DESCRIPTION:Guscio\, tuorlo\, albume… queste sono le prime parole che ci vengono in mente pensando a un uovo. Attraverso esperimenti e attività interattive proveremo a scoprire le caratteristiche chimico/fisiche di questi spettacolari adattamenti evolutivi. Ma poi… sono solo gli uccelli a deporle?
URL:https://passpartout.art/evento/eggcellent-4/
CATEGORIES:Planetari musei scientifici osservatori
END:VEVENT
BEGIN:VEVENT
DTSTART;TZID=Europe/Rome:20260329T150000
DTEND;TZID=Europe/Rome:20260329T150000
DTSTAMP:20260419T195529
CREATED:20260227T221031Z
LAST-MODIFIED:20260227T221031Z
UID:8220-1774796400-1774796400@passpartout.art
SUMMARY:REACTION SHOW
DESCRIPTION:Un incalzante susseguirsi di reazioni chimiche\, dinamico e divertente\, passando da cambi di colore a reazioni di ossidazione. Un percorso sulla conoscenza di reazioni chimiche comuni ma anche complesse\, realizzate in maniera scientificamente rigorosa ma scenograficamente spettacolare. Un crescendo coinvolgente che accompagna il pubblico dentro i meccanismi che spesso sono chiusi dentro un laboratorio e li proietta alla scoperta di ciò che avviene tra reagenti e composti chimici.
URL:https://passpartout.art/evento/reaction-show-18/
CATEGORIES:Planetari musei scientifici osservatori
END:VEVENT
BEGIN:VEVENT
DTSTART;TZID=Europe/Rome:20260329T103000
DTEND;TZID=Europe/Rome:20260329T103000
DTSTAMP:20260419T195529
CREATED:20260227T221030Z
LAST-MODIFIED:20260227T221030Z
UID:8219-1774780200-1774780200@passpartout.art
SUMMARY:EGGCELLENT!
DESCRIPTION:Guscio\, tuorlo\, albume… queste sono le prime parole che ci vengono in mente pensando a un uovo. Attraverso esperimenti e attività interattive proveremo a scoprire le caratteristiche chimico/fisiche di questi spettacolari adattamenti evolutivi. Ma poi… sono solo gli uccelli a deporle?
URL:https://passpartout.art/evento/eggcellent-3/
CATEGORIES:Planetari musei scientifici osservatori
END:VEVENT
BEGIN:VEVENT
DTSTART;TZID=Europe/Rome:20260328T163000
DTEND;TZID=Europe/Rome:20260328T163000
DTSTAMP:20260419T195529
CREATED:20260227T221030Z
LAST-MODIFIED:20260227T221030Z
UID:8218-1774715400-1774715400@passpartout.art
SUMMARY:EGGCELLENT!
DESCRIPTION:Guscio\, tuorlo\, albume… queste sono le prime parole che ci vengono in mente pensando a un uovo. Attraverso esperimenti e attività interattive proveremo a scoprire le caratteristiche chimico/fisiche di questi spettacolari adattamenti evolutivi. Ma poi… sono solo gli uccelli a deporle?
URL:https://passpartout.art/evento/eggcellent-2/
CATEGORIES:Planetari musei scientifici osservatori
END:VEVENT
BEGIN:VEVENT
DTSTART;TZID=Europe/Rome:20260328T150000
DTEND;TZID=Europe/Rome:20260328T150000
DTSTAMP:20260419T195529
CREATED:20260227T221016Z
LAST-MODIFIED:20260227T221016Z
UID:8217-1774710000-1774710000@passpartout.art
SUMMARY:REACTION SHOW
DESCRIPTION:Un incalzante susseguirsi di reazioni chimiche\, dinamico e divertente\, passando da cambi di colore a reazioni di ossidazione. Un percorso sulla conoscenza di reazioni chimiche comuni ma anche complesse\, realizzate in maniera scientificamente rigorosa ma scenograficamente spettacolare. Un crescendo coinvolgente che accompagna il pubblico dentro i meccanismi che spesso sono chiusi dentro un laboratorio e li proietta alla scoperta di ciò che avviene tra reagenti e composti chimici.
URL:https://passpartout.art/evento/reaction-show-17/
CATEGORIES:Planetari musei scientifici osservatori
END:VEVENT
BEGIN:VEVENT
DTSTART;TZID=Europe/Rome:20260328T103000
DTEND;TZID=Europe/Rome:20260328T103000
DTSTAMP:20260419T195529
CREATED:20260227T221016Z
LAST-MODIFIED:20260227T221016Z
UID:8216-1774693800-1774693800@passpartout.art
SUMMARY:EGGCELLENT!
DESCRIPTION:Guscio\, tuorlo\, albume… queste sono le prime parole che ci vengono in mente pensando a un uovo. Attraverso esperimenti e attività interattive proveremo a scoprire le caratteristiche chimico/fisiche di questi spettacolari adattamenti evolutivi. Ma poi… sono solo gli uccelli a deporle?
URL:https://passpartout.art/evento/eggcellent/
CATEGORIES:Planetari musei scientifici osservatori
END:VEVENT
BEGIN:VEVENT
DTSTART;TZID=Europe/Rome:20260322T163000
DTEND;TZID=Europe/Rome:20260322T163000
DTSTAMP:20260419T195529
CREATED:20260227T221016Z
LAST-MODIFIED:20260227T221016Z
UID:8215-1774197000-1774197000@passpartout.art
SUMMARY:SLIME E ALTRE SCHIFEZZE
DESCRIPTION:Gelatinosi\, viscidi\, appiccicosi! La chimica può realizzare materiali con consistenze veramente diverse e produrre sostanze con cui giocare in totale sicurezza. Un laboratorio incentrato su sostanze dalla consistenza particolare per scoprirne i loro segreti\, come farli e portare a casa della chimica Hand Made!
URL:https://passpartout.art/evento/slime-e-altre-schifezze-13/
CATEGORIES:Planetari musei scientifici osservatori
END:VEVENT
BEGIN:VEVENT
DTSTART;TZID=Europe/Rome:20260322T150000
DTEND;TZID=Europe/Rome:20260322T150000
DTSTAMP:20260419T195529
CREATED:20260227T221015Z
LAST-MODIFIED:20260227T221015Z
UID:8214-1774191600-1774191600@passpartout.art
SUMMARY:Cucine esplosive
DESCRIPTION:Vi siete mai chieste se la frutta può esplodere come dinamite? Un palloncino scoppiare con un agrume? Se la farina è come polvere da sparo? Una serie di esplosioni generate utilizzando solo ingredienti presenti in cucina. Un susseguirsi di esperimenti scientifici che lasceranno a bocca aperta dando un “sapore” del tutto nuovo alla scienza.
URL:https://passpartout.art/evento/cucine-esplosive-14/
CATEGORIES:Planetari musei scientifici osservatori
END:VEVENT
BEGIN:VEVENT
DTSTART;TZID=Europe/Rome:20260322T103000
DTEND;TZID=Europe/Rome:20260322T103000
DTSTAMP:20260419T195529
CREATED:20260227T221015Z
LAST-MODIFIED:20260227T221015Z
UID:8213-1774175400-1774175400@passpartout.art
SUMMARY:SLIME E ALTRE SCHIFEZZE
DESCRIPTION:Gelatinosi\, viscidi\, appiccicosi! La chimica può realizzare materiali con consistenze veramente diverse e produrre sostanze con cui giocare in totale sicurezza. Un laboratorio incentrato su sostanze dalla consistenza particolare per scoprirne i loro segreti\, come farli e portare a casa della chimica Hand Made!
URL:https://passpartout.art/evento/slime-e-altre-schifezze-12/
CATEGORIES:Planetari musei scientifici osservatori
END:VEVENT
BEGIN:VEVENT
DTSTART;TZID=Europe/Rome:20260321T163000
DTEND;TZID=Europe/Rome:20260321T163000
DTSTAMP:20260419T195529
CREATED:20260227T221002Z
LAST-MODIFIED:20260227T221002Z
UID:8212-1774110600-1774110600@passpartout.art
SUMMARY:SLIME E ALTRE SCHIFEZZE
DESCRIPTION:Gelatinosi\, viscidi\, appiccicosi! La chimica può realizzare materiali con consistenze veramente diverse e produrre sostanze con cui giocare in totale sicurezza. Un laboratorio incentrato su sostanze dalla consistenza particolare per scoprirne i loro segreti\, come farli e portare a casa della chimica Hand Made!
URL:https://passpartout.art/evento/slime-e-altre-schifezze-11/
CATEGORIES:Planetari musei scientifici osservatori
END:VEVENT
BEGIN:VEVENT
DTSTART;TZID=Europe/Rome:20260321T150000
DTEND;TZID=Europe/Rome:20260321T150000
DTSTAMP:20260419T195529
CREATED:20260227T221001Z
LAST-MODIFIED:20260227T221001Z
UID:8211-1774105200-1774105200@passpartout.art
SUMMARY:Cucine esplosive
DESCRIPTION:Vi siete mai chieste se la frutta può esplodere come dinamite? Un palloncino scoppiare con un agrume? Se la farina è come polvere da sparo? Una serie di esplosioni generate utilizzando solo ingredienti presenti in cucina. Un susseguirsi di esperimenti scientifici che lasceranno a bocca aperta dando un “sapore” del tutto nuovo alla scienza.
URL:https://passpartout.art/evento/cucine-esplosive-13/
CATEGORIES:Planetari musei scientifici osservatori
END:VEVENT
BEGIN:VEVENT
DTSTART;TZID=Europe/Rome:20260321T103000
DTEND;TZID=Europe/Rome:20260321T103000
DTSTAMP:20260419T195529
CREATED:20260227T221001Z
LAST-MODIFIED:20260227T221001Z
UID:8210-1774089000-1774089000@passpartout.art
SUMMARY:SLIME E ALTRE SCHIFEZZE
DESCRIPTION:Gelatinosi\, viscidi\, appiccicosi! La chimica può realizzare materiali con consistenze veramente diverse e produrre sostanze con cui giocare in totale sicurezza. Un laboratorio incentrato su sostanze dalla consistenza particolare per scoprirne i loro segreti\, come farli e portare a casa della chimica Hand Made!
URL:https://passpartout.art/evento/slime-e-altre-schifezze-10/
CATEGORIES:Planetari musei scientifici osservatori
END:VEVENT
BEGIN:VEVENT
DTSTART;TZID=Europe/Rome:20260315T150000
DTEND;TZID=Europe/Rome:20260315T150000
DTSTAMP:20260419T195529
CREATED:20260227T221000Z
LAST-MODIFIED:20260227T221000Z
UID:8208-1773586800-1773586800@passpartout.art
SUMMARY:REACTION SHOW
DESCRIPTION:Un incalzante susseguirsi di reazioni chimiche\, dinamico e divertente\, passando da cambi di colore a reazioni di ossidazione. Un percorso sulla conoscenza di reazioni chimiche comuni ma anche complesse\, realizzate in maniera scientificamente rigorosa ma scenograficamente spettacolare. Un crescendo coinvolgente che accompagna il pubblico dentro i meccanismi che spesso sono chiusi dentro un laboratorio e li proietta alla scoperta di ciò che avviene tra reagenti e composti chimici.
URL:https://passpartout.art/evento/reaction-show-16/
CATEGORIES:Planetari musei scientifici osservatori
END:VEVENT
BEGIN:VEVENT
DTSTART;TZID=Europe/Rome:20260315T103000
DTEND;TZID=Europe/Rome:20260315T103000
DTSTAMP:20260419T195529
CREATED:20260227T220947Z
LAST-MODIFIED:20260227T221000Z
UID:8207-1773570600-1773570600@passpartout.art
SUMMARY:IL COLORE DELLE EMOZIONI – TIGOTÀ EDUCATIONAL
DESCRIPTION:Ti sei mai chiesto cosa succede dentro di noi quando proviamo gioia\, rabbia o tristezza? La continua ricerca del significato dietro le emozioni che ogni giorno ci attraversano è il focus del progetto che accompagnerà bambine e bambini in un percorso di scoperta e consapevolezza. Attraverso esperienze concrete e materiali colorati\, i partecipanti si confronteranno con il linguaggio del corpo\, la mimica del volto e il potere comunicativo dei colori\, sperimentando come le emozioni si manifestano e come possono essere accolte e gestite.
URL:https://passpartout.art/evento/il-colore-delle-emozioni-tigota-educational/
CATEGORIES:Planetari musei scientifici osservatori
END:VEVENT
BEGIN:VEVENT
DTSTART;TZID=Europe/Rome:20260314T163000
DTEND;TZID=Europe/Rome:20260314T163000
DTSTAMP:20260419T195529
CREATED:20260227T220946Z
LAST-MODIFIED:20260227T220946Z
UID:8206-1773505800-1773505800@passpartout.art
SUMMARY:ALCHEMISTRY
DESCRIPTION:Ne parlano le leggende\, ma anche i libri di storia! Tra magia e scienza\, gli alchimisti hanno studiato la materia e le sue trasformazioni per secoli\, infatti l’alchimia è spesso considerata come l’antenata della chimica… ma quanto sono davvero simili queste due discipline? Utilizzando simboli\, trasmutazioni e reazioni al limite del magico cercheremo di scoprire la vera scienza che si cela dietro a questo mondo antico e misterioso.
URL:https://passpartout.art/evento/alchemistry-6/
CATEGORIES:Planetari musei scientifici osservatori
END:VEVENT
BEGIN:VEVENT
DTSTART;TZID=Europe/Rome:20260314T150000
DTEND;TZID=Europe/Rome:20260314T150000
DTSTAMP:20260419T195529
CREATED:20260227T220946Z
LAST-MODIFIED:20260227T220946Z
UID:8205-1773500400-1773500400@passpartout.art
SUMMARY:REACTION SHOW
DESCRIPTION:Un incalzante susseguirsi di reazioni chimiche\, dinamico e divertente\, passando da cambi di colore a reazioni di ossidazione. Un percorso sulla conoscenza di reazioni chimiche comuni ma anche complesse\, realizzate in maniera scientificamente rigorosa ma scenograficamente spettacolare. Un crescendo coinvolgente che accompagna il pubblico dentro i meccanismi che spesso sono chiusi dentro un laboratorio e li proietta alla scoperta di ciò che avviene tra reagenti e composti chimici.
URL:https://passpartout.art/evento/reaction-show-15/
CATEGORIES:Planetari musei scientifici osservatori
END:VEVENT
BEGIN:VEVENT
DTSTART;TZID=Europe/Rome:20260314T103000
DTEND;TZID=Europe/Rome:20260314T103000
DTSTAMP:20260419T195529
CREATED:20260227T220946Z
LAST-MODIFIED:20260227T220946Z
UID:8204-1773484200-1773484200@passpartout.art
SUMMARY:ALCHEMISTRY
DESCRIPTION:Ne parlano le leggende\, ma anche i libri di storia! Tra magia e scienza\, gli alchimisti hanno studiato la materia e le sue trasformazioni per secoli\, infatti l’alchimia è spesso considerata come l’antenata della chimica… ma quanto sono davvero simili queste due discipline? Utilizzando simboli\, trasmutazioni e reazioni al limite del magico cercheremo di scoprire la vera scienza che si cela dietro a questo mondo antico e misterioso.
URL:https://passpartout.art/evento/alchemistry-5/
CATEGORIES:Planetari musei scientifici osservatori
END:VEVENT
BEGIN:VEVENT
DTSTART;TZID=Europe/Rome:20260308T163000
DTEND;TZID=Europe/Rome:20260308T163000
DTSTAMP:20260419T195529
CREATED:20260227T220945Z
LAST-MODIFIED:20260227T220945Z
UID:8203-1772987400-1772987400@passpartout.art
SUMMARY:Fuoco e fulmini
DESCRIPTION:La capacità di padroneggiare il fuoco ha sempre affascinato gli esseri umani fin dall’antichità e grazie alla scienza ne abbiamo appreso tutti i segreti. In questo laboratorio il fuoco sarà generato e domato grazie alla chimica\, per scoprire che il fuoco altro non è che una reazione esotermica e che tale reazione può prodursi anche grazie ai fulmini. Un laboratorio scoppiettante e ricco di sorprese.
URL:https://passpartout.art/evento/fuoco-e-fulmini-13/
CATEGORIES:Planetari musei scientifici osservatori
END:VEVENT
BEGIN:VEVENT
DTSTART;TZID=Europe/Rome:20260308T150000
DTEND;TZID=Europe/Rome:20260308T150000
DTSTAMP:20260419T195529
CREATED:20260227T220934Z
LAST-MODIFIED:20260227T220934Z
UID:8202-1772982000-1772982000@passpartout.art
SUMMARY:CHIMICI IGNOTI
DESCRIPTION:Un gameshow coinvolgente e adrenalinico\, in cui i concorrenti dovranno abbinare gli elementi della tavola periodica alle loro caratteristiche più curiose. Tra esperimenti\, suggerimenti e strategie sveleremo le identità nascoste degli atomi!
URL:https://passpartout.art/evento/chimici-ignoti-16/
CATEGORIES:Planetari musei scientifici osservatori
END:VEVENT
BEGIN:VEVENT
DTSTART;TZID=Europe/Rome:20260308T103000
DTEND;TZID=Europe/Rome:20260308T103000
DTSTAMP:20260419T195529
CREATED:20260227T220934Z
LAST-MODIFIED:20260227T220934Z
UID:8201-1772965800-1772965800@passpartout.art
SUMMARY:Fuoco e fulmini
DESCRIPTION:La capacità di padroneggiare il fuoco ha sempre affascinato gli esseri umani fin dall’antichità e grazie alla scienza ne abbiamo appreso tutti i segreti. In questo laboratorio il fuoco sarà generato e domato grazie alla chimica\, per scoprire che il fuoco altro non è che una reazione esotermica e che tale reazione può prodursi anche grazie ai fulmini. Un laboratorio scoppiettante e ricco di sorprese.
URL:https://passpartout.art/evento/fuoco-e-fulmini-12/
CATEGORIES:Planetari musei scientifici osservatori
END:VEVENT
BEGIN:VEVENT
DTSTART;TZID=Europe/Rome:20260307T163000
DTEND;TZID=Europe/Rome:20260307T163000
DTSTAMP:20260419T195529
CREATED:20260227T220931Z
LAST-MODIFIED:20260227T220931Z
UID:8200-1772901000-1772901000@passpartout.art
SUMMARY:Fuoco e fulmini
DESCRIPTION:La capacità di padroneggiare il fuoco ha sempre affascinato gli esseri umani fin dall’antichità e grazie alla scienza ne abbiamo appreso tutti i segreti. In questo laboratorio il fuoco sarà generato e domato grazie alla chimica\, per scoprire che il fuoco altro non è che una reazione esotermica e che tale reazione può prodursi anche grazie ai fulmini. Un laboratorio scoppiettante e ricco di sorprese.
URL:https://passpartout.art/evento/fuoco-e-fulmini-11/
CATEGORIES:Planetari musei scientifici osservatori
END:VEVENT
BEGIN:VEVENT
DTSTART;TZID=Europe/Rome:20260307T150000
DTEND;TZID=Europe/Rome:20260307T150000
DTSTAMP:20260419T195529
CREATED:20260227T220931Z
LAST-MODIFIED:20260227T220931Z
UID:8199-1772895600-1772895600@passpartout.art
SUMMARY:CHIMICI IGNOTI
DESCRIPTION:Un gameshow coinvolgente e adrenalinico\, in cui i concorrenti dovranno abbinare gli elementi della tavola periodica alle loro caratteristiche più curiose. Tra esperimenti\, suggerimenti e strategie sveleremo le identità nascoste degli atomi!
URL:https://passpartout.art/evento/chimici-ignoti-15/
CATEGORIES:Planetari musei scientifici osservatori
END:VEVENT
BEGIN:VEVENT
DTSTART;TZID=Europe/Rome:20260307T103000
DTEND;TZID=Europe/Rome:20260307T103000
DTSTAMP:20260419T195529
CREATED:20260227T220930Z
LAST-MODIFIED:20260227T220930Z
UID:8198-1772879400-1772879400@passpartout.art
SUMMARY:Fuoco e fulmini
DESCRIPTION:La capacità di padroneggiare il fuoco ha sempre affascinato gli esseri umani fin dall’antichità e grazie alla scienza ne abbiamo appreso tutti i segreti. In questo laboratorio il fuoco sarà generato e domato grazie alla chimica\, per scoprire che il fuoco altro non è che una reazione esotermica e che tale reazione può prodursi anche grazie ai fulmini. Un laboratorio scoppiettante e ricco di sorprese.
URL:https://passpartout.art/evento/fuoco-e-fulmini-10/
CATEGORIES:Planetari musei scientifici osservatori
END:VEVENT
BEGIN:VEVENT
DTSTART;TZID=Europe/Rome:20260301T163000
DTEND;TZID=Europe/Rome:20260301T163000
DTSTAMP:20260419T195529
CREATED:20260227T220917Z
LAST-MODIFIED:20260227T220917Z
UID:8197-1772382600-1772382600@passpartout.art
SUMMARY:Esplosioni chimiche
DESCRIPTION:Boom! Bam! Kra-Koom! Claps! Questi saranno i suoni di questa attività che vedrà i partecipanti realizzare una serie di esplosioni (in sicurezza!) per apprendere come si attivano\, grazie a un violento rilascio di energia termica o meccanica. Un’attività divertente con l’obiettivo di apprendere semplici concetti di sicurezza per evitare di trovarsi in brutte situazioni nella vita di tutti i giorni.
URL:https://passpartout.art/evento/esplosioni-chimiche-16/
CATEGORIES:Planetari musei scientifici osservatori
END:VEVENT
END:VCALENDAR