BEGIN:VCALENDAR
VERSION:2.0
PRODID:-//Passpartout - ECPv6.15.20//NONSGML v1.0//EN
CALSCALE:GREGORIAN
METHOD:PUBLISH
X-ORIGINAL-URL:https://passpartout.art
X-WR-CALDESC:Eventi per Passpartout
REFRESH-INTERVAL;VALUE=DURATION:PT1H
X-Robots-Tag:noindex
X-PUBLISHED-TTL:PT1H
BEGIN:VTIMEZONE
TZID:Europe/Rome
BEGIN:DAYLIGHT
TZOFFSETFROM:+0100
TZOFFSETTO:+0200
TZNAME:CEST
DTSTART:20250330T010000
END:DAYLIGHT
BEGIN:STANDARD
TZOFFSETFROM:+0200
TZOFFSETTO:+0100
TZNAME:CET
DTSTART:20251026T010000
END:STANDARD
BEGIN:DAYLIGHT
TZOFFSETFROM:+0100
TZOFFSETTO:+0200
TZNAME:CEST
DTSTART:20260329T010000
END:DAYLIGHT
BEGIN:STANDARD
TZOFFSETFROM:+0200
TZOFFSETTO:+0100
TZNAME:CET
DTSTART:20261025T010000
END:STANDARD
BEGIN:DAYLIGHT
TZOFFSETFROM:+0100
TZOFFSETTO:+0200
TZNAME:CEST
DTSTART:20270328T010000
END:DAYLIGHT
BEGIN:STANDARD
TZOFFSETFROM:+0200
TZOFFSETTO:+0100
TZNAME:CET
DTSTART:20271031T010000
END:STANDARD
END:VTIMEZONE
BEGIN:VEVENT
DTSTART;TZID=Europe/Rome:20260201T110000
DTEND;TZID=Europe/Rome:20260201T110000
DTSTAMP:20260422T073249
CREATED:20260201T164436Z
LAST-MODIFIED:20260201T164436Z
UID:7978-1769943600-1769943600@passpartout.art
SUMMARY:SLIME E ALTRE SCHIFEZZE
DESCRIPTION:Gelatinosi
URL:https://passpartout.art/evento/slime-e-altre-schifezze-8/
CATEGORIES:Planetari musei scientifici osservatori
END:VEVENT
BEGIN:VEVENT
DTSTART;TZID=Europe/Rome:20260201T160000
DTEND;TZID=Europe/Rome:20260201T160000
DTSTAMP:20260422T073249
CREATED:20260103T091930Z
LAST-MODIFIED:20260201T164436Z
UID:7775-1769961600-1769961600@passpartout.art
SUMMARY:CHIMICI IGNOTI
DESCRIPTION:Un gameshow coinvolgente e adrenalinico
URL:https://passpartout.art/evento/chimici-ignoti-10/
CATEGORIES:Planetari musei scientifici osservatori
END:VEVENT
BEGIN:VEVENT
DTSTART;TZID=Europe/Rome:20260201T173000
DTEND;TZID=Europe/Rome:20260201T173000
DTSTAMP:20260422T073249
CREATED:20260201T164436Z
LAST-MODIFIED:20260201T164436Z
UID:7979-1769967000-1769967000@passpartout.art
SUMMARY:SLIME E ALTRE SCHIFEZZE
DESCRIPTION:Gelatinosi
URL:https://passpartout.art/evento/slime-e-altre-schifezze-9/
CATEGORIES:Planetari musei scientifici osservatori
END:VEVENT
BEGIN:VEVENT
DTSTART;TZID=Europe/Rome:20260207T103000
DTEND;TZID=Europe/Rome:20260207T103000
DTSTAMP:20260422T073249
CREATED:20260201T164443Z
LAST-MODIFIED:20260201T164443Z
UID:7982-1770460200-1770460200@passpartout.art
SUMMARY:Scienziati in Maschera
DESCRIPTION:A carnevale ogni esperimento vale! Preparatevi a entrare in un laboratorio un po’ matto dove scherzi e formule chimiche si incontrano per dar vita a reazioni buffe e divertenti. Pronti per un po’ di festa?
URL:https://passpartout.art/evento/scienziati-in-maschera/
CATEGORIES:Planetari musei scientifici osservatori
END:VEVENT
BEGIN:VEVENT
DTSTART;TZID=Europe/Rome:20260207T150000
DTEND;TZID=Europe/Rome:20260207T150000
DTSTAMP:20260422T073249
CREATED:20260201T164442Z
LAST-MODIFIED:20260201T164442Z
UID:7980-1770476400-1770476400@passpartout.art
SUMMARY:Cucine esplosive
DESCRIPTION:Vi siete mai chieste se la frutta può esplodere come dinamite? Un palloncino scoppiare con un agrume? Se la farina è come polvere da sparo? Una serie di esplosioni generate utilizzando solo ingredienti presenti in cucina. Un susseguirsi di esperimenti scientifici che lasceranno a bocca aperta dando un “sapore” del tutto nuovo alla scienza.
URL:https://passpartout.art/evento/cucine-esplosive-9/
CATEGORIES:Planetari musei scientifici osservatori
END:VEVENT
BEGIN:VEVENT
DTSTART;TZID=Europe/Rome:20260207T163000
DTEND;TZID=Europe/Rome:20260207T163000
DTSTAMP:20260422T073249
CREATED:20260201T164444Z
LAST-MODIFIED:20260201T164444Z
UID:7984-1770481800-1770481800@passpartout.art
SUMMARY:Scienziati in Maschera
DESCRIPTION:A carnevale ogni esperimento vale! Preparatevi a entrare in un laboratorio un po’ matto dove scherzi e formule chimiche si incontrano per dar vita a reazioni buffe e divertenti. Pronti per un po’ di festa?
URL:https://passpartout.art/evento/scienziati-in-maschera-3/
CATEGORIES:Planetari musei scientifici osservatori
END:VEVENT
BEGIN:VEVENT
DTSTART;TZID=Europe/Rome:20260208T103000
DTEND;TZID=Europe/Rome:20260208T103000
DTSTAMP:20260422T073249
CREATED:20260201T164443Z
LAST-MODIFIED:20260201T164443Z
UID:7983-1770546600-1770546600@passpartout.art
SUMMARY:Scienziati in Maschera
DESCRIPTION:A carnevale ogni esperimento vale! Preparatevi a entrare in un laboratorio un po’ matto dove scherzi e formule chimiche si incontrano per dar vita a reazioni buffe e divertenti. Pronti per un po’ di festa?
URL:https://passpartout.art/evento/scienziati-in-maschera-2/
CATEGORIES:Planetari musei scientifici osservatori
END:VEVENT
BEGIN:VEVENT
DTSTART;TZID=Europe/Rome:20260208T150000
DTEND;TZID=Europe/Rome:20260208T150000
DTSTAMP:20260422T073249
CREATED:20260201T164442Z
LAST-MODIFIED:20260201T164442Z
UID:7981-1770562800-1770562800@passpartout.art
SUMMARY:Cucine esplosive
DESCRIPTION:Vi siete mai chieste se la frutta può esplodere come dinamite? Un palloncino scoppiare con un agrume? Se la farina è come polvere da sparo? Una serie di esplosioni generate utilizzando solo ingredienti presenti in cucina. Un susseguirsi di esperimenti scientifici che lasceranno a bocca aperta dando un “sapore” del tutto nuovo alla scienza.
URL:https://passpartout.art/evento/cucine-esplosive-10/
CATEGORIES:Planetari musei scientifici osservatori
END:VEVENT
BEGIN:VEVENT
DTSTART;TZID=Europe/Rome:20260208T163000
DTEND;TZID=Europe/Rome:20260208T163000
DTSTAMP:20260422T073249
CREATED:20260201T164446Z
LAST-MODIFIED:20260201T164446Z
UID:7985-1770568200-1770568200@passpartout.art
SUMMARY:Scienziati in Maschera
DESCRIPTION:A carnevale ogni esperimento vale! Preparatevi a entrare in un laboratorio un po’ matto dove scherzi e formule chimiche si incontrano per dar vita a reazioni buffe e divertenti. Pronti per un po’ di festa?
URL:https://passpartout.art/evento/scienziati-in-maschera-4/
CATEGORIES:Planetari musei scientifici osservatori
END:VEVENT
BEGIN:VEVENT
DTSTART;TZID=Europe/Rome:20260214T103000
DTEND;TZID=Europe/Rome:20260214T103000
DTSTAMP:20260422T073249
CREATED:20260201T164446Z
LAST-MODIFIED:20260201T164446Z
UID:7986-1771065000-1771065000@passpartout.art
SUMMARY:Scienziati in Maschera
DESCRIPTION:A carnevale ogni esperimento vale! Preparatevi a entrare in un laboratorio un po’ matto dove scherzi e formule chimiche si incontrano per dar vita a reazioni buffe e divertenti. Pronti per un po’ di festa?
URL:https://passpartout.art/evento/scienziati-in-maschera-5/
CATEGORIES:Planetari musei scientifici osservatori
END:VEVENT
BEGIN:VEVENT
DTSTART;TZID=Europe/Rome:20260214T150000
DTEND;TZID=Europe/Rome:20260214T150000
DTSTAMP:20260422T073249
CREATED:20260201T164456Z
LAST-MODIFIED:20260201T164456Z
UID:7990-1771081200-1771081200@passpartout.art
SUMMARY:CHIMICI IGNOTI
DESCRIPTION:Un gameshow coinvolgente e adrenalinico
URL:https://passpartout.art/evento/chimici-ignoti-11/
CATEGORIES:Planetari musei scientifici osservatori
END:VEVENT
BEGIN:VEVENT
DTSTART;TZID=Europe/Rome:20260214T163000
DTEND;TZID=Europe/Rome:20260214T163000
DTSTAMP:20260422T073249
CREATED:20260201T164447Z
LAST-MODIFIED:20260201T164447Z
UID:7988-1771086600-1771086600@passpartout.art
SUMMARY:Scienziati in Maschera
DESCRIPTION:A carnevale ogni esperimento vale! Preparatevi a entrare in un laboratorio un po’ matto dove scherzi e formule chimiche si incontrano per dar vita a reazioni buffe e divertenti. Pronti per un po’ di festa?
URL:https://passpartout.art/evento/scienziati-in-maschera-7/
CATEGORIES:Planetari musei scientifici osservatori
END:VEVENT
BEGIN:VEVENT
DTSTART;TZID=Europe/Rome:20260215T103000
DTEND;TZID=Europe/Rome:20260215T103000
DTSTAMP:20260422T073249
CREATED:20260201T164446Z
LAST-MODIFIED:20260201T164446Z
UID:7987-1771151400-1771151400@passpartout.art
SUMMARY:Scienziati in Maschera
DESCRIPTION:A carnevale ogni esperimento vale! Preparatevi a entrare in un laboratorio un po’ matto dove scherzi e formule chimiche si incontrano per dar vita a reazioni buffe e divertenti. Pronti per un po’ di festa?
URL:https://passpartout.art/evento/scienziati-in-maschera-6/
CATEGORIES:Planetari musei scientifici osservatori
END:VEVENT
BEGIN:VEVENT
DTSTART;TZID=Europe/Rome:20260215T150000
DTEND;TZID=Europe/Rome:20260215T150000
DTSTAMP:20260422T073249
CREATED:20260201T164456Z
LAST-MODIFIED:20260201T164456Z
UID:7991-1771167600-1771167600@passpartout.art
SUMMARY:CHIMICI IGNOTI
DESCRIPTION:Un gameshow coinvolgente e adrenalinico
URL:https://passpartout.art/evento/chimici-ignoti-12/
CATEGORIES:Planetari musei scientifici osservatori
END:VEVENT
BEGIN:VEVENT
DTSTART;TZID=Europe/Rome:20260215T163000
DTEND;TZID=Europe/Rome:20260215T163000
DTSTAMP:20260422T073249
CREATED:20260201T164447Z
LAST-MODIFIED:20260201T164447Z
UID:7989-1771173000-1771173000@passpartout.art
SUMMARY:Scienziati in Maschera
DESCRIPTION:A carnevale ogni esperimento vale! Preparatevi a entrare in un laboratorio un po’ matto dove scherzi e formule chimiche si incontrano per dar vita a reazioni buffe e divertenti. Pronti per un po’ di festa?
URL:https://passpartout.art/evento/scienziati-in-maschera-8/
CATEGORIES:Planetari musei scientifici osservatori
END:VEVENT
BEGIN:VEVENT
DTSTART;TZID=Europe/Rome:20260216T103000
DTEND;TZID=Europe/Rome:20260216T103000
DTSTAMP:20260422T073249
CREATED:20260201T164456Z
LAST-MODIFIED:20260201T164456Z
UID:7992-1771237800-1771237800@passpartout.art
SUMMARY:Scienziati in Maschera
DESCRIPTION:A carnevale ogni esperimento vale! Preparatevi a entrare in un laboratorio un po’ matto dove scherzi e formule chimiche si incontrano per dar vita a reazioni buffe e divertenti. Pronti per un po’ di festa?
URL:https://passpartout.art/evento/scienziati-in-maschera-9/
CATEGORIES:Planetari musei scientifici osservatori
END:VEVENT
BEGIN:VEVENT
DTSTART;TZID=Europe/Rome:20260216T150000
DTEND;TZID=Europe/Rome:20260216T150000
DTSTAMP:20260422T073249
CREATED:20260201T164503Z
LAST-MODIFIED:20260201T164503Z
UID:7996-1771254000-1771254000@passpartout.art
SUMMARY:CHIMICI IGNOTI
DESCRIPTION:Un gameshow coinvolgente e adrenalinico
URL:https://passpartout.art/evento/chimici-ignoti-13/
CATEGORIES:Planetari musei scientifici osservatori
END:VEVENT
BEGIN:VEVENT
DTSTART;TZID=Europe/Rome:20260216T163000
DTEND;TZID=Europe/Rome:20260216T163000
DTSTAMP:20260422T073249
CREATED:20260201T164457Z
LAST-MODIFIED:20260201T164457Z
UID:7994-1771259400-1771259400@passpartout.art
SUMMARY:Scienziati in Maschera
DESCRIPTION:A carnevale ogni esperimento vale! Preparatevi a entrare in un laboratorio un po’ matto dove scherzi e formule chimiche si incontrano per dar vita a reazioni buffe e divertenti. Pronti per un po’ di festa?
URL:https://passpartout.art/evento/scienziati-in-maschera-11/
CATEGORIES:Planetari musei scientifici osservatori
END:VEVENT
BEGIN:VEVENT
DTSTART;TZID=Europe/Rome:20260217T103000
DTEND;TZID=Europe/Rome:20260217T103000
DTSTAMP:20260422T073249
CREATED:20260201T164457Z
LAST-MODIFIED:20260201T164457Z
UID:7993-1771324200-1771324200@passpartout.art
SUMMARY:Scienziati in Maschera
DESCRIPTION:A carnevale ogni esperimento vale! Preparatevi a entrare in un laboratorio un po’ matto dove scherzi e formule chimiche si incontrano per dar vita a reazioni buffe e divertenti. Pronti per un po’ di festa?
URL:https://passpartout.art/evento/scienziati-in-maschera-10/
CATEGORIES:Planetari musei scientifici osservatori
END:VEVENT
BEGIN:VEVENT
DTSTART;TZID=Europe/Rome:20260217T150000
DTEND;TZID=Europe/Rome:20260217T150000
DTSTAMP:20260422T073249
CREATED:20260201T164503Z
LAST-MODIFIED:20260201T164503Z
UID:7997-1771340400-1771340400@passpartout.art
SUMMARY:CHIMICI IGNOTI
DESCRIPTION:Un gameshow coinvolgente e adrenalinico
URL:https://passpartout.art/evento/chimici-ignoti-14/
CATEGORIES:Planetari musei scientifici osservatori
END:VEVENT
BEGIN:VEVENT
DTSTART;TZID=Europe/Rome:20260217T163000
DTEND;TZID=Europe/Rome:20260217T163000
DTSTAMP:20260422T073249
CREATED:20260201T164502Z
LAST-MODIFIED:20260201T164502Z
UID:7995-1771345800-1771345800@passpartout.art
SUMMARY:Scienziati in Maschera
DESCRIPTION:A carnevale ogni esperimento vale! Preparatevi a entrare in un laboratorio un po’ matto dove scherzi e formule chimiche si incontrano per dar vita a reazioni buffe e divertenti. Pronti per un po’ di festa?
URL:https://passpartout.art/evento/scienziati-in-maschera-12/
CATEGORIES:Planetari musei scientifici osservatori
END:VEVENT
BEGIN:VEVENT
DTSTART;TZID=Europe/Rome:20260221T103000
DTEND;TZID=Europe/Rome:20260221T103000
DTSTAMP:20260422T073249
CREATED:20260201T164520Z
LAST-MODIFIED:20260201T164520Z
UID:8000-1771669800-1771669800@passpartout.art
SUMMARY:Scienza da podio
DESCRIPTION:Scienza e sport si incontrano al MU-CH! Tra sfide
URL:https://passpartout.art/evento/scienza-da-podio/
CATEGORIES:Planetari musei scientifici osservatori
END:VEVENT
BEGIN:VEVENT
DTSTART;TZID=Europe/Rome:20260221T150000
DTEND;TZID=Europe/Rome:20260221T150000
DTSTAMP:20260422T073249
CREATED:20260201T164503Z
LAST-MODIFIED:20260201T164503Z
UID:7998-1771686000-1771686000@passpartout.art
SUMMARY:REACTION SHOW
DESCRIPTION:Un incalzante susseguirsi di reazioni chimiche
URL:https://passpartout.art/evento/reaction-show-13/
CATEGORIES:Planetari musei scientifici osservatori
END:VEVENT
BEGIN:VEVENT
DTSTART;TZID=Europe/Rome:20260221T163000
DTEND;TZID=Europe/Rome:20260221T163000
DTSTAMP:20260422T073249
CREATED:20260201T164521Z
LAST-MODIFIED:20260201T164521Z
UID:8002-1771691400-1771691400@passpartout.art
SUMMARY:Scienza da podio
DESCRIPTION:Scienza e sport si incontrano al MU-CH! Tra sfide
URL:https://passpartout.art/evento/scienza-da-podio-3/
CATEGORIES:Planetari musei scientifici osservatori
END:VEVENT
BEGIN:VEVENT
DTSTART;TZID=Europe/Rome:20260222T103000
DTEND;TZID=Europe/Rome:20260222T103000
DTSTAMP:20260422T073249
CREATED:20260201T164521Z
LAST-MODIFIED:20260201T164521Z
UID:8001-1771756200-1771756200@passpartout.art
SUMMARY:Scienza da podio
DESCRIPTION:Scienza e sport si incontrano al MU-CH! Tra sfide
URL:https://passpartout.art/evento/scienza-da-podio-2/
CATEGORIES:Planetari musei scientifici osservatori
END:VEVENT
BEGIN:VEVENT
DTSTART;TZID=Europe/Rome:20260222T150000
DTEND;TZID=Europe/Rome:20260222T150000
DTSTAMP:20260422T073249
CREATED:20260201T164504Z
LAST-MODIFIED:20260201T164504Z
UID:7999-1771772400-1771772400@passpartout.art
SUMMARY:REACTION SHOW
DESCRIPTION:Un incalzante susseguirsi di reazioni chimiche
URL:https://passpartout.art/evento/reaction-show-14/
CATEGORIES:Planetari musei scientifici osservatori
END:VEVENT
BEGIN:VEVENT
DTSTART;TZID=Europe/Rome:20260222T163000
DTEND;TZID=Europe/Rome:20260222T163000
DTSTAMP:20260422T073249
CREATED:20260201T164521Z
LAST-MODIFIED:20260201T164521Z
UID:8003-1771777800-1771777800@passpartout.art
SUMMARY:Scienza da podio
DESCRIPTION:Scienza e sport si incontrano al MU-CH! Tra sfide
URL:https://passpartout.art/evento/scienza-da-podio-4/
CATEGORIES:Planetari musei scientifici osservatori
END:VEVENT
BEGIN:VEVENT
DTSTART;TZID=Europe/Rome:20260228T103000
DTEND;TZID=Europe/Rome:20260228T103000
DTSTAMP:20260422T073249
CREATED:20260201T164535Z
LAST-MODIFIED:20260201T164535Z
UID:8005-1772274600-1772274600@passpartout.art
SUMMARY:Esplosioni chimiche
DESCRIPTION:Boom! Bam! Kra-Koom! Claps! Questi saranno i suoni di questa attività che vedrà i partecipanti realizzare una serie di esplosioni (in sicurezza!) per apprendere come si attivano
URL:https://passpartout.art/evento/esplosioni-chimiche-13/
CATEGORIES:Planetari musei scientifici osservatori
END:VEVENT
BEGIN:VEVENT
DTSTART;TZID=Europe/Rome:20260228T150000
DTEND;TZID=Europe/Rome:20260228T150000
DTSTAMP:20260422T073249
CREATED:20260201T164522Z
LAST-MODIFIED:20260201T164522Z
UID:8004-1772290800-1772290800@passpartout.art
SUMMARY:Cucine esplosive
DESCRIPTION:Vi siete mai chieste se la frutta può esplodere come dinamite? Un palloncino scoppiare con un agrume? Se la farina è come polvere da sparo? Una serie di esplosioni generate utilizzando solo ingredienti presenti in cucina. Un susseguirsi di esperimenti scientifici che lasceranno a bocca aperta dando un “sapore” del tutto nuovo alla scienza.
URL:https://passpartout.art/evento/cucine-esplosive-11/
CATEGORIES:Planetari musei scientifici osservatori
END:VEVENT
BEGIN:VEVENT
DTSTART;TZID=Europe/Rome:20260228T163000
DTEND;TZID=Europe/Rome:20260228T163000
DTSTAMP:20260422T073249
CREATED:20260201T164536Z
LAST-MODIFIED:20260201T164536Z
UID:8006-1772296200-1772296200@passpartout.art
SUMMARY:Esplosioni chimiche
DESCRIPTION:Boom! Bam! Kra-Koom! Claps! Questi saranno i suoni di questa attività che vedrà i partecipanti realizzare una serie di esplosioni (in sicurezza!) per apprendere come si attivano
URL:https://passpartout.art/evento/esplosioni-chimiche-14/
CATEGORIES:Planetari musei scientifici osservatori
END:VEVENT
END:VCALENDAR