BEGIN:VCALENDAR
VERSION:2.0
PRODID:-//Passpartout - ECPv6.15.20//NONSGML v1.0//EN
CALSCALE:GREGORIAN
METHOD:PUBLISH
X-WR-CALNAME:Passpartout
X-ORIGINAL-URL:https://passpartout.art
X-WR-CALDESC:Eventi per Passpartout
REFRESH-INTERVAL;VALUE=DURATION:PT1H
X-Robots-Tag:noindex
X-PUBLISHED-TTL:PT1H
BEGIN:VTIMEZONE
TZID:Europe/Rome
BEGIN:DAYLIGHT
TZOFFSETFROM:+0100
TZOFFSETTO:+0200
TZNAME:CEST
DTSTART:20250330T010000
END:DAYLIGHT
BEGIN:STANDARD
TZOFFSETFROM:+0200
TZOFFSETTO:+0100
TZNAME:CET
DTSTART:20251026T010000
END:STANDARD
BEGIN:DAYLIGHT
TZOFFSETFROM:+0100
TZOFFSETTO:+0200
TZNAME:CEST
DTSTART:20260329T010000
END:DAYLIGHT
BEGIN:STANDARD
TZOFFSETFROM:+0200
TZOFFSETTO:+0100
TZNAME:CET
DTSTART:20261025T010000
END:STANDARD
BEGIN:DAYLIGHT
TZOFFSETFROM:+0100
TZOFFSETTO:+0200
TZNAME:CEST
DTSTART:20270328T010000
END:DAYLIGHT
BEGIN:STANDARD
TZOFFSETFROM:+0200
TZOFFSETTO:+0100
TZNAME:CET
DTSTART:20271031T010000
END:STANDARD
END:VTIMEZONE
BEGIN:VEVENT
DTSTART;TZID=Europe/Rome:20260101T160000
DTEND;TZID=Europe/Rome:20260101T160000
DTSTAMP:20260422T091827
CREATED:20260103T091313Z
LAST-MODIFIED:20260103T091313Z
UID:7756-1767283200-1767283200@passpartout.art
SUMMARY:ATOMIC BINGO!
DESCRIPTION:Attenzione! Questo non è il classico Bingo Natalizio! La tavola periodica degli elementi sarà al centro di questo game-show che vi coinvolgerà con una serie di esaltanti esperimenti. Tra un’estrazione e l’altra\, armatevi di fortuna e di cartelle\, non mancheranno premi per il primo che completerà la propria cartella e farà ATOMIC BINGO!
URL:https://passpartout.art/evento/atomic-bingo/
CATEGORIES:Planetari musei scientifici osservatori
END:VEVENT
BEGIN:VEVENT
DTSTART;TZID=Europe/Rome:20260101T173000
DTEND;TZID=Europe/Rome:20260101T173000
DTSTAMP:20260422T091827
CREATED:20260103T091328Z
LAST-MODIFIED:20260103T091328Z
UID:7761-1767288600-1767288600@passpartout.art
SUMMARY:The elf on the lab
DESCRIPTION:Dopo aver finito il lavoro a casa di tantissimi bambini\, gli elfi sono passati dal nostro museo e stanno combinando tantissimi pasticci. Tra robot mal programmati e esperimenti da sistemare i ragazzi dovranno provare a rimettere in ordine il laboratorio!
URL:https://passpartout.art/evento/the-elf-on-the-lab/
CATEGORIES:Planetari musei scientifici osservatori
END:VEVENT
BEGIN:VEVENT
DTSTART;TZID=Europe/Rome:20260102T173000
DTEND;TZID=Europe/Rome:20260102T173000
DTSTAMP:20260422T091827
CREATED:20260103T091328Z
LAST-MODIFIED:20260103T091328Z
UID:7762-1767375000-1767375000@passpartout.art
SUMMARY:The elf on the lab
DESCRIPTION:Dopo aver finito il lavoro a casa di tantissimi bambini\, gli elfi sono passati dal nostro museo e stanno combinando tantissimi pasticci. Tra robot mal programmati e esperimenti da sistemare i ragazzi dovranno provare a rimettere in ordine il laboratorio!
URL:https://passpartout.art/evento/the-elf-on-the-lab-2/
CATEGORIES:Planetari musei scientifici osservatori
END:VEVENT
BEGIN:VEVENT
DTSTART;TZID=Europe/Rome:20260103T110000
DTEND;TZID=Europe/Rome:20260103T110000
DTSTAMP:20260422T091827
CREATED:20260103T091329Z
LAST-MODIFIED:20260103T091329Z
UID:7763-1767438000-1767438000@passpartout.art
SUMMARY:The elf on the lab
DESCRIPTION:Dopo aver finito il lavoro a casa di tantissimi bambini\, gli elfi sono passati dal nostro museo e stanno combinando tantissimi pasticci. Tra robot mal programmati e esperimenti da sistemare i ragazzi dovranno provare a rimettere in ordine il laboratorio!
URL:https://passpartout.art/evento/the-elf-on-the-lab-3/
CATEGORIES:Planetari musei scientifici osservatori
END:VEVENT
BEGIN:VEVENT
DTSTART;TZID=Europe/Rome:20260103T160000
DTEND;TZID=Europe/Rome:20260103T160000
DTSTAMP:20260422T091827
CREATED:20260103T091313Z
LAST-MODIFIED:20260103T091313Z
UID:7757-1767456000-1767456000@passpartout.art
SUMMARY:ATOMIC BINGO!
DESCRIPTION:Attenzione! Questo non è il classico Bingo Natalizio! La tavola periodica degli elementi sarà al centro di questo game-show che vi coinvolgerà con una serie di esaltanti esperimenti. Tra un’estrazione e l’altra\, armatevi di fortuna e di cartelle\, non mancheranno premi per il primo che completerà la propria cartella e farà ATOMIC BINGO!
URL:https://passpartout.art/evento/atomic-bingo-2/
CATEGORIES:Planetari musei scientifici osservatori
END:VEVENT
BEGIN:VEVENT
DTSTART;TZID=Europe/Rome:20260103T160000
DTEND;TZID=Europe/Rome:20260103T160000
DTSTAMP:20260422T091827
CREATED:20260103T091314Z
LAST-MODIFIED:20260103T091314Z
UID:7758-1767456000-1767456000@passpartout.art
SUMMARY:ATOMIC BINGO!
DESCRIPTION:Attenzione! Questo non è il classico Bingo Natalizio! La tavola periodica degli elementi sarà al centro di questo game-show che vi coinvolgerà con una serie di esaltanti esperimenti. Tra un’estrazione e l’altra\, armatevi di fortuna e di cartelle\, non mancheranno premi per il primo che completerà la propria cartella e farà ATOMIC BINGO!
URL:https://passpartout.art/evento/atomic-bingo-3/
CATEGORIES:Planetari musei scientifici osservatori
END:VEVENT
BEGIN:VEVENT
DTSTART;TZID=Europe/Rome:20260103T173000
DTEND;TZID=Europe/Rome:20260103T173000
DTSTAMP:20260422T091827
CREATED:20260103T091329Z
LAST-MODIFIED:20260103T091329Z
UID:7764-1767461400-1767461400@passpartout.art
SUMMARY:The elf on the lab
DESCRIPTION:Dopo aver finito il lavoro a casa di tantissimi bambini\, gli elfi sono passati dal nostro museo e stanno combinando tantissimi pasticci. Tra robot mal programmati e esperimenti da sistemare i ragazzi dovranno provare a rimettere in ordine il laboratorio!
URL:https://passpartout.art/evento/the-elf-on-the-lab-4/
CATEGORIES:Planetari musei scientifici osservatori
END:VEVENT
BEGIN:VEVENT
DTSTART;TZID=Europe/Rome:20260104T110000
DTEND;TZID=Europe/Rome:20260104T110000
DTSTAMP:20260422T091827
CREATED:20260103T091528Z
LAST-MODIFIED:20260103T091528Z
UID:7765-1767524400-1767524400@passpartout.art
SUMMARY:The elf on the lab
DESCRIPTION:Dopo aver finito il lavoro a casa di tantissimi bambini\, gli elfi sono passati dal nostro museo e stanno combinando tantissimi pasticci. Tra robot mal programmati e esperimenti da sistemare i ragazzi dovranno provare a rimettere in ordine il laboratorio!
URL:https://passpartout.art/evento/the-elf-on-the-lab-5/
CATEGORIES:Planetari musei scientifici osservatori
END:VEVENT
BEGIN:VEVENT
DTSTART;TZID=Europe/Rome:20260104T160000
DTEND;TZID=Europe/Rome:20260104T160000
DTSTAMP:20260422T091827
CREATED:20260103T091314Z
LAST-MODIFIED:20260103T091314Z
UID:7759-1767542400-1767542400@passpartout.art
SUMMARY:ATOMIC BINGO!
DESCRIPTION:Attenzione! Questo non è il classico Bingo Natalizio! La tavola periodica degli elementi sarà al centro di questo game-show che vi coinvolgerà con una serie di esaltanti esperimenti. Tra un’estrazione e l’altra\, armatevi di fortuna e di cartelle\, non mancheranno premi per il primo che completerà la propria cartella e farà ATOMIC BINGO!
URL:https://passpartout.art/evento/atomic-bingo-4/
CATEGORIES:Planetari musei scientifici osservatori
END:VEVENT
BEGIN:VEVENT
DTSTART;TZID=Europe/Rome:20260104T173000
DTEND;TZID=Europe/Rome:20260104T173000
DTSTAMP:20260422T091827
CREATED:20260103T091529Z
LAST-MODIFIED:20260103T091529Z
UID:7766-1767547800-1767547800@passpartout.art
SUMMARY:The elf on the lab
DESCRIPTION:Dopo aver finito il lavoro a casa di tantissimi bambini\, gli elfi sono passati dal nostro museo e stanno combinando tantissimi pasticci. Tra robot mal programmati e esperimenti da sistemare i ragazzi dovranno provare a rimettere in ordine il laboratorio!
URL:https://passpartout.art/evento/the-elf-on-the-lab-6/
CATEGORIES:Planetari musei scientifici osservatori
END:VEVENT
BEGIN:VEVENT
DTSTART;TZID=Europe/Rome:20260105T160000
DTEND;TZID=Europe/Rome:20260105T160000
DTSTAMP:20260422T091827
CREATED:20260103T091328Z
LAST-MODIFIED:20260103T091328Z
UID:7760-1767628800-1767628800@passpartout.art
SUMMARY:ATOMIC BINGO!
DESCRIPTION:Attenzione! Questo non è il classico Bingo Natalizio! La tavola periodica degli elementi sarà al centro di questo game-show che vi coinvolgerà con una serie di esaltanti esperimenti. Tra un’estrazione e l’altra\, armatevi di fortuna e di cartelle\, non mancheranno premi per il primo che completerà la propria cartella e farà ATOMIC BINGO!
URL:https://passpartout.art/evento/atomic-bingo-5/
CATEGORIES:Planetari musei scientifici osservatori
END:VEVENT
BEGIN:VEVENT
DTSTART;TZID=Europe/Rome:20260105T173000
DTEND;TZID=Europe/Rome:20260105T173000
DTSTAMP:20260422T091827
CREATED:20260103T091529Z
LAST-MODIFIED:20260103T091529Z
UID:7767-1767634200-1767634200@passpartout.art
SUMMARY:The elf on the lab
DESCRIPTION:Dopo aver finito il lavoro a casa di tantissimi bambini\, gli elfi sono passati dal nostro museo e stanno combinando tantissimi pasticci. Tra robot mal programmati e esperimenti da sistemare i ragazzi dovranno provare a rimettere in ordine il laboratorio!
URL:https://passpartout.art/evento/the-elf-on-the-lab-7/
CATEGORIES:Planetari musei scientifici osservatori
END:VEVENT
BEGIN:VEVENT
DTSTART;TZID=Europe/Rome:20260106T110000
DTEND;TZID=Europe/Rome:20260106T110000
DTSTAMP:20260422T091827
CREATED:20260103T091529Z
LAST-MODIFIED:20260103T091529Z
UID:7768-1767697200-1767697200@passpartout.art
SUMMARY:The elf on the lab
DESCRIPTION:Dopo aver finito il lavoro a casa di tantissimi bambini\, gli elfi sono passati dal nostro museo e stanno combinando tantissimi pasticci. Tra robot mal programmati e esperimenti da sistemare i ragazzi dovranno provare a rimettere in ordine il laboratorio!
URL:https://passpartout.art/evento/the-elf-on-the-lab-8/
CATEGORIES:Planetari musei scientifici osservatori
END:VEVENT
BEGIN:VEVENT
DTSTART;TZID=Europe/Rome:20260106T173000
DTEND;TZID=Europe/Rome:20260106T173000
DTSTAMP:20260422T091827
CREATED:20260103T091530Z
LAST-MODIFIED:20260103T091530Z
UID:7769-1767720600-1767720600@passpartout.art
SUMMARY:The elf on the lab
DESCRIPTION:Dopo aver finito il lavoro a casa di tantissimi bambini\, gli elfi sono passati dal nostro museo e stanno combinando tantissimi pasticci. Tra robot mal programmati e esperimenti da sistemare i ragazzi dovranno provare a rimettere in ordine il laboratorio!
URL:https://passpartout.art/evento/the-elf-on-the-lab-9/
CATEGORIES:Planetari musei scientifici osservatori
END:VEVENT
BEGIN:VEVENT
DTSTART;TZID=Europe/Rome:20260110T110000
DTEND;TZID=Europe/Rome:20260110T110000
DTSTAMP:20260422T091827
CREATED:20260103T091729Z
LAST-MODIFIED:20260103T091729Z
UID:7770-1768042800-1768042800@passpartout.art
SUMMARY:Esplosioni chimiche
DESCRIPTION:Boom! Bam! Kra-Koom! Claps! Questi saranno i suoni di questa attività che vedrà i partecipanti realizzare una serie di esplosioni (in sicurezza!) per apprendere come si attivano\, grazie a un violento rilascio di energia termica o meccanica. Un’attività divertente con l’obiettivo di apprendere semplici concetti di sicurezza per evitare di trovarsi in brutte situazioni nella vita di tutti i giorni.
URL:https://passpartout.art/evento/esplosioni-chimiche-9/
CATEGORIES:Planetari musei scientifici osservatori
END:VEVENT
BEGIN:VEVENT
DTSTART;TZID=Europe/Rome:20260110T173000
DTEND;TZID=Europe/Rome:20260110T173000
DTSTAMP:20260422T091827
CREATED:20260103T091730Z
LAST-MODIFIED:20260103T091730Z
UID:7771-1768066200-1768066200@passpartout.art
SUMMARY:Esplosioni chimiche
DESCRIPTION:Boom! Bam! Kra-Koom! Claps! Questi saranno i suoni di questa attività che vedrà i partecipanti realizzare una serie di esplosioni (in sicurezza!) per apprendere come si attivano\, grazie a un violento rilascio di energia termica o meccanica. Un’attività divertente con l’obiettivo di apprendere semplici concetti di sicurezza per evitare di trovarsi in brutte situazioni nella vita di tutti i giorni.
URL:https://passpartout.art/evento/esplosioni-chimiche-10/
CATEGORIES:Planetari musei scientifici osservatori
END:VEVENT
BEGIN:VEVENT
DTSTART;TZID=Europe/Rome:20260111T110000
DTEND;TZID=Europe/Rome:20260111T110000
DTSTAMP:20260422T091827
CREATED:20260103T091730Z
LAST-MODIFIED:20260103T091730Z
UID:7772-1768129200-1768129200@passpartout.art
SUMMARY:Esplosioni chimiche
DESCRIPTION:Boom! Bam! Kra-Koom! Claps! Questi saranno i suoni di questa attività che vedrà i partecipanti realizzare una serie di esplosioni (in sicurezza!) per apprendere come si attivano\, grazie a un violento rilascio di energia termica o meccanica. Un’attività divertente con l’obiettivo di apprendere semplici concetti di sicurezza per evitare di trovarsi in brutte situazioni nella vita di tutti i giorni.
URL:https://passpartout.art/evento/esplosioni-chimiche-11/
CATEGORIES:Planetari musei scientifici osservatori
END:VEVENT
BEGIN:VEVENT
DTSTART;TZID=Europe/Rome:20260111T173000
DTEND;TZID=Europe/Rome:20260111T173000
DTSTAMP:20260422T091827
CREATED:20260103T091730Z
LAST-MODIFIED:20260103T091730Z
UID:7773-1768152600-1768152600@passpartout.art
SUMMARY:Esplosioni chimiche
DESCRIPTION:Boom! Bam! Kra-Koom! Claps! Questi saranno i suoni di questa attività che vedrà i partecipanti realizzare una serie di esplosioni (in sicurezza!) per apprendere come si attivano\, grazie a un violento rilascio di energia termica o meccanica. Un’attività divertente con l’obiettivo di apprendere semplici concetti di sicurezza per evitare di trovarsi in brutte situazioni nella vita di tutti i giorni.
URL:https://passpartout.art/evento/esplosioni-chimiche-12/
CATEGORIES:Planetari musei scientifici osservatori
END:VEVENT
BEGIN:VEVENT
DTSTART;TZID=Europe/Rome:20260117T110000
DTEND;TZID=Europe/Rome:20260117T110000
DTSTAMP:20260422T091827
CREATED:20260103T091931Z
LAST-MODIFIED:20260103T091931Z
UID:7776-1768647600-1768647600@passpartout.art
SUMMARY:Fuoco e fulmini
DESCRIPTION:La capacità di padroneggiare il fuoco ha sempre affascinato gli esseri umani fin dall’antichità e grazie alla scienza ne abbiamo appreso tutti i segreti. In questo laboratorio il fuoco sarà generato e domato grazie alla chimica\, per scoprire che il fuoco altro non è che una reazione esotermica e che tale reazione può prodursi anche grazie ai fulmini. Un laboratorio scoppiettante e ricco di sorprese.
URL:https://passpartout.art/evento/fuoco-e-fulmini-6/
CATEGORIES:Planetari musei scientifici osservatori
END:VEVENT
BEGIN:VEVENT
DTSTART;TZID=Europe/Rome:20260117T160000
DTEND;TZID=Europe/Rome:20260117T160000
DTSTAMP:20260422T091827
CREATED:20260103T092131Z
LAST-MODIFIED:20260103T092131Z
UID:7780-1768665600-1768665600@passpartout.art
SUMMARY:Cucine esplosive
DESCRIPTION:Vi siete mai chieste se la frutta può esplodere come dinamite? Un palloncino scoppiare con un agrume? Se la farina è come polvere da sparo? Una serie di esplosioni generate utilizzando solo ingredienti presenti in cucina. Un susseguirsi di esperimenti scientifici che lasceranno a bocca aperta dando un “sapore” del tutto nuovo alla scienza.
URL:https://passpartout.art/evento/cucine-esplosive-7/
CATEGORIES:Planetari musei scientifici osservatori
END:VEVENT
BEGIN:VEVENT
DTSTART;TZID=Europe/Rome:20260117T173000
DTEND;TZID=Europe/Rome:20260117T173000
DTSTAMP:20260422T091827
CREATED:20260103T091931Z
LAST-MODIFIED:20260103T091931Z
UID:7777-1768671000-1768671000@passpartout.art
SUMMARY:Fuoco e fulmini
DESCRIPTION:La capacità di padroneggiare il fuoco ha sempre affascinato gli esseri umani fin dall’antichità e grazie alla scienza ne abbiamo appreso tutti i segreti. In questo laboratorio il fuoco sarà generato e domato grazie alla chimica\, per scoprire che il fuoco altro non è che una reazione esotermica e che tale reazione può prodursi anche grazie ai fulmini. Un laboratorio scoppiettante e ricco di sorprese.
URL:https://passpartout.art/evento/fuoco-e-fulmini-7/
CATEGORIES:Planetari musei scientifici osservatori
END:VEVENT
BEGIN:VEVENT
DTSTART;TZID=Europe/Rome:20260118T110000
DTEND;TZID=Europe/Rome:20260118T110000
DTSTAMP:20260422T091827
CREATED:20260103T091931Z
LAST-MODIFIED:20260103T091931Z
UID:7778-1768734000-1768734000@passpartout.art
SUMMARY:Fuoco e fulmini
DESCRIPTION:La capacità di padroneggiare il fuoco ha sempre affascinato gli esseri umani fin dall’antichità e grazie alla scienza ne abbiamo appreso tutti i segreti. In questo laboratorio il fuoco sarà generato e domato grazie alla chimica\, per scoprire che il fuoco altro non è che una reazione esotermica e che tale reazione può prodursi anche grazie ai fulmini. Un laboratorio scoppiettante e ricco di sorprese.
URL:https://passpartout.art/evento/fuoco-e-fulmini-8/
CATEGORIES:Planetari musei scientifici osservatori
END:VEVENT
BEGIN:VEVENT
DTSTART;TZID=Europe/Rome:20260118T160000
DTEND;TZID=Europe/Rome:20260118T160000
DTSTAMP:20260422T091827
CREATED:20260103T092132Z
LAST-MODIFIED:20260103T092132Z
UID:7781-1768752000-1768752000@passpartout.art
SUMMARY:Cucine esplosive
DESCRIPTION:Vi siete mai chieste se la frutta può esplodere come dinamite? Un palloncino scoppiare con un agrume? Se la farina è come polvere da sparo? Una serie di esplosioni generate utilizzando solo ingredienti presenti in cucina. Un susseguirsi di esperimenti scientifici che lasceranno a bocca aperta dando un “sapore” del tutto nuovo alla scienza.
URL:https://passpartout.art/evento/cucine-esplosive-8/
CATEGORIES:Planetari musei scientifici osservatori
END:VEVENT
BEGIN:VEVENT
DTSTART;TZID=Europe/Rome:20260118T173000
DTEND;TZID=Europe/Rome:20260118T173000
DTSTAMP:20260422T091827
CREATED:20260103T091931Z
LAST-MODIFIED:20260103T091931Z
UID:7779-1768757400-1768757400@passpartout.art
SUMMARY:Fuoco e fulmini
DESCRIPTION:La capacità di padroneggiare il fuoco ha sempre affascinato gli esseri umani fin dall’antichità e grazie alla scienza ne abbiamo appreso tutti i segreti. In questo laboratorio il fuoco sarà generato e domato grazie alla chimica\, per scoprire che il fuoco altro non è che una reazione esotermica e che tale reazione può prodursi anche grazie ai fulmini. Un laboratorio scoppiettante e ricco di sorprese.
URL:https://passpartout.art/evento/fuoco-e-fulmini-9/
CATEGORIES:Planetari musei scientifici osservatori
END:VEVENT
BEGIN:VEVENT
DTSTART;TZID=Europe/Rome:20260124T110000
DTEND;TZID=Europe/Rome:20260124T110000
DTSTAMP:20260422T091827
CREATED:20260103T092132Z
LAST-MODIFIED:20260103T092132Z
UID:7782-1769252400-1769252400@passpartout.art
SUMMARY:PICCOLO CHIMICO/PICCOLA CHIMICA
DESCRIPTION:In tanti ci hanno giocato da piccoli\, è uno dei giochi più famosi al mondo e ha più di 100 anni. In questo laboratorio riceverete un kit per chimici/e in erba con cui sperimentare una serie di reazioni\, da quelle esplosive a quelle che fanno cambiare colore ai liquidi. Un concentrato di esperienze per conoscere questa affascinante materia: la chimica!
URL:https://passpartout.art/evento/piccolo-chimico-piccola-chimica-5/
CATEGORIES:Planetari musei scientifici osservatori
END:VEVENT
BEGIN:VEVENT
DTSTART;TZID=Europe/Rome:20260124T160000
DTEND;TZID=Europe/Rome:20260124T160000
DTSTAMP:20260422T091827
CREATED:20260103T092132Z
LAST-MODIFIED:20260103T092132Z
UID:7784-1769270400-1769270400@passpartout.art
SUMMARY:REACTION SHOW
DESCRIPTION:Un incalzante susseguirsi di reazioni chimiche\, dinamico e divertente\, passando da cambi di colore a reazioni di ossidazione. Un percorso sulla conoscenza di reazioni chimiche comuni ma anche complesse\, realizzate in maniera scientificamente rigorosa ma scenograficamente spettacolare. Un crescendo coinvolgente che accompagna il pubblico dentro i meccanismi che spesso sono chiusi dentro un laboratorio e li proietta alla scoperta di ciò che avviene tra reagenti e composti chimici.
URL:https://passpartout.art/evento/reaction-show-12/
CATEGORIES:Planetari musei scientifici osservatori
END:VEVENT
BEGIN:VEVENT
DTSTART;TZID=Europe/Rome:20260124T173000
DTEND;TZID=Europe/Rome:20260124T173000
DTSTAMP:20260422T091827
CREATED:20260103T092132Z
LAST-MODIFIED:20260103T092132Z
UID:7783-1769275800-1769275800@passpartout.art
SUMMARY:PICCOLO CHIMICO/PICCOLA CHIMICA
DESCRIPTION:In tanti ci hanno giocato da piccoli\, è uno dei giochi più famosi al mondo e ha più di 100 anni. In questo laboratorio riceverete un kit per chimici/e in erba con cui sperimentare una serie di reazioni\, da quelle esplosive a quelle che fanno cambiare colore ai liquidi. Un concentrato di esperienze per conoscere questa affascinante materia: la chimica!
URL:https://passpartout.art/evento/piccolo-chimico-piccola-chimica-6/
CATEGORIES:Planetari musei scientifici osservatori
END:VEVENT
BEGIN:VEVENT
DTSTART;TZID=Europe/Rome:20260131T160000
DTEND;TZID=Europe/Rome:20260131T160000
DTSTAMP:20260422T091827
CREATED:20260103T091730Z
LAST-MODIFIED:20260103T091730Z
UID:7774-1769875200-1769875200@passpartout.art
SUMMARY:CHIMICI IGNOTI
DESCRIPTION:Un gameshow coinvolgente e adrenalinico\, in cui i concorrenti dovranno abbinare gli elementi della tavola periodica alle loro caratteristiche più curiose. Tra esperimenti\, suggerimenti e strategie sveleremo le identità nascoste degli atomi!
URL:https://passpartout.art/evento/chimici-ignoti-9/
CATEGORIES:Planetari musei scientifici osservatori
END:VEVENT
BEGIN:VEVENT
DTSTART;TZID=Europe/Rome:20260131T160000
DTEND;TZID=Europe/Rome:20260131T160000
DTSTAMP:20260422T091827
CREATED:20260103T092332Z
LAST-MODIFIED:20260103T092332Z
UID:7785-1769875200-1769875200@passpartout.art
SUMMARY:LA CHIMICA DEI PET – PURINA
DESCRIPTION:Scopri il meraviglioso mondo degli animali da compagnia!\nAttraverso attività interattive\, esploreremo chi sono i pet\, come la chimica influenza il loro mondo e quanto sia importante prendersi cura di loro in modo sostenibile. Un viaggio educativo e divertente per imparare a conoscere meglio i nostri amici a quattro zampe e il loro legame speciale con l’ambiente!
URL:https://passpartout.art/evento/la-chimica-dei-pet-purina/
CATEGORIES:Planetari musei scientifici osservatori
END:VEVENT
BEGIN:VEVENT
DTSTART;TZID=Europe/Rome:20260131T173000
DTEND;TZID=Europe/Rome:20260131T173000
DTSTAMP:20260422T091827
CREATED:20260103T092333Z
LAST-MODIFIED:20260103T092333Z
UID:7786-1769880600-1769880600@passpartout.art
SUMMARY:SLIME E ALTRE SCHIFEZZE
DESCRIPTION:Gelatinosi\, viscidi\, appiccicosi! La chimica può realizzare materiali con consistenze veramente diverse e produrre sostanze con cui giocare in totale sicurezza. Un laboratorio incentrato su sostanze dalla consistenza particolare per scoprirne i loro segreti\, come farli e portare a casa della chimica Hand Made!
URL:https://passpartout.art/evento/slime-e-altre-schifezze-7/
CATEGORIES:Planetari musei scientifici osservatori
END:VEVENT
END:VCALENDAR