BEGIN:VCALENDAR
VERSION:2.0
PRODID:-//Passpartout - ECPv6.15.20//NONSGML v1.0//EN
CALSCALE:GREGORIAN
METHOD:PUBLISH
X-ORIGINAL-URL:https://passpartout.art
X-WR-CALDESC:Eventi per Passpartout
REFRESH-INTERVAL;VALUE=DURATION:PT1H
X-Robots-Tag:noindex
X-PUBLISHED-TTL:PT1H
BEGIN:VTIMEZONE
TZID:Europe/Rome
BEGIN:DAYLIGHT
TZOFFSETFROM:+0100
TZOFFSETTO:+0200
TZNAME:CEST
DTSTART:20240331T010000
END:DAYLIGHT
BEGIN:STANDARD
TZOFFSETFROM:+0200
TZOFFSETTO:+0100
TZNAME:CET
DTSTART:20241027T010000
END:STANDARD
BEGIN:DAYLIGHT
TZOFFSETFROM:+0100
TZOFFSETTO:+0200
TZNAME:CEST
DTSTART:20250330T010000
END:DAYLIGHT
BEGIN:STANDARD
TZOFFSETFROM:+0200
TZOFFSETTO:+0100
TZNAME:CET
DTSTART:20251026T010000
END:STANDARD
BEGIN:DAYLIGHT
TZOFFSETFROM:+0100
TZOFFSETTO:+0200
TZNAME:CEST
DTSTART:20260329T010000
END:DAYLIGHT
BEGIN:STANDARD
TZOFFSETFROM:+0200
TZOFFSETTO:+0100
TZNAME:CET
DTSTART:20261025T010000
END:STANDARD
END:VTIMEZONE
BEGIN:VEVENT
DTSTART;TZID=Europe/Rome:20251004T110000
DTEND;TZID=Europe/Rome:20251004T110000
DTSTAMP:20260423T054844
CREATED:20251003T155006Z
LAST-MODIFIED:20251003T155006Z
UID:7347-1759575600-1759575600@passpartout.art
SUMMARY:PICCOLO CHIMICO/PICCOLA CHIMICA
DESCRIPTION:In tanti ci hanno giocato da piccoli\, è uno dei giochi più famosi al mondo e ha più di 100 anni. In questo laboratorio riceverete un kit per chimici/e in erba con cui sperimentare una serie di reazioni\, da quelle esplosive a quelle che fanno cambiare colore ai liquidi. Un concentrato di esperienze per conoscere questa affascinante materia: la chimica!
URL:https://passpartout.art/evento/piccolo-chimico-piccola-chimica/
CATEGORIES:Planetari musei scientifici osservatori
END:VEVENT
BEGIN:VEVENT
DTSTART;TZID=Europe/Rome:20251004T160000
DTEND;TZID=Europe/Rome:20251004T160000
DTSTAMP:20260423T054844
CREATED:20251003T155007Z
LAST-MODIFIED:20251003T155007Z
UID:7348-1759593600-1759593600@passpartout.art
SUMMARY:CUCINE ESPLOSIVE
DESCRIPTION:Vi siete mai chieste se la frutta può esplodere come dinamite? Un palloncino scoppiare con un agrume? Se la farina è come polvere da sparo? Una serie di esplosioni generate utilizzando solo ingredienti presenti in cucina. Un susseguirsi di esperimenti scientifici che lasceranno a bocca aperta dando un “sapore” del tutto nuovo alla scienza.
URL:https://passpartout.art/evento/cucine-esplosive-2/
CATEGORIES:Planetari musei scientifici osservatori
END:VEVENT
BEGIN:VEVENT
DTSTART;TZID=Europe/Rome:20251004T170000
DTEND;TZID=Europe/Rome:20251004T170000
DTSTAMP:20260423T054844
CREATED:20251003T155007Z
LAST-MODIFIED:20251003T155007Z
UID:7349-1759597200-1759597200@passpartout.art
SUMMARY:PICCOLO CHIMICO/PICCOLA CHIMICA
DESCRIPTION:In tanti ci hanno giocato da piccoli\, è uno dei giochi più famosi al mondo e ha più di 100 anni. In questo laboratorio riceverete un kit per chimici/e in erba con cui sperimentare una serie di reazioni\, da quelle esplosive a quelle che fanno cambiare colore ai liquidi. Un concentrato di esperienze per conoscere questa affascinante materia: la chimica!
URL:https://passpartout.art/evento/piccolo-chimico-piccola-chimica-2/
CATEGORIES:Planetari musei scientifici osservatori
END:VEVENT
BEGIN:VEVENT
DTSTART;TZID=Europe/Rome:20251005T103000
DTEND;TZID=Europe/Rome:20251005T103000
DTSTAMP:20260423T054844
CREATED:20251003T155020Z
LAST-MODIFIED:20251003T155020Z
UID:7350-1759660200-1759660200@passpartout.art
SUMMARY:PAPER SCIENCE
DESCRIPTION:In un luogo che un tempo ospitava una fabbrica di vernici\, esploreremo insieme le incredibili potenzialità di questo materiale così comune ma straordinario\, osservandolo da una prospettiva nuova e affascinante. Durante il laboratorio\, osserveremo al microscopio diversi tipi di carta\, svelando trame\, fibre e strutture invisibili a occhio nudo\, per capire cosa rende ogni foglio unico e adatto a usi differenti. Ma la carta non è solo supporto: è anche protagonista di esperimenti scientifici e creativi. Con la cromatografia su carta\, scopriremo come questo materiale può aiutarci a separare e studiare i pigmenti contenuti nei colori di tutti i giorni. Un esperimento divertente che trasforma la carta in strumento di indagine! Infine\, grazie alla tecnica della cianotipia\, la carta si trasformerà in una superficie fotosensibile\, capace di catturare immagini con la sola luce. Un esempio affascinante della versatilità della carta\, che si rivela un supporto ideale per esplorare molteplici aspetti della scienza.
URL:https://passpartout.art/evento/paper-science/
CATEGORIES:Planetari musei scientifici osservatori
END:VEVENT
BEGIN:VEVENT
DTSTART;TZID=Europe/Rome:20251005T173000
DTEND;TZID=Europe/Rome:20251005T173000
DTSTAMP:20260423T054844
CREATED:20251003T155021Z
LAST-MODIFIED:20251003T155021Z
UID:7351-1759685400-1759685400@passpartout.art
SUMMARY:PAPER SCIENCE
DESCRIPTION:In un luogo che un tempo ospitava una fabbrica di vernici\, esploreremo insieme le incredibili potenzialità di questo materiale così comune ma straordinario\, osservandolo da una prospettiva nuova e affascinante. Durante il laboratorio\, osserveremo al microscopio diversi tipi di carta\, svelando trame\, fibre e strutture invisibili a occhio nudo\, per capire cosa rende ogni foglio unico e adatto a usi differenti. Ma la carta non è solo supporto: è anche protagonista di esperimenti scientifici e creativi. Con la cromatografia su carta\, scopriremo come questo materiale può aiutarci a separare e studiare i pigmenti contenuti nei colori di tutti i giorni. Un esperimento divertente che trasforma la carta in strumento di indagine! Infine\, grazie alla tecnica della cianotipia\, la carta si trasformerà in una superficie fotosensibile\, capace di catturare immagini con la sola luce. Un esempio affascinante della versatilità della carta\, che si rivela un supporto ideale per esplorare molteplici aspetti della scienza.
URL:https://passpartout.art/evento/paper-science-2/
CATEGORIES:Planetari musei scientifici osservatori
END:VEVENT
BEGIN:VEVENT
DTSTART;TZID=Europe/Rome:20251011T110000
DTEND;TZID=Europe/Rome:20251011T110000
DTSTAMP:20260423T054844
CREATED:20251003T155050Z
LAST-MODIFIED:20251003T155050Z
UID:7360-1760180400-1760180400@passpartout.art
SUMMARY:ESPLOSIONI CHIMICHE
DESCRIPTION:Boom! Bam! Kra-Koom! Claps! Questi saranno i suoni di questa attività che vedrà i partecipanti realizzare una serie di esplosioni (in sicurezza!) per apprendere come si attivano\, grazie a un violento rilascio di energia termica o meccanica. Un’attività divertente con l’obiettivo di apprendere semplici concetti di sicurezza per evitare di trovarsi in brutte situazioni nella vita di tutti i giorni.
URL:https://passpartout.art/evento/esplosioni-chimiche-6/
CATEGORIES:Planetari musei scientifici osservatori
END:VEVENT
BEGIN:VEVENT
DTSTART;TZID=Europe/Rome:20251011T160000
DTEND;TZID=Europe/Rome:20251011T160000
DTSTAMP:20260423T054844
CREATED:20251003T155035Z
LAST-MODIFIED:20251003T155035Z
UID:7355-1760198400-1760198400@passpartout.art
SUMMARY:REACTION SHOW
DESCRIPTION:Un incalzante susseguirsi di reazioni chimiche\, dinamico e divertente\, passando da cambi di colore a reazioni di ossidazione. Un percorso sulla conoscenza di reazioni chimiche comuni ma anche complesse\, realizzate in maniera scientificamente rigorosa ma scenograficamente spettacolare. Un crescendo coinvolgente che accompagna il pubblico dentro i meccanismi che spesso sono chiusi dentro un laboratorio e li proietta alla scoperta di ciò che avviene tra reagenti e composti chimici.
URL:https://passpartout.art/evento/reaction-show-3/
CATEGORIES:Planetari musei scientifici osservatori
END:VEVENT
BEGIN:VEVENT
DTSTART;TZID=Europe/Rome:20251011T173000
DTEND;TZID=Europe/Rome:20251011T173000
DTSTAMP:20260423T054844
CREATED:20251003T155037Z
LAST-MODIFIED:20251003T155037Z
UID:7359-1760203800-1760203800@passpartout.art
SUMMARY:ESPLOSIONI CHIMICHE
DESCRIPTION:Boom! Bam! Kra-Koom! Claps! Questi saranno i suoni di questa attività che vedrà i partecipanti realizzare una serie di esplosioni (in sicurezza!) per apprendere come si attivano\, grazie a un violento rilascio di energia termica o meccanica. Un’attività divertente con l’obiettivo di apprendere semplici concetti di sicurezza per evitare di trovarsi in brutte situazioni nella vita di tutti i giorni.
URL:https://passpartout.art/evento/esplosioni-chimiche-5/
CATEGORIES:Planetari musei scientifici osservatori
END:VEVENT
BEGIN:VEVENT
DTSTART;TZID=Europe/Rome:20251012T110000
DTEND;TZID=Europe/Rome:20251012T110000
DTSTAMP:20260423T054844
CREATED:20251003T155051Z
LAST-MODIFIED:20251003T155051Z
UID:7362-1760266800-1760266800@passpartout.art
SUMMARY:ESPLOSIONI CHIMICHE
DESCRIPTION:Boom! Bam! Kra-Koom! Claps! Questi saranno i suoni di questa attività che vedrà i partecipanti realizzare una serie di esplosioni (in sicurezza!) per apprendere come si attivano\, grazie a un violento rilascio di energia termica o meccanica. Un’attività divertente con l’obiettivo di apprendere semplici concetti di sicurezza per evitare di trovarsi in brutte situazioni nella vita di tutti i giorni.
URL:https://passpartout.art/evento/esplosioni-chimiche-8/
CATEGORIES:Planetari musei scientifici osservatori
END:VEVENT
BEGIN:VEVENT
DTSTART;TZID=Europe/Rome:20251012T160000
DTEND;TZID=Europe/Rome:20251012T160000
DTSTAMP:20260423T054844
CREATED:20251003T155035Z
LAST-MODIFIED:20251003T155035Z
UID:7356-1760284800-1760284800@passpartout.art
SUMMARY:REACTION SHOW
DESCRIPTION:Un incalzante susseguirsi di reazioni chimiche\, dinamico e divertente\, passando da cambi di colore a reazioni di ossidazione. Un percorso sulla conoscenza di reazioni chimiche comuni ma anche complesse\, realizzate in maniera scientificamente rigorosa ma scenograficamente spettacolare. Un crescendo coinvolgente che accompagna il pubblico dentro i meccanismi che spesso sono chiusi dentro un laboratorio e li proietta alla scoperta di ciò che avviene tra reagenti e composti chimici.
URL:https://passpartout.art/evento/reaction-show-4/
CATEGORIES:Planetari musei scientifici osservatori
END:VEVENT
BEGIN:VEVENT
DTSTART;TZID=Europe/Rome:20251012T173000
DTEND;TZID=Europe/Rome:20251012T173000
DTSTAMP:20260423T054844
CREATED:20251003T155050Z
LAST-MODIFIED:20251003T155050Z
UID:7361-1760290200-1760290200@passpartout.art
SUMMARY:ESPLOSIONI CHIMICHE
DESCRIPTION:Boom! Bam! Kra-Koom! Claps! Questi saranno i suoni di questa attività che vedrà i partecipanti realizzare una serie di esplosioni (in sicurezza!) per apprendere come si attivano\, grazie a un violento rilascio di energia termica o meccanica. Un’attività divertente con l’obiettivo di apprendere semplici concetti di sicurezza per evitare di trovarsi in brutte situazioni nella vita di tutti i giorni.
URL:https://passpartout.art/evento/esplosioni-chimiche-7/
CATEGORIES:Planetari musei scientifici osservatori
END:VEVENT
BEGIN:VEVENT
DTSTART;TZID=Europe/Rome:20251019T160000
DTEND;TZID=Europe/Rome:20251019T160000
DTSTAMP:20260423T054844
CREATED:20251003T155022Z
LAST-MODIFIED:20251003T155022Z
UID:7354-1760889600-1760889600@passpartout.art
SUMMARY:CHIMICI IGNOTI
DESCRIPTION:Un gameshow coinvolgente e adrenalinico\, in cui i concorrenti dovranno abbinare gli elementi della tavola periodica alle loro caratteristiche più curiose. Tra esperimenti\, suggerimenti e strategie sveleremo le identità nascoste degli atomi!
URL:https://passpartout.art/evento/chimici-ignoti-3/
CATEGORIES:Planetari musei scientifici osservatori
END:VEVENT
BEGIN:VEVENT
DTSTART;TZID=Europe/Rome:20251025T160000
DTEND;TZID=Europe/Rome:20251025T160000
DTSTAMP:20260423T054844
CREATED:20251003T155036Z
LAST-MODIFIED:20251003T155036Z
UID:7357-1761408000-1761408000@passpartout.art
SUMMARY:REACTION SHOW
DESCRIPTION:Un incalzante susseguirsi di reazioni chimiche\, dinamico e divertente\, passando da cambi di colore a reazioni di ossidazione. Un percorso sulla conoscenza di reazioni chimiche comuni ma anche complesse\, realizzate in maniera scientificamente rigorosa ma scenograficamente spettacolare. Un crescendo coinvolgente che accompagna il pubblico dentro i meccanismi che spesso sono chiusi dentro un laboratorio e li proietta alla scoperta di ciò che avviene tra reagenti e composti chimici.
URL:https://passpartout.art/evento/reaction-show-5/
CATEGORIES:Planetari musei scientifici osservatori
END:VEVENT
BEGIN:VEVENT
DTSTART;TZID=Europe/Rome:20251026T160000
DTEND;TZID=Europe/Rome:20251026T160000
DTSTAMP:20260423T054844
CREATED:20251003T155036Z
LAST-MODIFIED:20251003T155036Z
UID:7358-1761494400-1761494400@passpartout.art
SUMMARY:REACTION SHOW
DESCRIPTION:Un incalzante susseguirsi di reazioni chimiche\, dinamico e divertente\, passando da cambi di colore a reazioni di ossidazione. Un percorso sulla conoscenza di reazioni chimiche comuni ma anche complesse\, realizzate in maniera scientificamente rigorosa ma scenograficamente spettacolare. Un crescendo coinvolgente che accompagna il pubblico dentro i meccanismi che spesso sono chiusi dentro un laboratorio e li proietta alla scoperta di ciò che avviene tra reagenti e composti chimici.
URL:https://passpartout.art/evento/reaction-show-6/
CATEGORIES:Planetari musei scientifici osservatori
END:VEVENT
END:VCALENDAR