BEGIN:VCALENDAR
VERSION:2.0
PRODID:-//Passpartout - ECPv6.15.20//NONSGML v1.0//EN
CALSCALE:GREGORIAN
METHOD:PUBLISH
X-WR-CALNAME:Passpartout
X-ORIGINAL-URL:https://passpartout.art
X-WR-CALDESC:Eventi per Passpartout
REFRESH-INTERVAL;VALUE=DURATION:PT1H
X-Robots-Tag:noindex
X-PUBLISHED-TTL:PT1H
BEGIN:VTIMEZONE
TZID:Europe/Rome
BEGIN:DAYLIGHT
TZOFFSETFROM:+0100
TZOFFSETTO:+0200
TZNAME:CEST
DTSTART:20240331T010000
END:DAYLIGHT
BEGIN:STANDARD
TZOFFSETFROM:+0200
TZOFFSETTO:+0100
TZNAME:CET
DTSTART:20241027T010000
END:STANDARD
BEGIN:DAYLIGHT
TZOFFSETFROM:+0100
TZOFFSETTO:+0200
TZNAME:CEST
DTSTART:20250330T010000
END:DAYLIGHT
BEGIN:STANDARD
TZOFFSETFROM:+0200
TZOFFSETTO:+0100
TZNAME:CET
DTSTART:20251026T010000
END:STANDARD
BEGIN:DAYLIGHT
TZOFFSETFROM:+0100
TZOFFSETTO:+0200
TZNAME:CEST
DTSTART:20260329T010000
END:DAYLIGHT
BEGIN:STANDARD
TZOFFSETFROM:+0200
TZOFFSETTO:+0100
TZNAME:CET
DTSTART:20261025T010000
END:STANDARD
END:VTIMEZONE
BEGIN:VEVENT
DTSTART;TZID=Europe/Rome:20250906T160000
DTEND;TZID=Europe/Rome:20250906T160000
DTSTAMP:20260423T035448
CREATED:20250826T214114Z
LAST-MODIFIED:20250826T214114Z
UID:7294-1757174400-1757174400@passpartout.art
SUMMARY:CHIMICI IGNOTI
DESCRIPTION:Un gameshow coinvolgente e adrenalinico\, in cui i concorrenti dovranno abbinare gli elementi della tavola periodica alle loro caratteristiche più curiose. Tra esperimenti\, suggerimenti e strategie sveleremo le identità nascoste degli atomi!
URL:https://passpartout.art/evento/chimici-ignoti/
CATEGORIES:Planetari musei scientifici osservatori
END:VEVENT
BEGIN:VEVENT
DTSTART;TZID=Europe/Rome:20250906T173000
DTEND;TZID=Europe/Rome:20250906T173000
DTSTAMP:20260423T035448
CREATED:20250826T214114Z
LAST-MODIFIED:20250826T214114Z
UID:7295-1757179800-1757179800@passpartout.art
SUMMARY:SLIME E ALTRE SCHIFEZZE
DESCRIPTION:Gelatinosi\, viscidi\, appiccicosi! La chimica può realizzare materiali con consistenze veramente diverse e produrre sostanze con cui giocare in totale sicurezza. Un laboratorio incentrato su sostanze dalla consistenza particolare per scoprirne i loro segreti\, come farli e portare a casa della chimica Hand Made!
URL:https://passpartout.art/evento/slime-e-altre-schifezze/
CATEGORIES:Planetari musei scientifici osservatori
END:VEVENT
BEGIN:VEVENT
DTSTART;TZID=Europe/Rome:20250907T160000
DTEND;TZID=Europe/Rome:20250907T160000
DTSTAMP:20260423T035448
CREATED:20250826T214115Z
LAST-MODIFIED:20250826T214115Z
UID:7296-1757260800-1757260800@passpartout.art
SUMMARY:CHIMICI IGNOTI
DESCRIPTION:Un gameshow coinvolgente e adrenalinico\, in cui i concorrenti dovranno abbinare gli elementi della tavola periodica alle loro caratteristiche più curiose. Tra esperimenti\, suggerimenti e strategie sveleremo le identità nascoste degli atomi!
URL:https://passpartout.art/evento/chimici-ignoti-2/
CATEGORIES:Planetari musei scientifici osservatori
END:VEVENT
BEGIN:VEVENT
DTSTART;TZID=Europe/Rome:20250907T173000
DTEND;TZID=Europe/Rome:20250907T173000
DTSTAMP:20260423T035448
CREATED:20250826T214115Z
LAST-MODIFIED:20250826T214115Z
UID:7297-1757266200-1757266200@passpartout.art
SUMMARY:SLIME E ALTRE SCHIFEZZE
DESCRIPTION:Gelatinosi\, viscidi\, appiccicosi! La chimica può realizzare materiali con consistenze veramente diverse e produrre sostanze con cui giocare in totale sicurezza. Un laboratorio incentrato su sostanze dalla consistenza particolare per scoprirne i loro segreti\, come farli e portare a casa della chimica Hand Made!
URL:https://passpartout.art/evento/slime-e-altre-schifezze-2/
CATEGORIES:Planetari musei scientifici osservatori
END:VEVENT
BEGIN:VEVENT
DTSTART;TZID=Europe/Rome:20250913T110000
DTEND;TZID=Europe/Rome:20250913T110000
DTSTAMP:20260423T035448
CREATED:20250826T214115Z
LAST-MODIFIED:20250826T214115Z
UID:7298-1757761200-1757761200@passpartout.art
SUMMARY:ESPLOSIONI CHIMICHE
DESCRIPTION:Boom! Bam! Kra-Koom! Claps! Questi saranno i suoni di questa attività che vedrà i partecipanti realizzare una serie di esplosioni (in sicurezza!) per apprendere come si attivano\, grazie a un violento rilascio di energia termica o meccanica. Un’attività divertente con l’obiettivo di apprendere semplici concetti di sicurezza per evitare di trovarsi in brutte situazioni nella vita di tutti i giorni.
URL:https://passpartout.art/evento/esplosioni-chimiche/
CATEGORIES:Planetari musei scientifici osservatori
END:VEVENT
BEGIN:VEVENT
DTSTART;TZID=Europe/Rome:20250913T160000
DTEND;TZID=Europe/Rome:20250913T160000
DTSTAMP:20260423T035448
CREATED:20250826T214129Z
LAST-MODIFIED:20250826T214129Z
UID:7299-1757779200-1757779200@passpartout.art
SUMMARY:REACTION SHOW
DESCRIPTION:Un incalzante susseguirsi di reazioni chimiche\, dinamico e divertente\, passando da cambi di colore a reazioni di ossidazione. Un percorso sulla conoscenza di reazioni chimiche comuni ma anche complesse\, realizzate in maniera scientificamente rigorosa ma scenograficamente spettacolare. Un crescendo coinvolgente che accompagna il pubblico dentro i meccanismi che spesso sono chiusi dentro un laboratorio e li proietta alla scoperta di ciò che avviene tra reagenti e composti chimici.
URL:https://passpartout.art/evento/reaction-show/
CATEGORIES:Planetari musei scientifici osservatori
END:VEVENT
BEGIN:VEVENT
DTSTART;TZID=Europe/Rome:20250913T173000
DTEND;TZID=Europe/Rome:20250913T173000
DTSTAMP:20260423T035448
CREATED:20250826T214129Z
LAST-MODIFIED:20250826T214129Z
UID:7300-1757784600-1757784600@passpartout.art
SUMMARY:ESPLOSIONI CHIMICHE
DESCRIPTION:Boom! Bam! Kra-Koom! Claps! Questi saranno i suoni di questa attività che vedrà i partecipanti realizzare una serie di esplosioni (in sicurezza!) per apprendere come si attivano\, grazie a un violento rilascio di energia termica o meccanica. Un’attività divertente con l’obiettivo di apprendere semplici concetti di sicurezza per evitare di trovarsi in brutte situazioni nella vita di tutti i giorni.
URL:https://passpartout.art/evento/esplosioni-chimiche-2/
CATEGORIES:Planetari musei scientifici osservatori
END:VEVENT
BEGIN:VEVENT
DTSTART;TZID=Europe/Rome:20250914T110000
DTEND;TZID=Europe/Rome:20250914T110000
DTSTAMP:20260423T035448
CREATED:20250826T214130Z
LAST-MODIFIED:20250826T214130Z
UID:7301-1757847600-1757847600@passpartout.art
SUMMARY:ESPLOSIONI CHIMICHE
DESCRIPTION:Boom! Bam! Kra-Koom! Claps! Questi saranno i suoni di questa attività che vedrà i partecipanti realizzare una serie di esplosioni (in sicurezza!) per apprendere come si attivano\, grazie a un violento rilascio di energia termica o meccanica. Un’attività divertente con l’obiettivo di apprendere semplici concetti di sicurezza per evitare di trovarsi in brutte situazioni nella vita di tutti i giorni.
URL:https://passpartout.art/evento/esplosioni-chimiche-3/
CATEGORIES:Planetari musei scientifici osservatori
END:VEVENT
BEGIN:VEVENT
DTSTART;TZID=Europe/Rome:20250914T173000
DTEND;TZID=Europe/Rome:20250914T173000
DTSTAMP:20260423T035448
CREATED:20250826T214130Z
LAST-MODIFIED:20250826T214130Z
UID:7302-1757871000-1757871000@passpartout.art
SUMMARY:REACTION SHOW
DESCRIPTION:Un incalzante susseguirsi di reazioni chimiche\, dinamico e divertente\, passando da cambi di colore a reazioni di ossidazione. Un percorso sulla conoscenza di reazioni chimiche comuni ma anche complesse\, realizzate in maniera scientificamente rigorosa ma scenograficamente spettacolare. Un crescendo coinvolgente che accompagna il pubblico dentro i meccanismi che spesso sono chiusi dentro un laboratorio e li proietta alla scoperta di ciò che avviene tra reagenti e composti chimici.
URL:https://passpartout.art/evento/reaction-show-2/
CATEGORIES:Planetari musei scientifici osservatori
END:VEVENT
BEGIN:VEVENT
DTSTART;TZID=Europe/Rome:20250914T173000
DTEND;TZID=Europe/Rome:20250914T173000
DTSTAMP:20260423T035448
CREATED:20250826T214130Z
LAST-MODIFIED:20250826T214130Z
UID:7303-1757871000-1757871000@passpartout.art
SUMMARY:ESPLOSIONI CHIMICHE
DESCRIPTION:Boom! Bam! Kra-Koom! Claps! Questi saranno i suoni di questa attività che vedrà i partecipanti realizzare una serie di esplosioni (in sicurezza!) per apprendere come si attivano\, grazie a un violento rilascio di energia termica o meccanica. Un’attività divertente con l’obiettivo di apprendere semplici concetti di sicurezza per evitare di trovarsi in brutte situazioni nella vita di tutti i giorni.
URL:https://passpartout.art/evento/esplosioni-chimiche-4/
CATEGORIES:Planetari musei scientifici osservatori
END:VEVENT
BEGIN:VEVENT
DTSTART;TZID=Europe/Rome:20250920T110000
DTEND;TZID=Europe/Rome:20250920T110000
DTSTAMP:20260423T035448
CREATED:20250826T214144Z
LAST-MODIFIED:20250826T214144Z
UID:7304-1758366000-1758366000@passpartout.art
SUMMARY:FUOCO E FULMINI
DESCRIPTION:La capacità di padroneggiare il fuoco ha sempre affascinato gli esseri umani fin dall’antichità e grazie alla scienza ne abbiamo appreso tutti i segreti. In questo laboratorio il fuoco sarà generato e domato grazie alla chimica\, per scoprire che il fuoco altro non è che una reazione esotermica e che tale reazione può prodursi anche grazie ai fulmini. Un laboratorio scoppiettante e ricco di sorprese.
URL:https://passpartout.art/evento/fuoco-e-fulmini/
CATEGORIES:Planetari musei scientifici osservatori
END:VEVENT
BEGIN:VEVENT
DTSTART;TZID=Europe/Rome:20250920T160000
DTEND;TZID=Europe/Rome:20250920T160000
DTSTAMP:20260423T035448
CREATED:20250826T214144Z
LAST-MODIFIED:20250826T214144Z
UID:7305-1758384000-1758384000@passpartout.art
SUMMARY:CUCINE ESPLOSIVE
DESCRIPTION:Vi siete mai chieste se la frutta può esplodere come dinamite? Un palloncino scoppiare con un agrume? Se la farina è come polvere da sparo? Una serie di esplosioni generate utilizzando solo ingredienti presenti in cucina. Un susseguirsi di esperimenti scientifici che lasceranno a bocca aperta dando un “sapore” del tutto nuovo alla scienza.
URL:https://passpartout.art/evento/cucine-esplosive/
CATEGORIES:Planetari musei scientifici osservatori
END:VEVENT
END:VCALENDAR