BEGIN:VCALENDAR
VERSION:2.0
PRODID:-//Passpartout - ECPv6.15.20//NONSGML v1.0//EN
CALSCALE:GREGORIAN
METHOD:PUBLISH
X-ORIGINAL-URL:https://passpartout.art
X-WR-CALDESC:Eventi per Passpartout
REFRESH-INTERVAL;VALUE=DURATION:PT1H
X-Robots-Tag:noindex
X-PUBLISHED-TTL:PT1H
BEGIN:VTIMEZONE
TZID:Europe/Rome
BEGIN:DAYLIGHT
TZOFFSETFROM:+0100
TZOFFSETTO:+0200
TZNAME:CEST
DTSTART:20230326T010000
END:DAYLIGHT
BEGIN:STANDARD
TZOFFSETFROM:+0200
TZOFFSETTO:+0100
TZNAME:CET
DTSTART:20231029T010000
END:STANDARD
BEGIN:DAYLIGHT
TZOFFSETFROM:+0100
TZOFFSETTO:+0200
TZNAME:CEST
DTSTART:20240331T010000
END:DAYLIGHT
BEGIN:STANDARD
TZOFFSETFROM:+0200
TZOFFSETTO:+0100
TZNAME:CET
DTSTART:20241027T010000
END:STANDARD
BEGIN:DAYLIGHT
TZOFFSETFROM:+0100
TZOFFSETTO:+0200
TZNAME:CEST
DTSTART:20250330T010000
END:DAYLIGHT
BEGIN:STANDARD
TZOFFSETFROM:+0200
TZOFFSETTO:+0100
TZNAME:CET
DTSTART:20251026T010000
END:STANDARD
END:VTIMEZONE
BEGIN:VEVENT
DTSTART;TZID=Europe/Rome:20240429T150000
DTEND;TZID=Europe/Rome:20240429T150000
DTSTAMP:20260420T210808
CREATED:20240404T214127Z
LAST-MODIFIED:20240404T214127Z
UID:4781-1714402800-1714402800@passpartout.art
SUMMARY:PRIMAVERA SCIENTIFICA
DESCRIPTION:Quest’anno il Museo del Balì compie 20 anni! Tra le tante iniziative che saranno organizzate per festeggiarlo; non possono mancare i ponti di primavera; occasione per divertirsi con la scienza e godersi la spettacolare location; ideale per un pic-nic!
URL:https://passpartout.art/evento/primavera-scientifica-8/
CATEGORIES:Planetari musei scientifici osservatori
END:VEVENT
END:VCALENDAR