BEGIN:VCALENDAR
VERSION:2.0
PRODID:-//Passpartout - ECPv6.15.20//NONSGML v1.0//EN
CALSCALE:GREGORIAN
METHOD:PUBLISH
X-WR-CALNAME:Passpartout
X-ORIGINAL-URL:https://passpartout.art
X-WR-CALDESC:Eventi per Passpartout
REFRESH-INTERVAL;VALUE=DURATION:PT1H
X-Robots-Tag:noindex
X-PUBLISHED-TTL:PT1H
BEGIN:VTIMEZONE
TZID:Europe/Rome
BEGIN:DAYLIGHT
TZOFFSETFROM:+0100
TZOFFSETTO:+0200
TZNAME:CEST
DTSTART:20220327T010000
END:DAYLIGHT
BEGIN:STANDARD
TZOFFSETFROM:+0200
TZOFFSETTO:+0100
TZNAME:CET
DTSTART:20221030T010000
END:STANDARD
BEGIN:DAYLIGHT
TZOFFSETFROM:+0100
TZOFFSETTO:+0200
TZNAME:CEST
DTSTART:20230326T010000
END:DAYLIGHT
BEGIN:STANDARD
TZOFFSETFROM:+0200
TZOFFSETTO:+0100
TZNAME:CET
DTSTART:20231029T010000
END:STANDARD
BEGIN:DAYLIGHT
TZOFFSETFROM:+0100
TZOFFSETTO:+0200
TZNAME:CEST
DTSTART:20240331T010000
END:DAYLIGHT
BEGIN:STANDARD
TZOFFSETFROM:+0200
TZOFFSETTO:+0100
TZNAME:CET
DTSTART:20241027T010000
END:STANDARD
END:VTIMEZONE
BEGIN:VEVENT
DTSTART;TZID=Europe/Rome:20231205T153000
DTEND;TZID=Europe/Rome:20231205T153000
DTSTAMP:20260420T104509
CREATED:20231206T230857Z
LAST-MODIFIED:20231206T230857Z
UID:3885-1701790200-1701790200@passpartout.art
SUMMARY:MUSICA MAESTRO – Museo Beniamino Gigli
DESCRIPTION:Ascoltiamo la storia e le musiche di Beniamino e costruiamo insieme un teatrino delle ombre!
URL:https://passpartout.art/evento/musica-maestro-museo-beniamino-gigli/
CATEGORIES:Musei
END:VEVENT
BEGIN:VEVENT
DTSTART;TZID=Europe/Rome:20231212T153000
DTEND;TZID=Europe/Rome:20231212T153000
DTSTAMP:20260420T104509
CREATED:20231206T230842Z
LAST-MODIFIED:20231206T230842Z
UID:3884-1702395000-1702395000@passpartout.art
SUMMARY:CARTOON MAKER – Museo della Musica
DESCRIPTION:Creiamo insieme un cartone animato con la tecnica della stop motion!
URL:https://passpartout.art/evento/cartoon-maker-museo-della-musica/
CATEGORIES:Musei
END:VEVENT
BEGIN:VEVENT
DTSTART;TZID=Europe/Rome:20231216T150000
DTEND;TZID=Europe/Rome:20231216T150000
DTSTAMP:20260420T104509
CREATED:20231206T231357Z
LAST-MODIFIED:20231206T231357Z
UID:3989-1702738800-1702738800@passpartout.art
SUMMARY:Giornata nazionale dello spazio 2023
DESCRIPTION:Attività e spettacoli su scienza e fantascienza!
URL:https://passpartout.art/evento/giornata-nazionale-dello-spazio-2023/
CATEGORIES:Planetari musei scientifici osservatori
END:VEVENT
BEGIN:VEVENT
DTSTART;TZID=Europe/Rome:20231227T150000
DTEND;TZID=Europe/Rome:20231227T150000
DTSTAMP:20260420T104509
CREATED:20231206T231412Z
LAST-MODIFIED:20231206T231412Z
UID:3990-1703689200-1703689200@passpartout.art
SUMMARY:Aperture sotto l’albero
DESCRIPTION:Pomeriggi natalizi per scoprire curiosità scientifiche!
URL:https://passpartout.art/evento/aperture-sotto-lalbero/
CATEGORIES:Planetari musei scientifici osservatori
END:VEVENT
BEGIN:VEVENT
DTSTART;TZID=Europe/Rome:20231228T150000
DTEND;TZID=Europe/Rome:20231228T150000
DTSTAMP:20260420T104509
CREATED:20231206T231412Z
LAST-MODIFIED:20231206T231412Z
UID:3991-1703775600-1703775600@passpartout.art
SUMMARY:Aperture sotto l’albero
DESCRIPTION:Pomeriggi natalizi per scoprire curiosità scientifiche!
URL:https://passpartout.art/evento/aperture-sotto-lalbero-2/
CATEGORIES:Planetari musei scientifici osservatori
END:VEVENT
BEGIN:VEVENT
DTSTART;TZID=Europe/Rome:20231229T150000
DTEND;TZID=Europe/Rome:20231229T150000
DTSTAMP:20260420T104509
CREATED:20231206T231412Z
LAST-MODIFIED:20231206T231412Z
UID:3992-1703862000-1703862000@passpartout.art
SUMMARY:Aperture sotto l’albero
DESCRIPTION:Pomeriggi natalizi per scoprire curiosità scientifiche!
URL:https://passpartout.art/evento/aperture-sotto-lalbero-3/
CATEGORIES:Planetari musei scientifici osservatori
END:VEVENT
END:VCALENDAR