BEGIN:VCALENDAR
VERSION:2.0
PRODID:-//Passpartout - ECPv6.15.20//NONSGML v1.0//EN
CALSCALE:GREGORIAN
METHOD:PUBLISH
X-ORIGINAL-URL:https://passpartout.art
X-WR-CALDESC:Eventi per Passpartout
REFRESH-INTERVAL;VALUE=DURATION:PT1H
X-Robots-Tag:noindex
X-PUBLISHED-TTL:PT1H
BEGIN:VTIMEZONE
TZID:Europe/Rome
BEGIN:DAYLIGHT
TZOFFSETFROM:+0100
TZOFFSETTO:+0200
TZNAME:CEST
DTSTART:20220327T010000
END:DAYLIGHT
BEGIN:STANDARD
TZOFFSETFROM:+0200
TZOFFSETTO:+0100
TZNAME:CET
DTSTART:20221030T010000
END:STANDARD
BEGIN:DAYLIGHT
TZOFFSETFROM:+0100
TZOFFSETTO:+0200
TZNAME:CEST
DTSTART:20230326T010000
END:DAYLIGHT
BEGIN:STANDARD
TZOFFSETFROM:+0200
TZOFFSETTO:+0100
TZNAME:CET
DTSTART:20231029T010000
END:STANDARD
BEGIN:DAYLIGHT
TZOFFSETFROM:+0100
TZOFFSETTO:+0200
TZNAME:CEST
DTSTART:20240331T010000
END:DAYLIGHT
BEGIN:STANDARD
TZOFFSETFROM:+0200
TZOFFSETTO:+0100
TZNAME:CET
DTSTART:20241027T010000
END:STANDARD
END:VTIMEZONE
BEGIN:VEVENT
DTSTART;TZID=Europe/Rome:20231008T153000
DTEND;TZID=Europe/Rome:20231008T153000
DTSTAMP:20260420T104505
CREATED:20231003T221759Z
LAST-MODIFIED:20231003T221759Z
UID:3557-1696779000-1696779000@passpartout.art
SUMMARY:FAMU 2023 – All’avventura con Ulisse e Corto Maltese
DESCRIPTION:Avventuriamoci per mare attraverso i disegni di Hugo Pratt: incontreremo maghe sirene mostri spaventosi e altri personaggi!
URL:https://passpartout.art/evento/famu-2023-allavventura-con-ulisse-e-corto-maltese/
CATEGORIES:Musei
END:VEVENT
BEGIN:VEVENT
DTSTART;TZID=Europe/Rome:20231009T103000
DTEND;TZID=Europe/Rome:20231009T103000
DTSTAMP:20260420T104505
CREATED:20231003T221759Z
LAST-MODIFIED:20231003T221759Z
UID:3558-1696847400-1696847400@passpartout.art
SUMMARY:FAMU 2023 - Favole al telefono
DESCRIPTION:Concerto del cantautore cantafavole docente e regista Gianluca Lalli seguito da un laboratorio di scrittura creativa!
URL:https://passpartout.art/evento/famu-2023-favole-al-telefono/
CATEGORIES:Musei
END:VEVENT
BEGIN:VEVENT
DTSTART;TZID=Europe/Rome:20231009T150000
DTEND;TZID=Europe/Rome:20231009T150000
DTSTAMP:20260420T104505
CREATED:20231003T221814Z
LAST-MODIFIED:20231003T221814Z
UID:3559-1696863600-1696863600@passpartout.art
SUMMARY:FAMU 2023 - Favole al telefono
DESCRIPTION:Concerto del cantautore cantafavole docente e regista Gianluca Lalli seguito da un laboratorio di scrittura creativa!
URL:https://passpartout.art/evento/famu-2023-favole-al-telefono-2/
CATEGORIES:Musei
END:VEVENT
BEGIN:VEVENT
DTSTART;TZID=Europe/Rome:20231009T203000
DTEND;TZID=Europe/Rome:20231009T203000
DTSTAMP:20260420T104505
CREATED:20231003T221815Z
LAST-MODIFIED:20231003T221815Z
UID:3563-1696883400-1696883400@passpartout.art
SUMMARY:Un sera al Museo! La migrazione mitica dei Piceni
DESCRIPTION:Gli antichi trovavano casa grazie ad un animale sacro. Quale sarebbe il tuo “animale guida? Costruiamolo insieme!
URL:https://passpartout.art/evento/un-sera-al-museo-la-migrazione-mitica-dei-piceni/
CATEGORIES:Musei
END:VEVENT
BEGIN:VEVENT
DTSTART;TZID=Europe/Rome:20231010T153000
DTEND;TZID=Europe/Rome:20231010T153000
DTSTAMP:20260420T104505
CREATED:20231003T221815Z
LAST-MODIFIED:20231003T221815Z
UID:3560-1696951800-1696951800@passpartout.art
SUMMARY:FAMU 2023 - Acchiappa i sogni con Lorenzo Lotto
DESCRIPTION:Attraverso il percorso artistico compiuto da Lotto bambini e genitori potranno immergersi nell’atmosfera dei sogni dei viaggi e delle opere del grande artista!
URL:https://passpartout.art/evento/famu-2023-acchiappa-i-sogni-con-lorenzo-lotto/
CATEGORIES:Musei
END:VEVENT
END:VCALENDAR