BEGIN:VCALENDAR
VERSION:2.0
PRODID:-//Passpartout - ECPv6.15.20//NONSGML v1.0//EN
CALSCALE:GREGORIAN
METHOD:PUBLISH
X-ORIGINAL-URL:https://passpartout.art
X-WR-CALDESC:Eventi per Passpartout
REFRESH-INTERVAL;VALUE=DURATION:PT1H
X-Robots-Tag:noindex
X-PUBLISHED-TTL:PT1H
BEGIN:VTIMEZONE
TZID:Europe/Rome
BEGIN:DAYLIGHT
TZOFFSETFROM:+0100
TZOFFSETTO:+0200
TZNAME:CEST
DTSTART:20250330T010000
END:DAYLIGHT
BEGIN:STANDARD
TZOFFSETFROM:+0200
TZOFFSETTO:+0100
TZNAME:CET
DTSTART:20251026T010000
END:STANDARD
BEGIN:DAYLIGHT
TZOFFSETFROM:+0100
TZOFFSETTO:+0200
TZNAME:CEST
DTSTART:20260329T010000
END:DAYLIGHT
BEGIN:STANDARD
TZOFFSETFROM:+0200
TZOFFSETTO:+0100
TZNAME:CET
DTSTART:20261025T010000
END:STANDARD
BEGIN:DAYLIGHT
TZOFFSETFROM:+0100
TZOFFSETTO:+0200
TZNAME:CEST
DTSTART:20270328T010000
END:DAYLIGHT
BEGIN:STANDARD
TZOFFSETFROM:+0200
TZOFFSETTO:+0100
TZNAME:CET
DTSTART:20271031T010000
END:STANDARD
END:VTIMEZONE
BEGIN:VEVENT
DTSTART;TZID=Europe/Rome:20260215T100000
DTEND;TZID=Europe/Rome:20260215T100000
DTSTAMP:20260421T194201
CREATED:20260201T153151Z
LAST-MODIFIED:20260201T153151Z
UID:7912-1771149600-1771149600@passpartout.art
SUMMARY:Carta di Gelso
DESCRIPTION:Trasformeremo gli “scarti agricoli” in bellissimi fogli di carta eco-sostenibile
URL:https://passpartout.art/evento/carta-di-gelso/
CATEGORIES:Parchi ville monumenti
END:VEVENT
BEGIN:VEVENT
DTSTART;TZID=Europe/Rome:20260215T163000
DTEND;TZID=Europe/Rome:20260215T163000
DTSTAMP:20260421T194201
CREATED:20260201T153401Z
LAST-MODIFIED:20260201T153401Z
UID:7924-1771173000-1771173000@passpartout.art
SUMMARY:Piccino Picciò - VOLO
DESCRIPTION:Spettacolo teatrale sullo stupore di scoprire le proprie traiettorie di volo e il bagaglio di esperienze arricchito dall’incontro con l’altro;;
URL:https://passpartout.art/evento/piccino-piccio-volo/
LOCATION:Vimercate (MB)
CATEGORIES:Teatri
END:VEVENT
END:VCALENDAR