BEGIN:VCALENDAR
VERSION:2.0
PRODID:-//Passpartout - ECPv6.15.20//NONSGML v1.0//EN
CALSCALE:GREGORIAN
METHOD:PUBLISH
X-WR-CALNAME:Passpartout
X-ORIGINAL-URL:https://passpartout.art
X-WR-CALDESC:Eventi per Passpartout
REFRESH-INTERVAL;VALUE=DURATION:PT1H
X-Robots-Tag:noindex
X-PUBLISHED-TTL:PT1H
BEGIN:VTIMEZONE
TZID:Europe/Rome
BEGIN:DAYLIGHT
TZOFFSETFROM:+0100
TZOFFSETTO:+0200
TZNAME:CEST
DTSTART:20230326T010000
END:DAYLIGHT
BEGIN:STANDARD
TZOFFSETFROM:+0200
TZOFFSETTO:+0100
TZNAME:CET
DTSTART:20231029T010000
END:STANDARD
BEGIN:DAYLIGHT
TZOFFSETFROM:+0100
TZOFFSETTO:+0200
TZNAME:CEST
DTSTART:20240331T010000
END:DAYLIGHT
BEGIN:STANDARD
TZOFFSETFROM:+0200
TZOFFSETTO:+0100
TZNAME:CET
DTSTART:20241027T010000
END:STANDARD
BEGIN:DAYLIGHT
TZOFFSETFROM:+0100
TZOFFSETTO:+0200
TZNAME:CEST
DTSTART:20250330T010000
END:DAYLIGHT
BEGIN:STANDARD
TZOFFSETFROM:+0200
TZOFFSETTO:+0100
TZNAME:CET
DTSTART:20251026T010000
END:STANDARD
END:VTIMEZONE
BEGIN:VEVENT
DTSTART;TZID=Europe/Rome:20240303T173000
DTEND;TZID=Europe/Rome:20240303T173000
DTSTAMP:20260419T182836
CREATED:20240306T224216Z
LAST-MODIFIED:20240306T224216Z
UID:4486-1709487000-1709487000@passpartout.art
SUMMARY:Robin Hood\ne la foresta di Sherwood
DESCRIPTION:Uno spettacolo avventuroso e fantastico\ndove gli animali parlano e gli alberi raccontano storie!
URL:https://passpartout.art/evento/robin-hoode-la-foresta-di-sherwood-6/
CATEGORIES:Teatri
END:VEVENT
BEGIN:VEVENT
DTSTART;TZID=Europe/Rome:20240303T163000
DTEND;TZID=Europe/Rome:20240303T163000
DTSTAMP:20260419T182837
CREATED:20240306T224300Z
LAST-MODIFIED:20240306T224300Z
UID:4501-1709483400-1709483400@passpartout.art
SUMMARY:Secondo Pinocchio
DESCRIPTION:In una specie di gioco senza trucchi né inganni; Pinocchio decide di raccontare alcune parti della sua storia; avvalendosi di una controﬁgura: una marionetta.
URL:https://passpartout.art/evento/secondo-pinocchio-2/
CATEGORIES:Teatri
END:VEVENT
BEGIN:VEVENT
DTSTART;TZID=Europe/Rome:20240303T163000
DTEND;TZID=Europe/Rome:20240303T163000
DTSTAMP:20260419T182837
CREATED:20240306T224130Z
LAST-MODIFIED:20240306T224130Z
UID:4469-1709483400-1709483400@passpartout.art
SUMMARY:Piccino Picciò\nINVENTALIBRO
DESCRIPTION:Quante avventure per la piccola goccia d’acqua!\nTante storie; tanti piccoli libri quanti saranno i bambini e le bambine che parteciperanno al laboratorio.\nPartendo da poche frasi suggerite; con materiali di recupero; ognuno creerà il proprio libro/storia!
URL:https://passpartout.art/evento/piccino-piccioinventalibro/
LOCATION:Vimercate (MB)
CATEGORIES:Teatri
END:VEVENT
BEGIN:VEVENT
DTSTART;TZID=Europe/Rome:20240303T160000
DTEND;TZID=Europe/Rome:20240303T160000
DTSTAMP:20260419T182837
CREATED:20240306T224814Z
LAST-MODIFIED:20240306T224814Z
UID:4576-1709481600-1709481600@passpartout.art
SUMMARY:Remida
DESCRIPTION:REMIDA Milano; centro di riuso creativo del materiale di scarto aziendale; accoglie famiglie e bambini e mette a disposizione materiali come gomme; stoffe colorate; plastiche per l’esplorazione e il gioco.
URL:https://passpartout.art/evento/remida-165/
CATEGORIES:Musei
END:VEVENT
BEGIN:VEVENT
DTSTART;TZID=Europe/Rome:20240303T160000
DTEND;TZID=Europe/Rome:20240303T160000
DTSTAMP:20260419T182837
CREATED:20240306T224431Z
LAST-MODIFIED:20240306T224431Z
UID:4531-1709481600-1709481600@passpartout.art
SUMMARY:Colore
DESCRIPTION:Mostra-gioco per sperimentare ed imparare ad usare correttamentei colori e le luci; e le emozioni che questi sono in grado di suscitare!
URL:https://passpartout.art/evento/colore-206/
CATEGORIES:Musei
END:VEVENT
BEGIN:VEVENT
DTSTART;TZID=Europe/Rome:20240303T153000
DTEND;TZID=Europe/Rome:20240303T153000
DTSTAMP:20260419T182837
CREATED:20240306T223944Z
LAST-MODIFIED:20240306T223944Z
UID:4435-1709479800-1709479800@passpartout.art
SUMMARY:SHOW - ELETTRICADABRA
DESCRIPTION:Siete pronti per un’avventura elettrizzante? Unisciti a noi per un’esperienza indimenticabile; dove un intraprendente scienziato ti condurrà attraverso un viaggio incredibile nel mondo dell’elettricità!
URL:https://passpartout.art/evento/show-elettricadabra-4/
CATEGORIES:Musei
END:VEVENT
BEGIN:VEVENT
DTSTART;TZID=Europe/Rome:20240303T150000
DTEND;TZID=Europe/Rome:20240303T150000
DTSTAMP:20260419T182837
CREATED:20240306T224414Z
LAST-MODIFIED:20240306T224414Z
UID:4523-1709478000-1709478000@passpartout.art
SUMMARY:Museocity - Esplorando il Globo con Leonardo
DESCRIPTION:i bambini potranno scegliere tra il magnifico pavone e l’intrigante aquila; colorando i disegni di Leonardo scoprendone i segreti. Per i più grandi; dai 6 anni; un puzzle del planisfero di Leonardo diventerà il passaporto per esplorare il mondo!
URL:https://passpartout.art/evento/museocity-esplorando-il-globo-con-leonardo-3/
CATEGORIES:Musei
END:VEVENT
BEGIN:VEVENT
DTSTART;TZID=Europe/Rome:20240303T150000
DTEND;TZID=Europe/Rome:20240303T150000
DTSTAMP:20260419T182837
CREATED:20240306T224045Z
LAST-MODIFIED:20240306T224045Z
UID:4454-1709478000-1709478000@passpartout.art
SUMMARY:Little Mart | Geometrie
DESCRIPTION:Un laboratorio per sperimentare le infinite combinazioni tra le forme geometriche e i colori; ispirandosi alle opere astratte esposte al Mart. Variando accostamenti cromatici e giochi di sovrapposizioni creeremo collage e dipinti
URL:https://passpartout.art/evento/little-mart-geometrie/
CATEGORIES:Musei
END:VEVENT
BEGIN:VEVENT
DTSTART;TZID=Europe/Rome:20240303T143000
DTEND;TZID=Europe/Rome:20240303T143000
DTSTAMP:20260419T182837
CREATED:20240306T224814Z
LAST-MODIFIED:20240306T224814Z
UID:4575-1709476200-1709476200@passpartout.art
SUMMARY:Remida
DESCRIPTION:REMIDA Milano; centro di riuso creativo del materiale di scarto aziendale; accoglie famiglie e bambini e mette a disposizione materiali come gomme; stoffe colorate; plastiche per l’esplorazione e il gioco.
URL:https://passpartout.art/evento/remida-164/
CATEGORIES:Musei
END:VEVENT
BEGIN:VEVENT
DTSTART;TZID=Europe/Rome:20240303T143000
DTEND;TZID=Europe/Rome:20240303T143000
DTSTAMP:20260419T182837
CREATED:20240306T224431Z
LAST-MODIFIED:20240306T224431Z
UID:4530-1709476200-1709476200@passpartout.art
SUMMARY:Colore
DESCRIPTION:Mostra-gioco per sperimentare ed imparare ad usare correttamentei colori e le luci; e le emozioni che questi sono in grado di suscitare!
URL:https://passpartout.art/evento/colore-205/
CATEGORIES:Musei
END:VEVENT
BEGIN:VEVENT
DTSTART;TZID=Europe/Rome:20240303T113000
DTEND;TZID=Europe/Rome:20240303T113000
DTSTAMP:20260419T182837
CREATED:20240306T224813Z
LAST-MODIFIED:20240306T224813Z
UID:4574-1709465400-1709465400@passpartout.art
SUMMARY:Remida
DESCRIPTION:REMIDA Milano; centro di riuso creativo del materiale di scarto aziendale; accoglie famiglie e bambini e mette a disposizione materiali come gomme; stoffe colorate; plastiche per l’esplorazione e il gioco.
URL:https://passpartout.art/evento/remida-163/
CATEGORIES:Musei
END:VEVENT
BEGIN:VEVENT
DTSTART;TZID=Europe/Rome:20240303T113000
DTEND;TZID=Europe/Rome:20240303T113000
DTSTAMP:20260419T182837
CREATED:20240306T224430Z
LAST-MODIFIED:20240306T224430Z
UID:4529-1709465400-1709465400@passpartout.art
SUMMARY:Colore
DESCRIPTION:Mostra-gioco per sperimentare ed imparare ad usare correttamentei colori e le luci; e le emozioni che questi sono in grado di suscitare!
URL:https://passpartout.art/evento/colore-204/
CATEGORIES:Musei
END:VEVENT
BEGIN:VEVENT
DTSTART;TZID=Europe/Rome:20240303T113000
DTEND;TZID=Europe/Rome:20240303T113000
DTSTAMP:20260419T182837
CREATED:20240306T223944Z
LAST-MODIFIED:20240306T223944Z
UID:4434-1709465400-1709465400@passpartout.art
SUMMARY:SHOW - ELETTRICADABRA
DESCRIPTION:Siete pronti per un’avventura elettrizzante? Unisciti a noi per un’esperienza indimenticabile; dove un intraprendente scienziato ti condurrà attraverso un viaggio incredibile nel mondo dell’elettricità!
URL:https://passpartout.art/evento/show-elettricadabra-3/
CATEGORIES:Musei
END:VEVENT
BEGIN:VEVENT
DTSTART;TZID=Europe/Rome:20240303T100000
DTEND;TZID=Europe/Rome:20240303T100000
DTSTAMP:20260419T182837
CREATED:20240306T225014Z
LAST-MODIFIED:20240306T225014Z
UID:4613-1709460000-1709460000@passpartout.art
SUMMARY:BAM Workshop KIDS and Adults: Nuovi ambienti; nuova Terra!
DESCRIPTION:In che modo si possono utilizzare fonti energetiche senza danneggiare il nostro pianeta? Come restituire fertilità alla terra? Da dove vengono i semi? Impariamo insieme come creare luoghi sostenibili; adottando un’etica verso la cura della terra; delle persone e la condivisione delle risorse.
URL:https://passpartout.art/evento/bam-workshop-kids-and-adults-nuovi-ambienti-nuova-terra/
CATEGORIES:Parchi ville monumenti
END:VEVENT
BEGIN:VEVENT
DTSTART;TZID=Europe/Rome:20240303T100000
DTEND;TZID=Europe/Rome:20240303T100000
DTSTAMP:20260419T182837
CREATED:20240306T224813Z
LAST-MODIFIED:20240306T224813Z
UID:4573-1709460000-1709460000@passpartout.art
SUMMARY:Remida
DESCRIPTION:REMIDA Milano; centro di riuso creativo del materiale di scarto aziendale; accoglie famiglie e bambini e mette a disposizione materiali come gomme; stoffe colorate; plastiche per l’esplorazione e il gioco.
URL:https://passpartout.art/evento/remida-162/
CATEGORIES:Musei
END:VEVENT
BEGIN:VEVENT
DTSTART;TZID=Europe/Rome:20240303T100000
DTEND;TZID=Europe/Rome:20240303T100000
DTSTAMP:20260419T182837
CREATED:20240306T224430Z
LAST-MODIFIED:20240306T224430Z
UID:4528-1709460000-1709460000@passpartout.art
SUMMARY:Colore
DESCRIPTION:Mostra-gioco per sperimentare ed imparare ad usare correttamentei colori e le luci; e le emozioni che questi sono in grado di suscitare!
URL:https://passpartout.art/evento/colore-203/
CATEGORIES:Musei
END:VEVENT
BEGIN:VEVENT
DTSTART;TZID=Europe/Rome:20240303T100000
DTEND;TZID=Europe/Rome:20240303T100000
DTSTAMP:20260419T182837
CREATED:20240306T224315Z
LAST-MODIFIED:20240306T224315Z
UID:4503-1709460000-1709460000@passpartout.art
SUMMARY:Oltre
DESCRIPTION:Cosa succederebbe se; giocando da soli in casa; finissimo dentro l’armadio di mamma e papà? Un luogo proibito e misterioso; ma assolutamente irresistibile!
URL:https://passpartout.art/evento/oltre-2/
CATEGORIES:Teatri
END:VEVENT
BEGIN:VEVENT
DTSTART;TZID=Europe/Rome:20240303T100000
DTEND;TZID=Europe/Rome:20240303T100000
DTSTAMP:20260419T182837
CREATED:20240306T224045Z
LAST-MODIFIED:20240306T224045Z
UID:4453-1709460000-1709460000@passpartout.art
SUMMARY:Little Mart | Sovrapposizioni: Margherita Manzelli
DESCRIPTION:I dipinti di Margherita Manzelli esposti nella sua mostra personale in Galleria Civica sono protagonisti di un gioco di stratificazioni di immagini; narrazioni e invenzioni!
URL:https://passpartout.art/evento/little-mart-sovrapposizioni-margherita-manzelli/
CATEGORIES:Musei
END:VEVENT
BEGIN:VEVENT
DTSTART;TZID=Europe/Rome:20240302T173000
DTEND;TZID=Europe/Rome:20240302T173000
DTSTAMP:20260419T182837
CREATED:20240306T224215Z
LAST-MODIFIED:20240306T224215Z
UID:4483-1709400600-1709400600@passpartout.art
SUMMARY:Robin Hood\ne la foresta di Sherwood
DESCRIPTION:Uno spettacolo avventuroso e fantastico\ndove gli animali parlano e gli alberi raccontano storie!
URL:https://passpartout.art/evento/robin-hoode-la-foresta-di-sherwood-3/
CATEGORIES:Teatri
END:VEVENT
BEGIN:VEVENT
DTSTART;TZID=Europe/Rome:20240302T163000
DTEND;TZID=Europe/Rome:20240302T163000
DTSTAMP:20260419T182837
CREATED:20240306T224259Z
LAST-MODIFIED:20240306T224259Z
UID:4500-1709397000-1709397000@passpartout.art
SUMMARY:Secondo Pinocchio
DESCRIPTION:In una specie di gioco senza trucchi né inganni; Pinocchio decide di raccontare alcune parti della sua storia; avvalendosi di una controﬁgura: una marionetta.
URL:https://passpartout.art/evento/secondo-pinocchio/
CATEGORIES:Teatri
END:VEVENT
BEGIN:VEVENT
DTSTART;TZID=Europe/Rome:20240302T163000
DTEND;TZID=Europe/Rome:20240302T163000
DTSTAMP:20260419T182837
CREATED:20240306T224115Z
LAST-MODIFIED:20240306T224115Z
UID:4465-1709397000-1709397000@passpartout.art
SUMMARY:Racconti da sentire
DESCRIPTION:Che sorpresa Paul Klee!
URL:https://passpartout.art/evento/racconti-da-sentire/
CATEGORIES:Musei
END:VEVENT
BEGIN:VEVENT
DTSTART;TZID=Europe/Rome:20240302T160000
DTEND;TZID=Europe/Rome:20240302T160000
DTSTAMP:20260419T182837
CREATED:20240306T224812Z
LAST-MODIFIED:20240306T224812Z
UID:4572-1709395200-1709395200@passpartout.art
SUMMARY:Remida
DESCRIPTION:REMIDA Milano; centro di riuso creativo del materiale di scarto aziendale; accoglie famiglie e bambini e mette a disposizione materiali come gomme; stoffe colorate; plastiche per l’esplorazione e il gioco.
URL:https://passpartout.art/evento/remida-161/
CATEGORIES:Musei
END:VEVENT
BEGIN:VEVENT
DTSTART;TZID=Europe/Rome:20240302T160000
DTEND;TZID=Europe/Rome:20240302T160000
DTSTAMP:20260419T182837
CREATED:20240306T224430Z
LAST-MODIFIED:20240306T224430Z
UID:4527-1709395200-1709395200@passpartout.art
SUMMARY:Colore
DESCRIPTION:Mostra-gioco per sperimentare ed imparare ad usare correttamentei colori e le luci; e le emozioni che questi sono in grado di suscitare!
URL:https://passpartout.art/evento/colore-202/
CATEGORIES:Musei
END:VEVENT
BEGIN:VEVENT
DTSTART;TZID=Europe/Rome:20240302T160000
DTEND;TZID=Europe/Rome:20240302T160000
DTSTAMP:20260419T182837
CREATED:20240306T223914Z
LAST-MODIFIED:20240306T223914Z
UID:4424-1709395200-1709395200@passpartout.art
SUMMARY:Florence Nightingale e la nascita dell’infermieristica
DESCRIPTION:L’infermieristica è la scienza delle infermiere e degli infermieri; professionisti fondamentali per la nostra salute. Ha una fondatrice: Florence Nightingale; la “donna con la lampada”. Insieme scopriremo la sua storia e con alcune attività pratiche laboratoriali capiremo cosa fanno oggi gli infermieri!
URL:https://passpartout.art/evento/florence-nightingale-e-la-nascita-dellinfermieristica/
CATEGORIES:Planetari musei scientifici osservatori
END:VEVENT
BEGIN:VEVENT
DTSTART;TZID=Europe/Rome:20240302T153000
DTEND;TZID=Europe/Rome:20240302T153000
DTSTAMP:20260419T182837
CREATED:20240306T224246Z
LAST-MODIFIED:20240306T224246Z
UID:4496-1709393400-1709393400@passpartout.art
SUMMARY:MARY E LO SPIRITO\nDI MEZZANOTTE
DESCRIPTION:Sabato pomeriggio al cinema in compagnia!
URL:https://passpartout.art/evento/mary-e-lo-spiritodi-mezzanotte/
CATEGORIES:Cinema
END:VEVENT
BEGIN:VEVENT
DTSTART;TZID=Europe/Rome:20240302T153000
DTEND;TZID=Europe/Rome:20240302T153000
DTSTAMP:20260419T182837
CREATED:20240306T223944Z
LAST-MODIFIED:20240306T223944Z
UID:4433-1709393400-1709393400@passpartout.art
SUMMARY:SHOW - ELETTRICADABRA
DESCRIPTION:Siete pronti per un’avventura elettrizzante? Unisciti a noi per un’esperienza indimenticabile; dove un intraprendente scienziato ti condurrà attraverso un viaggio incredibile nel mondo dell’elettricità!
URL:https://passpartout.art/evento/show-elettricadabra-2/
CATEGORIES:Musei
END:VEVENT
BEGIN:VEVENT
DTSTART;TZID=Europe/Rome:20240302T151500
DTEND;TZID=Europe/Rome:20240302T151500
DTSTAMP:20260419T182837
CREATED:20240306T224245Z
LAST-MODIFIED:20240306T224245Z
UID:4493-1709392500-1709392500@passpartout.art
SUMMARY:IL FANTASMA DI CANTERVILLE
DESCRIPTION:Pomeriggio al cinema; vieni a divertirti!
URL:https://passpartout.art/evento/il-fantasma-di-canterville/
CATEGORIES:Cinema
END:VEVENT
BEGIN:VEVENT
DTSTART;TZID=Europe/Rome:20240302T150000
DTEND;TZID=Europe/Rome:20240302T150000
DTSTAMP:20260419T182837
CREATED:20240306T224414Z
LAST-MODIFIED:20240306T224414Z
UID:4522-1709391600-1709391600@passpartout.art
SUMMARY:Museocity - Esplorando il Globo con Leonardo
DESCRIPTION:i bambini potranno scegliere tra il magnifico pavone e l’intrigante aquila; colorando i disegni di Leonardo scoprendone i segreti. Per i più grandi; dai 6 anni; un puzzle del planisfero di Leonardo diventerà il passaporto per esplorare il mondo!
URL:https://passpartout.art/evento/museocity-esplorando-il-globo-con-leonardo-2/
CATEGORIES:Musei
END:VEVENT
BEGIN:VEVENT
DTSTART;TZID=Europe/Rome:20240302T150000
DTEND;TZID=Europe/Rome:20240302T150000
DTSTAMP:20260419T182837
CREATED:20240306T224215Z
LAST-MODIFIED:20240306T224215Z
UID:4484-1709391600-1709391600@passpartout.art
SUMMARY:Robin Hood\ne la foresta di Sherwood
DESCRIPTION:Uno spettacolo avventuroso e fantastico\ndove gli animali parlano e gli alberi raccontano storie!
URL:https://passpartout.art/evento/robin-hoode-la-foresta-di-sherwood-4/
CATEGORIES:Teatri
END:VEVENT
BEGIN:VEVENT
DTSTART;TZID=Europe/Rome:20240302T150000
DTEND;TZID=Europe/Rome:20240302T150000
DTSTAMP:20260419T182837
CREATED:20240306T224114Z
LAST-MODIFIED:20240306T224114Z
UID:4462-1709391600-1709391600@passpartout.art
SUMMARY:Costruiamo… un aereoplano!
DESCRIPTION:Esplorando alcune sale del museo andiamo alla scoperta di una delle più grandi invenzioni del ‘900: il volo! Ci soffermeremo in particolare davanti ad uno dei pezzi più importanti delle collezioni del Museo; l’aeroplano Nieuport-Macchi Ni.10 utilizzato nel corso della Prima guerra mondiale. Osserveremo insieme le parti che lo compongono per poter realizzare poi un modellino di aereo in cartoncino tutto da decorare. Pronti per decollare e volare con l’immaginazione?
URL:https://passpartout.art/evento/costruiamo-un-aereoplano/
CATEGORIES:Musei
END:VEVENT
END:VCALENDAR