BEGIN:VCALENDAR
VERSION:2.0
PRODID:-//Passpartout - ECPv6.15.20//NONSGML v1.0//EN
CALSCALE:GREGORIAN
METHOD:PUBLISH
X-WR-CALNAME:Passpartout
X-ORIGINAL-URL:https://passpartout.art
X-WR-CALDESC:Eventi per Passpartout
REFRESH-INTERVAL;VALUE=DURATION:PT1H
X-Robots-Tag:noindex
X-PUBLISHED-TTL:PT1H
BEGIN:VTIMEZONE
TZID:Europe/Rome
BEGIN:DAYLIGHT
TZOFFSETFROM:+0100
TZOFFSETTO:+0200
TZNAME:CEST
DTSTART:20250330T010000
END:DAYLIGHT
BEGIN:STANDARD
TZOFFSETFROM:+0200
TZOFFSETTO:+0100
TZNAME:CET
DTSTART:20251026T010000
END:STANDARD
BEGIN:DAYLIGHT
TZOFFSETFROM:+0100
TZOFFSETTO:+0200
TZNAME:CEST
DTSTART:20260329T010000
END:DAYLIGHT
BEGIN:STANDARD
TZOFFSETFROM:+0200
TZOFFSETTO:+0100
TZNAME:CET
DTSTART:20261025T010000
END:STANDARD
BEGIN:DAYLIGHT
TZOFFSETFROM:+0100
TZOFFSETTO:+0200
TZNAME:CEST
DTSTART:20270328T010000
END:DAYLIGHT
BEGIN:STANDARD
TZOFFSETFROM:+0200
TZOFFSETTO:+0100
TZNAME:CET
DTSTART:20271031T010000
END:STANDARD
END:VTIMEZONE
BEGIN:VEVENT
DTSTART;TZID=Europe/Rome:20260322T100000
DTEND;TZID=Europe/Rome:20260322T100000
DTSTAMP:20260419T214755
CREATED:20260227T220831Z
LAST-MODIFIED:20260227T220831Z
UID:8180-1774173600-1774173600@passpartout.art
SUMMARY:Nella tana
DESCRIPTION:Un baule. O forse più. Che cosa si nasconde lì dentro? Chi c’è? Cu-cù! Un tulle\, una garza leggera\, stoffe morbide da tuffarcisi dentro\, per nascondersi e accoccolarsi…nella tana. Nuova tappa della ricerca dedicata da nudoecrudo teatro alla primissima infanzia. Ancora una volta\, semplici oggetti danno vita a tanti ambienti a misura di bambinᵊ\, da vivere e sperimentare guidati dal suono e dalla voce\, in un viaggio-scoperta nella tana del mondo. Gli elementi che contraddistinguono il nostro lavoro artistico teatrale sono un’accurata progettazione e realizzazione di materiali sensibili originali; un’attenta produzione sonora (e vocale)\, che si sviluppa sia in un lavoro in studio di elaborazione di materiali elettroacustici curata da Luca De Marinis\, sia in un lavoro musicale e vocale dal vivo che\, a partire da nenie\, filastrocche e tiritere\, diventa il mezzo per entrare in relazione con i piccolissimi e creare suggestioni\, utilizzando i materiali proposti. Un’esperienza tutta da creare e scoprire insieme\, grandi e piccini.
URL:https://passpartout.art/evento/nella-tana-2/
CATEGORIES:Teatri
END:VEVENT
BEGIN:VEVENT
DTSTART;TZID=Europe/Rome:20260322T111500
DTEND;TZID=Europe/Rome:20260322T111500
DTSTAMP:20260419T214755
CREATED:20260227T220831Z
LAST-MODIFIED:20260227T220831Z
UID:8181-1774178100-1774178100@passpartout.art
SUMMARY:Nella tana
DESCRIPTION:Un baule. O forse più. Che cosa si nasconde lì dentro? Chi c’è? Cu-cù! Un tulle\, una garza leggera\, stoffe morbide da tuffarcisi dentro\, per nascondersi e accoccolarsi…nella tana. Nuova tappa della ricerca dedicata da nudoecrudo teatro alla primissima infanzia. Ancora una volta\, semplici oggetti danno vita a tanti ambienti a misura di bambinᵊ\, da vivere e sperimentare guidati dal suono e dalla voce\, in un viaggio-scoperta nella tana del mondo. Gli elementi che contraddistinguono il nostro lavoro artistico teatrale sono un’accurata progettazione e realizzazione di materiali sensibili originali; un’attenta produzione sonora (e vocale)\, che si sviluppa sia in un lavoro in studio di elaborazione di materiali elettroacustici curata da Luca De Marinis\, sia in un lavoro musicale e vocale dal vivo che\, a partire da nenie\, filastrocche e tiritere\, diventa il mezzo per entrare in relazione con i piccolissimi e creare suggestioni\, utilizzando i materiali proposti. Un’esperienza tutta da creare e scoprire insieme\, grandi e piccini.
URL:https://passpartout.art/evento/nella-tana-3/
CATEGORIES:Teatri
END:VEVENT
BEGIN:VEVENT
DTSTART;TZID=Europe/Rome:20260322T113000
DTEND;TZID=Europe/Rome:20260322T113000
DTSTAMP:20260419T214755
CREATED:20260227T220847Z
LAST-MODIFIED:20260227T220847Z
UID:8187-1774179000-1774179000@passpartout.art
SUMMARY:Il bosco di Gus - Mille e una storia di GUS\, riccio musicista
DESCRIPTION:Gus è un riccio. Ma non un riccio qualunque. È un piccolo musicista-esploratore che ha scelto la musica come lingua del cuore: con la sua bacchetta — che non serve solo a dirigere\, ma a “suonare e far suonare” — raccoglie i suoni\, li trasforma e costruisce ponti invisibili tra emozioni e ascolto. La sua chioma di aculei cambia come le sue sensazioni: morbida quando è sereno\, spinosa quando ha paura\, infuocata quando l’entusiasmo lo travolge. Timido e sensibilissimo\, ma curioso e coraggioso\, Gus ci invita a guardare dentro di noi attraverso il gioco musicale. Impariamo a conoscerlo passo dopo passo\, seguendolo in questo viaggio a tappe tra storie\, suoni ed emozioni
URL:https://passpartout.art/evento/il-bosco-di-gus-mille-e-una-storia-di-gus-riccio-musicista/
CATEGORIES:Teatri
END:VEVENT
BEGIN:VEVENT
DTSTART;TZID=Europe/Rome:20260322T150000
DTEND;TZID=Europe/Rome:20260322T150000
DTSTAMP:20260419T214755
CREATED:20260227T220731Z
LAST-MODIFIED:20260227T220731Z
UID:8160-1774191600-1774191600@passpartout.art
SUMMARY:Cappuccetto Rosso
DESCRIPTION:La mamma di Cappuccetto Rosso sforna dolci buonissimi. La nonna è malata e vorrebbe un po’ di compagnia\, ma anche una fetta di torta non le dispiacerebbe affatto. Cappuccetto Rosso va dalla nonna con una torta appena sfornata; per la strada incontra un circo e assiste allo spettacolo. Gli artisti ci sono tutti: acrobati\, ballerine\, pagliacci e musicisti. Ci sono anche un prestigiatore molto elegante e un lupo molto affamato che al circo si annoia da morire. Secondo voi: chi mangerà la torta?
URL:https://passpartout.art/evento/cappuccetto-rosso-24/
CATEGORIES:Teatri
END:VEVENT
BEGIN:VEVENT
DTSTART;TZID=Europe/Rome:20260322T163000
DTEND;TZID=Europe/Rome:20260322T163000
DTSTAMP:20260419T214755
CREATED:20260227T220029Z
LAST-MODIFIED:20260227T220029Z
UID:8034-1774197000-1774197000@passpartout.art
SUMMARY:Piccino Picciò - ZELDI E LA PIOGGIA
DESCRIPTION:Una stanza immersiva piena di possibilità: spazi di stupore e meraviglia creati per lasciare a bocca aperta. Un luogo costruito con attenzione e ricerca\, dove sviluppare competenze personali e relazionali. Spazi magici creati per favorire l’indagine e la scoperta plurisensoriale. Un luogo di scoperta a stupore dove immergersi in mondi nuovi alla scoperta dell’acqua.
URL:https://passpartout.art/evento/piccino-piccio-zeldi-e-la-pioggia/
CATEGORIES:Teatri
END:VEVENT
BEGIN:VEVENT
DTSTART;TZID=Europe/Rome:20260322T163000
DTEND;TZID=Europe/Rome:20260322T163000
DTSTAMP:20260419T214755
CREATED:20260227T220830Z
LAST-MODIFIED:20260227T220830Z
UID:8178-1774197000-1774197000@passpartout.art
SUMMARY:Rodari smart
DESCRIPTION:Rodari Smart è un piccolo tuffo nel mondo di Gianni Rodari\, un mondo fatto di acuta leggerezza\, visionarietà\, dissacrazione dei luoghi comuni\, tensione morale e civile\, che viene qui rivisitato e restituito attraver¬so l’incontro tra sonorità e musica dal vivo\, linguaggio visuale\, parola e movimento. Ispirato da alcune storie della scrittura di Rodari\, lo spettacolo vede in scena un musicista ed una attrice/performer che in¬teragiscono sul piano visuale con i disegni animati nati dalla matita dell’illustratrice Chiara Spinelli. Un coinvolgente e poetico omaggio a colui che ha dedicato gran parte della sua vita e del suo immaginario ai bambini e ai loro mondi possibili nel centenario della sua nascita.
URL:https://passpartout.art/evento/rodari-smart-4/
CATEGORIES:Teatri
END:VEVENT
BEGIN:VEVENT
DTSTART;TZID=Europe/Rome:20260322T173000
DTEND;TZID=Europe/Rome:20260322T173000
DTSTAMP:20260419T214755
CREATED:20260227T220731Z
LAST-MODIFIED:20260227T220731Z
UID:8161-1774200600-1774200600@passpartout.art
SUMMARY:Cappuccetto Rosso
DESCRIPTION:La mamma di Cappuccetto Rosso sforna dolci buonissimi. La nonna è malata e vorrebbe un po’ di compagnia\, ma anche una fetta di torta non le dispiacerebbe affatto. Cappuccetto Rosso va dalla nonna con una torta appena sfornata; per la strada incontra un circo e assiste allo spettacolo. Gli artisti ci sono tutti: acrobati\, ballerine\, pagliacci e musicisti. Ci sono anche un prestigiatore molto elegante e un lupo molto affamato che al circo si annoia da morire. Secondo voi: chi mangerà la torta?
URL:https://passpartout.art/evento/cappuccetto-rosso-25/
CATEGORIES:Teatri
END:VEVENT
END:VCALENDAR