BEGIN:VCALENDAR
VERSION:2.0
PRODID:-//Passpartout - ECPv6.15.20//NONSGML v1.0//EN
CALSCALE:GREGORIAN
METHOD:PUBLISH
X-WR-CALNAME:Passpartout
X-ORIGINAL-URL:https://passpartout.art
X-WR-CALDESC:Eventi per Passpartout
REFRESH-INTERVAL;VALUE=DURATION:PT1H
X-Robots-Tag:noindex
X-PUBLISHED-TTL:PT1H
BEGIN:VTIMEZONE
TZID:Europe/Rome
BEGIN:DAYLIGHT
TZOFFSETFROM:+0100
TZOFFSETTO:+0200
TZNAME:CEST
DTSTART:20250330T010000
END:DAYLIGHT
BEGIN:STANDARD
TZOFFSETFROM:+0200
TZOFFSETTO:+0100
TZNAME:CET
DTSTART:20251026T010000
END:STANDARD
BEGIN:DAYLIGHT
TZOFFSETFROM:+0100
TZOFFSETTO:+0200
TZNAME:CEST
DTSTART:20260329T010000
END:DAYLIGHT
BEGIN:STANDARD
TZOFFSETFROM:+0200
TZOFFSETTO:+0100
TZNAME:CET
DTSTART:20261025T010000
END:STANDARD
BEGIN:DAYLIGHT
TZOFFSETFROM:+0100
TZOFFSETTO:+0200
TZNAME:CEST
DTSTART:20270328T010000
END:DAYLIGHT
BEGIN:STANDARD
TZOFFSETFROM:+0200
TZOFFSETTO:+0100
TZNAME:CET
DTSTART:20271031T010000
END:STANDARD
END:VTIMEZONE
BEGIN:VEVENT
DTSTART;TZID=Europe/Rome:20260301T100000
DTEND;TZID=Europe/Rome:20260301T100000
DTSTAMP:20260418T113806
CREATED:20260227T220747Z
LAST-MODIFIED:20260227T220747Z
UID:8167-1772359200-1772359200@passpartout.art
SUMMARY:In riva al mare
DESCRIPTION:Un gioco teatrale che propone e chiede il coinvolgimento attivo non solo dei bambini\, ma anche degli adulti che sono invitati a giocare insieme nella costruzione del percorso di questa narrazione “partecipata”. Un percorso che dalla frenesia della città ci porta lungo sentieri inventati\, improbabili e pieni di piccoli buffi incontri da mimare insieme\, fino alla “nostra” spiaggia. Finalmente seduti\, possiamo sentire il caldo del sole\, i suoni del mare\, le strida di gabbiani attorno a noi. Una piccola onda azzurra si stende allora ai nostri piedi e poi ci copre\, piano\, piano e senza paura. L’onda\, ritirandosi\, segna la fine del gioco teatrale\, lasciando sulla spiaggia piccoli doni (conchiglie\, stelle marine\, cavallucci marini\, legni levigati\, granchi reinventati e colorati) con cui concludere l’avventura assieme\, per aprirci alla libera reinvenzione di nuove storie da giocare insieme\, grandi e piccoli. Un omaggio finale al bellissimo silent-book L’Onda di Suzy Lee che ha ispirato questo gioco teatrale.
URL:https://passpartout.art/evento/in-riva-al-mare-6/
CATEGORIES:Teatri
END:VEVENT
BEGIN:VEVENT
DTSTART;TZID=Europe/Rome:20260301T150000
DTEND;TZID=Europe/Rome:20260301T150000
DTSTAMP:20260418T113806
CREATED:20260227T220646Z
LAST-MODIFIED:20260227T220646Z
UID:8145-1772377200-1772377200@passpartout.art
SUMMARY:Peter Pan
DESCRIPTION:Mamma e papà Darling\, stasera\, escono a cena e sono vestiti eleganti; Michael\, John e Wendy restano a casa con la loro simpatica tata\, un grosso cane di nome Nana. Peter Pan\, insieme alla fata Campanellino\, è in cerca della sua ombra: con loro i bambini Darling impareranno a volare. Cosparsi della polvere fatata raggiungeranno il Paese Che Non C’è dove abitano i Ragazzi Perduti\, il terribile Capitano Uncino\, il suo perfido aiutante Spugna e un allegro coccodrillo che sa ballare il mambo. Voi\, però\, non dimenticatevi di diventare grandi: si possono imparare cose importanti persino dalle fiabe e si può crescere anche continuando a volare
URL:https://passpartout.art/evento/peter-pan-29/
CATEGORIES:Teatri
END:VEVENT
BEGIN:VEVENT
DTSTART;TZID=Europe/Rome:20260301T160000
DTEND;TZID=Europe/Rome:20260301T160000
DTSTAMP:20260418T113806
CREATED:20260227T220030Z
LAST-MODIFIED:20260227T220030Z
UID:8035-1772380800-1772380800@passpartout.art
SUMMARY:Il grande viaggio del piccolo Händel
DESCRIPTION:Un appassionante concerto spettacolo per far conoscere ai più piccoli la storia e la musica del grande compositore e giramondo George Frideric Händel. Nello spettacolo\, i piccoli spettatori viaggeranno dagli innevati paesaggi tedeschi alla scintillante Parigi\, dalle assolate spiagge italiane alle rive del Tamigi\, in compagnia di un gruppo di bizzarri musicisti alla ricerca della “Fonte dell’ispirazione”. A guidarli il maestro Händel in carne e ossa (o meglio in stoffa e gommapiuma!) e la sua assistente Clotilde (Annachiara Zanoli\, attrice e artigiana puppet maker).
URL:https://passpartout.art/evento/il-grande-viaggio-del-piccolo-handel/
CATEGORIES:Teatri
END:VEVENT
BEGIN:VEVENT
DTSTART;TZID=Europe/Rome:20260301T173000
DTEND;TZID=Europe/Rome:20260301T173000
DTSTAMP:20260418T113806
CREATED:20260227T220030Z
LAST-MODIFIED:20260227T220030Z
UID:8036-1772386200-1772386200@passpartout.art
SUMMARY:Il grande viaggio del piccolo Händel
DESCRIPTION:Un appassionante concerto spettacolo per far conoscere ai più piccoli la storia e la musica del grande compositore e giramondo George Frideric Händel. Nello spettacolo\, i piccoli spettatori viaggeranno dagli innevati paesaggi tedeschi alla scintillante Parigi\, dalle assolate spiagge italiane alle rive del Tamigi\, in compagnia di un gruppo di bizzarri musicisti alla ricerca della “Fonte dell’ispirazione”. A guidarli il maestro Händel in carne e ossa (o meglio in stoffa e gommapiuma!) e la sua assistente Clotilde (Annachiara Zanoli\, attrice e artigiana puppet maker).
URL:https://passpartout.art/evento/il-grande-viaggio-del-piccolo-handel-2/
CATEGORIES:Teatri
END:VEVENT
BEGIN:VEVENT
DTSTART;TZID=Europe/Rome:20260301T173000
DTEND;TZID=Europe/Rome:20260301T173000
DTSTAMP:20260418T113806
CREATED:20260227T220646Z
LAST-MODIFIED:20260227T220646Z
UID:8146-1772386200-1772386200@passpartout.art
SUMMARY:Peter Pan
DESCRIPTION:Mamma e papà Darling\, stasera\, escono a cena e sono vestiti eleganti; Michael\, John e Wendy restano a casa con la loro simpatica tata\, un grosso cane di nome Nana. Peter Pan\, insieme alla fata Campanellino\, è in cerca della sua ombra: con loro i bambini Darling impareranno a volare. Cosparsi della polvere fatata raggiungeranno il Paese Che Non C’è dove abitano i Ragazzi Perduti\, il terribile Capitano Uncino\, il suo perfido aiutante Spugna e un allegro coccodrillo che sa ballare il mambo. Voi\, però\, non dimenticatevi di diventare grandi: si possono imparare cose importanti persino dalle fiabe e si può crescere anche continuando a volare
URL:https://passpartout.art/evento/peter-pan-30/
CATEGORIES:Teatri
END:VEVENT
END:VCALENDAR