BEGIN:VCALENDAR
VERSION:2.0
PRODID:-//Passpartout - ECPv6.15.20//NONSGML v1.0//EN
CALSCALE:GREGORIAN
METHOD:PUBLISH
X-WR-CALNAME:Passpartout
X-ORIGINAL-URL:https://passpartout.art
X-WR-CALDESC:Eventi per Passpartout
REFRESH-INTERVAL;VALUE=DURATION:PT1H
X-Robots-Tag:noindex
X-PUBLISHED-TTL:PT1H
BEGIN:VTIMEZONE
TZID:Europe/Rome
BEGIN:DAYLIGHT
TZOFFSETFROM:+0100
TZOFFSETTO:+0200
TZNAME:CEST
DTSTART:20250330T010000
END:DAYLIGHT
BEGIN:STANDARD
TZOFFSETFROM:+0200
TZOFFSETTO:+0100
TZNAME:CET
DTSTART:20251026T010000
END:STANDARD
BEGIN:DAYLIGHT
TZOFFSETFROM:+0100
TZOFFSETTO:+0200
TZNAME:CEST
DTSTART:20260329T010000
END:DAYLIGHT
BEGIN:STANDARD
TZOFFSETFROM:+0200
TZOFFSETTO:+0100
TZNAME:CET
DTSTART:20261025T010000
END:STANDARD
BEGIN:DAYLIGHT
TZOFFSETFROM:+0100
TZOFFSETTO:+0200
TZNAME:CEST
DTSTART:20270328T010000
END:DAYLIGHT
BEGIN:STANDARD
TZOFFSETFROM:+0200
TZOFFSETTO:+0100
TZNAME:CET
DTSTART:20271031T010000
END:STANDARD
END:VTIMEZONE
BEGIN:VEVENT
DTSTART;TZID=Europe/Rome:20260228T163000
DTEND;TZID=Europe/Rome:20260228T163000
DTSTAMP:20260418T000316
CREATED:20260201T164405Z
LAST-MODIFIED:20260201T164405Z
UID:7970-1772296200-1772296200@passpartout.art
SUMMARY:Cache cache! Nascondino
DESCRIPTION:Come sono i bambini quando nessuno li vede? Dove si nascondono quando cercano uno spazio tutto loro? Che faccia ha il mondo disegnato dai bambini senza l’intervento degli adulti? E noi adulti sappiamo come cercarli quando si nascondono? Sappiamo entrare in quella stanza a misura d’infanzia in cui gli orologi hanno i numeri di marzapane e le lancette si spostano a colpi di giri di giostra? Dove il tempo si misura con il numero di baci della buonanotte e di biscotti sgranocchiati di nascosto prima di cena o con quello delle conchiglie raccolte in spiaggia l’ultimo giorno di vacanza e dei voli in altalena. Dove il vento scompiglia i capricci e le certezze e le insicurezze sono caramelle dello stesso pacchetto solo di gusto differente.;;
URL:https://passpartout.art/evento/cache-cache-nascondino/
CATEGORIES:Teatri
END:VEVENT
END:VCALENDAR