BEGIN:VCALENDAR
VERSION:2.0
PRODID:-//Passpartout - ECPv6.15.20//NONSGML v1.0//EN
CALSCALE:GREGORIAN
METHOD:PUBLISH
X-WR-CALNAME:Passpartout
X-ORIGINAL-URL:https://passpartout.art
X-WR-CALDESC:Eventi per Passpartout
REFRESH-INTERVAL;VALUE=DURATION:PT1H
X-Robots-Tag:noindex
X-PUBLISHED-TTL:PT1H
BEGIN:VTIMEZONE
TZID:Europe/Rome
BEGIN:DAYLIGHT
TZOFFSETFROM:+0100
TZOFFSETTO:+0200
TZNAME:CEST
DTSTART:20250330T010000
END:DAYLIGHT
BEGIN:STANDARD
TZOFFSETFROM:+0200
TZOFFSETTO:+0100
TZNAME:CET
DTSTART:20251026T010000
END:STANDARD
BEGIN:DAYLIGHT
TZOFFSETFROM:+0100
TZOFFSETTO:+0200
TZNAME:CEST
DTSTART:20260329T010000
END:DAYLIGHT
BEGIN:STANDARD
TZOFFSETFROM:+0200
TZOFFSETTO:+0100
TZNAME:CET
DTSTART:20261025T010000
END:STANDARD
BEGIN:DAYLIGHT
TZOFFSETFROM:+0100
TZOFFSETTO:+0200
TZNAME:CEST
DTSTART:20270328T010000
END:DAYLIGHT
BEGIN:STANDARD
TZOFFSETFROM:+0200
TZOFFSETTO:+0100
TZNAME:CET
DTSTART:20271031T010000
END:STANDARD
END:VTIMEZONE
BEGIN:VEVENT
DTSTART;TZID=Europe/Rome:20260116T173000
DTEND;TZID=Europe/Rome:20260116T173000
DTSTAMP:20260420T053557
CREATED:20260103T090917Z
LAST-MODIFIED:20260103T090917Z
UID:7721-1768584600-1768584600@passpartout.art
SUMMARY:Il Mago di Oz
DESCRIPTION:In mezzo agli Stati Uniti c’è il Kansas; in mezzo al Kansas\, ma non proprio a metà\, c’è la fattoria di Dorothy\, una ragazzina vivace e intraprendente\, che un bel giorno visse una straordinaria avventura nel magico regno di Oz.\nLa nostra simpatica amica incontra dapprima uno Spaventapasseri senza cervello\, poi un Uomo di latta senza cuore\, infine un Leone senza coraggio.\nMa non è tutto: laggiù abitano anche streghe malvagie e streghe bellissime\, il popolo dei Ghiottoni e quello dei Golosoni\, oltre\, naturalmente\, al potentissimo Mago di Oz che è in grado di fare qualsiasi incantesimo. O quasi.
URL:https://passpartout.art/evento/il-mago-di-oz-27/
CATEGORIES:Teatri
END:VEVENT
BEGIN:VEVENT
DTSTART;TZID=Europe/Rome:20260116T200000
DTEND;TZID=Europe/Rome:20260116T200000
DTSTAMP:20260420T053557
CREATED:20260103T094436Z
LAST-MODIFIED:20260103T094436Z
UID:7868-1768593600-1768593600@passpartout.art
SUMMARY:DEsPRESSO
DESCRIPTION:Lo spettacolo utilizza due strumenti espressivi: il teatro-danza e la clownerie\, con il loro stile semplice ma poeticamente potente. Questi mezzi artistici permettono di esplorare e rappresentare le emozioni e le dinamiche complesse tra le protagoniste. Viviana è una ragazza che sta vivendo la depressione\, mentre Giorgia è una ragazza con la Sindrome di Down che cerca di aiutarla con tutti i mezzi che ha. Lo spettacolo ci invita a ribaltare il punto di vista tradizionale che porta a identificare subito chi è “il diverso”\, e offre una riflessione profonda sul tema del “dopo di noi”\, ovvero cosa accade alle persone con disabilità quando vengono a mancare i loro genitori.
URL:https://passpartout.art/evento/despresso-2/
CATEGORIES:Teatri
END:VEVENT
END:VCALENDAR