BEGIN:VCALENDAR
VERSION:2.0
PRODID:-//Passpartout - ECPv6.15.20//NONSGML v1.0//EN
CALSCALE:GREGORIAN
METHOD:PUBLISH
X-WR-CALNAME:Passpartout
X-ORIGINAL-URL:https://passpartout.art
X-WR-CALDESC:Eventi per Passpartout
REFRESH-INTERVAL;VALUE=DURATION:PT1H
X-Robots-Tag:noindex
X-PUBLISHED-TTL:PT1H
BEGIN:VTIMEZONE
TZID:Europe/Rome
BEGIN:DAYLIGHT
TZOFFSETFROM:+0100
TZOFFSETTO:+0200
TZNAME:CEST
DTSTART:20240331T010000
END:DAYLIGHT
BEGIN:STANDARD
TZOFFSETFROM:+0200
TZOFFSETTO:+0100
TZNAME:CET
DTSTART:20241027T010000
END:STANDARD
BEGIN:DAYLIGHT
TZOFFSETFROM:+0100
TZOFFSETTO:+0200
TZNAME:CEST
DTSTART:20250330T010000
END:DAYLIGHT
BEGIN:STANDARD
TZOFFSETFROM:+0200
TZOFFSETTO:+0100
TZNAME:CET
DTSTART:20251026T010000
END:STANDARD
BEGIN:DAYLIGHT
TZOFFSETFROM:+0100
TZOFFSETTO:+0200
TZNAME:CEST
DTSTART:20260329T010000
END:DAYLIGHT
BEGIN:STANDARD
TZOFFSETFROM:+0200
TZOFFSETTO:+0100
TZNAME:CET
DTSTART:20261025T010000
END:STANDARD
END:VTIMEZONE
BEGIN:VEVENT
DTSTART;TZID=Europe/Rome:20251115T163000
DTEND;TZID=Europe/Rome:20251115T163000
DTSTAMP:20260420T093022
CREATED:20251030T133957Z
LAST-MODIFIED:20251030T133957Z
UID:7469-1763224200-1763224200@passpartout.art
SUMMARY:Raperonzolo. Il canto del crescere
DESCRIPTION:“Ho attraversato il bosco e… Ce l’ho fatta! Anche se mi si sono impigliati i capelli tra i rami\, anche se le ombre mi hanno sfiorato\, ho scoperto la strada giusta! Nel bosco le foglie mi sussurrano ancora la storia di Ravanellina\, che è arrivata proprio qua\, molto tempo fa.
URL:https://passpartout.art/evento/raperonzolo-il-canto-del-crescere-5/
CATEGORIES:Teatri
END:VEVENT
END:VCALENDAR