BEGIN:VCALENDAR
VERSION:2.0
PRODID:-//Passpartout - ECPv6.15.20//NONSGML v1.0//EN
CALSCALE:GREGORIAN
METHOD:PUBLISH
X-ORIGINAL-URL:https://passpartout.art
X-WR-CALDESC:Eventi per Passpartout
REFRESH-INTERVAL;VALUE=DURATION:PT1H
X-Robots-Tag:noindex
X-PUBLISHED-TTL:PT1H
BEGIN:VTIMEZONE
TZID:Europe/Rome
BEGIN:DAYLIGHT
TZOFFSETFROM:+0100
TZOFFSETTO:+0200
TZNAME:CEST
DTSTART:20240331T010000
END:DAYLIGHT
BEGIN:STANDARD
TZOFFSETFROM:+0200
TZOFFSETTO:+0100
TZNAME:CET
DTSTART:20241027T010000
END:STANDARD
BEGIN:DAYLIGHT
TZOFFSETFROM:+0100
TZOFFSETTO:+0200
TZNAME:CEST
DTSTART:20250330T010000
END:DAYLIGHT
BEGIN:STANDARD
TZOFFSETFROM:+0200
TZOFFSETTO:+0100
TZNAME:CET
DTSTART:20251026T010000
END:STANDARD
BEGIN:DAYLIGHT
TZOFFSETFROM:+0100
TZOFFSETTO:+0200
TZNAME:CEST
DTSTART:20260329T010000
END:DAYLIGHT
BEGIN:STANDARD
TZOFFSETFROM:+0200
TZOFFSETTO:+0100
TZNAME:CET
DTSTART:20261025T010000
END:STANDARD
END:VTIMEZONE
BEGIN:VEVENT
DTSTART;TZID=Europe/Rome:20251108T163000
DTEND;TZID=Europe/Rome:20251108T163000
DTSTAMP:20260422T212119
CREATED:20251030T133943Z
LAST-MODIFIED:20251030T133943Z
UID:7465-1762619400-1762619400@passpartout.art
SUMMARY:Il nuovo vestito dell’Imperatrice
DESCRIPTION:L’ambiguità e il non sapere di chi fidarsi porterà Caterina a far emergere lati inattesi e sorprendenti della sua identità.» La storia si presenta come il “sequel” della fiaba di H.C. Andersen e narra la storia della figlia dell’imperatore\, Caterina\, che vive nel suo palazzo in compagnia di uno specchio magico che le permette di modificare il suo riflesso attraverso l’uso di filtri\, se necessario. Il giorno del suo diciottesimo compleanno il padre le regala un vestito che dovrà indossare davanti al popolo ma che ha un piccolo particolare\, è invisibile a chi è stupido. Caterina non saprà più a chi credere: a suo papà\, allo specchio o ai suoi occhi. L’ambiguità e il non sapere di chi fidarsi porterà Caterina a far emergere lati inattesi e sorprendenti della sua identità trasformando l’apparente fallimento in un preziosa occasione di crescita scoprendo che esprimersi liberamente può dare il via a piccoli e grandi cambiamenti anche collettivi.
URL:https://passpartout.art/evento/il-nuovo-vestito-dellimperatrice/
CATEGORIES:Teatri
END:VEVENT
BEGIN:VEVENT
DTSTART;TZID=Europe/Rome:20251108T170000
DTEND;TZID=Europe/Rome:20251108T170000
DTSTAMP:20260422T212119
CREATED:20251030T133942Z
LAST-MODIFIED:20251030T133942Z
UID:7464-1762621200-1762621200@passpartout.art
SUMMARY:In riva al mare
DESCRIPTION:Un percorso che dalla frenesia della città ci porta lungo sentieri inventati\, improbabili e pieni di piccoli buffi incontri da mimare insieme\, fino alla “nostra” spiaggia. Finalmente seduti\, possiamo sentire il caldo del sole\, i suoni del mare\, le strida di gabbiani attorno a noi. Una piccola onda azzurra si stende allora ai nostri piedi e poi ci copre\, piano\, piano e senza paura. L’onda\, ritirandosi\, segna la fine del gioco teatrale\, lasciando sulla spiaggia piccoli doni (conchiglie\, stelle marine\, cavallucci marini\, legni levigati\, granchi reinventati e colorati) con cui concludere l’avventura assieme\, per aprirci alla libera reinvenzione di nuove storie da giocare insieme\, grandi e piccoli. Un omaggio finale al bellissimo silent-book L’Onda di Suzy Lee che ha ispirato questo gioco teatrale.
URL:https://passpartout.art/evento/in-riva-al-mare-5/
CATEGORIES:Teatri
END:VEVENT
END:VCALENDAR