BEGIN:VCALENDAR
VERSION:2.0
PRODID:-//Passpartout - ECPv6.15.20//NONSGML v1.0//EN
CALSCALE:GREGORIAN
METHOD:PUBLISH
X-WR-CALNAME:Passpartout
X-ORIGINAL-URL:https://passpartout.art
X-WR-CALDESC:Eventi per Passpartout
REFRESH-INTERVAL;VALUE=DURATION:PT1H
X-Robots-Tag:noindex
X-PUBLISHED-TTL:PT1H
BEGIN:VTIMEZONE
TZID:Europe/Rome
BEGIN:DAYLIGHT
TZOFFSETFROM:+0100
TZOFFSETTO:+0200
TZNAME:CEST
DTSTART:20240331T010000
END:DAYLIGHT
BEGIN:STANDARD
TZOFFSETFROM:+0200
TZOFFSETTO:+0100
TZNAME:CET
DTSTART:20241027T010000
END:STANDARD
BEGIN:DAYLIGHT
TZOFFSETFROM:+0100
TZOFFSETTO:+0200
TZNAME:CEST
DTSTART:20250330T010000
END:DAYLIGHT
BEGIN:STANDARD
TZOFFSETFROM:+0200
TZOFFSETTO:+0100
TZNAME:CET
DTSTART:20251026T010000
END:STANDARD
BEGIN:DAYLIGHT
TZOFFSETFROM:+0100
TZOFFSETTO:+0200
TZNAME:CEST
DTSTART:20260329T010000
END:DAYLIGHT
BEGIN:STANDARD
TZOFFSETFROM:+0200
TZOFFSETTO:+0100
TZNAME:CET
DTSTART:20261025T010000
END:STANDARD
END:VTIMEZONE
BEGIN:VEVENT
DTSTART;TZID=Europe/Rome:20250623T083000
DTEND;TZID=Europe/Rome:20250627T160000
DTSTAMP:20260425T040606
CREATED:20250529T181433Z
LAST-MODIFIED:20250529T181433Z
UID:6722-1750667400-1751040000@passpartout.art
SUMMARY:CAMPUS ESTIVI 2025
DESCRIPTION:Anche quest’anno il Teatro del Buratto propone i suoi campus estivi teatrali\, sei settimane di creatività\, gioco e scoperta per bambine\, bambini\, ragazze e ragazzi
URL:https://passpartout.art/evento/campus-estivi-2025-3/
CATEGORIES:Teatri
END:VEVENT
BEGIN:VEVENT
DTSTART;TZID=Europe/Rome:20250623T090000
DTEND;TZID=Europe/Rome:20250627T153000
DTSTAMP:20260425T040606
CREATED:20250529T181501Z
LAST-MODIFIED:20250529T181501Z
UID:6729-1750669200-1751038200@passpartout.art
SUMMARY:TUTTI IN SCENA!\nCAMPUS DI TEATRO
DESCRIPTION:Il teatro è uno spazio magico dove la sperimentazione\, l’immaginazione\, l’azione e soprattutto la relazione con gli altri sono elementi che mescolati tra loro rendono possibili piccole magie che daranno prova del talento dei nostri giovani attori. Durante il percorso\, i ragazzi saranno invitati a scoprire e testare cosa significhi lo “stare in scena” per approcciarsi\, in un secondo momento\, alla creazione di uno spettacolo collettivo con il quale incantare gli spettatori.
URL:https://passpartout.art/evento/tutti-in-scenacampus-di-teatro/
CATEGORIES:Teatri
END:VEVENT
BEGIN:VEVENT
DTSTART;TZID=Europe/Rome:20250626T173000
DTEND;TZID=Europe/Rome:20250626T173000
DTSTAMP:20260425T040606
CREATED:20250529T181559Z
LAST-MODIFIED:20250529T181559Z
UID:6747-1750959000-1750959000@passpartout.art
SUMMARY:Storie a merenda - LIBRI A ZAMPE E A NUVOLE
DESCRIPTION:Alcune storie saltellano come scoiattoli\, altre volano leggere come soffioni al vento. In mezzo a boschi parlanti\, cieli pieni di pensieri e animali pieni di idee\, si ride\, si sogna e si ascolta la voce segreta della natura. Un viaggio tra racconti che sanno far sorridere\, ma anche fermare il tempo per guardare il mondo con occhi nuovi.
URL:https://passpartout.art/evento/storie-a-merenda-libri-a-zampe-e-a-nuvole/
CATEGORIES:Teatri
END:VEVENT
END:VCALENDAR