BEGIN:VCALENDAR
VERSION:2.0
PRODID:-//Passpartout - ECPv6.15.20//NONSGML v1.0//EN
CALSCALE:GREGORIAN
METHOD:PUBLISH
X-ORIGINAL-URL:https://passpartout.art
X-WR-CALDESC:Eventi per Passpartout
REFRESH-INTERVAL;VALUE=DURATION:PT1H
X-Robots-Tag:noindex
X-PUBLISHED-TTL:PT1H
BEGIN:VTIMEZONE
TZID:Europe/Rome
BEGIN:DAYLIGHT
TZOFFSETFROM:+0100
TZOFFSETTO:+0200
TZNAME:CEST
DTSTART:20250330T010000
END:DAYLIGHT
BEGIN:STANDARD
TZOFFSETFROM:+0200
TZOFFSETTO:+0100
TZNAME:CET
DTSTART:20251026T010000
END:STANDARD
BEGIN:DAYLIGHT
TZOFFSETFROM:+0100
TZOFFSETTO:+0200
TZNAME:CEST
DTSTART:20260329T010000
END:DAYLIGHT
BEGIN:STANDARD
TZOFFSETFROM:+0200
TZOFFSETTO:+0100
TZNAME:CET
DTSTART:20261025T010000
END:STANDARD
BEGIN:DAYLIGHT
TZOFFSETFROM:+0100
TZOFFSETTO:+0200
TZNAME:CEST
DTSTART:20270328T010000
END:DAYLIGHT
BEGIN:STANDARD
TZOFFSETFROM:+0200
TZOFFSETTO:+0100
TZNAME:CET
DTSTART:20271031T010000
END:STANDARD
END:VTIMEZONE
BEGIN:VEVENT
DTSTART;TZID=Europe/Rome:20260123T173000
DTEND;TZID=Europe/Rome:20260123T173000
DTSTAMP:20260420T072459
CREATED:20260103T090930Z
LAST-MODIFIED:20260103T090930Z
UID:7726-1769189400-1769189400@passpartout.art
SUMMARY:Il Mago di Oz
DESCRIPTION:In mezzo agli Stati Uniti c’è il Kansas; in mezzo al Kansas\, ma non proprio a metà\, c’è la fattoria di Dorothy\, una ragazzina vivace e intraprendente\, che un bel giorno visse una straordinaria avventura nel magico regno di Oz.\nLa nostra simpatica amica incontra dapprima uno Spaventapasseri senza cervello\, poi un Uomo di latta senza cuore\, infine un Leone senza coraggio.\nMa non è tutto: laggiù abitano anche streghe malvagie e streghe bellissime\, il popolo dei Ghiottoni e quello dei Golosoni\, oltre\, naturalmente\, al potentissimo Mago di Oz che è in grado di fare qualsiasi incantesimo. O quasi.
URL:https://passpartout.art/evento/il-mago-di-oz-32/
CATEGORIES:Teatri
END:VEVENT
BEGIN:VEVENT
DTSTART;TZID=Europe/Rome:20260124T150000
DTEND;TZID=Europe/Rome:20260124T150000
DTSTAMP:20260420T072500
CREATED:20260103T090930Z
LAST-MODIFIED:20260103T090930Z
UID:7727-1769266800-1769266800@passpartout.art
SUMMARY:Il Mago di Oz
DESCRIPTION:In mezzo agli Stati Uniti c’è il Kansas; in mezzo al Kansas\, ma non proprio a metà\, c’è la fattoria di Dorothy\, una ragazzina vivace e intraprendente\, che un bel giorno visse una straordinaria avventura nel magico regno di Oz.\nLa nostra simpatica amica incontra dapprima uno Spaventapasseri senza cervello\, poi un Uomo di latta senza cuore\, infine un Leone senza coraggio.\nMa non è tutto: laggiù abitano anche streghe malvagie e streghe bellissime\, il popolo dei Ghiottoni e quello dei Golosoni\, oltre\, naturalmente\, al potentissimo Mago di Oz che è in grado di fare qualsiasi incantesimo. O quasi.
URL:https://passpartout.art/evento/il-mago-di-oz-33/
CATEGORIES:Teatri
END:VEVENT
BEGIN:VEVENT
DTSTART;TZID=Europe/Rome:20260124T153000
DTEND;TZID=Europe/Rome:20260124T153000
DTSTAMP:20260420T072500
CREATED:20260103T094405Z
LAST-MODIFIED:20260103T094405Z
UID:7856-1769268600-1769268600@passpartout.art
SUMMARY:Mozart e Salieri got Talent\nprima la musica poi… il resto
DESCRIPTION:I due musicisti sono chiamati a confrontarsi in una vera e propria sfida musicale: Salieri guiderà l’entusiasta e impaziente Mozart a scoprire il vero significato della musica. Uno spettacolo divertente e coinvolgente\, che unisce musica e teatro per raccontare ai più piccoli la vera storia di questi due grandi musicisti e la bellezza della condivisione.
URL:https://passpartout.art/evento/mozart-e-salieri-got-talentprima-la-musica-poi-il-resto/
CATEGORIES:Teatri
END:VEVENT
BEGIN:VEVENT
DTSTART;TZID=Europe/Rome:20260124T163000
DTEND;TZID=Europe/Rome:20260124T163000
DTSTAMP:20260420T072500
CREATED:20260103T093737Z
LAST-MODIFIED:20260103T093737Z
UID:7797-1769272200-1769272200@passpartout.art
SUMMARY:Tutto cambia! Il bruco e la farfalla e altri racconti!
DESCRIPTION:Tre piccole storie\, ispirate da racconti e da opere moderne e scientifiche\, che intrecciano affabulazione e scienza ci mostrano come tutto ciò che ci circonda\, compresa la nostra stessa vita\, sia un lungo e costante cambiamento\, conducendo i giovani spettatori nello stupefacente mondo della metamorfosi. Così come il seme si trasforma in albero e il bruco in farfalla\, una giovane ragazza può mutarsi\, grazie all’immaginazione\, in un’intera foresta. Seguendo un percorso a tappe\, il racconto si rivela un viaggio attorno al tema del cambiamento e affronta con delicatezza quel naturale sentimento di paura che gli è connesso\, mostrando come ogni “metamorfosi” porti con sé una nuova\, grande\, opportunità.
URL:https://passpartout.art/evento/tutto-cambia-il-bruco-e-la-farfalla-e-altri-racconti/
CATEGORIES:Teatri
END:VEVENT
BEGIN:VEVENT
DTSTART;TZID=Europe/Rome:20260124T170000
DTEND;TZID=Europe/Rome:20260124T170000
DTSTAMP:20260420T072500
CREATED:20260103T093738Z
LAST-MODIFIED:20260103T093738Z
UID:7799-1769274000-1769274000@passpartout.art
SUMMARY:A corpo libero
DESCRIPTION:“Storia di un corpo” nasce dall’esigenza di fare ricerca non solo per\, ma con l’infanzia.\nUn’attrice che porta fuori dalla sua sala prove il materiale creato\, si fa osservare e osserva\, ispirandosi alle reazioni delle bambine e dei bambini.\nLo spettacolo vuole raccontare l’importanza di prestare attenzione a ogni singola parte dei nostri corpi e vuole parlare di accettazione\, dei nostri limiti e dei segni che il tempo lascia passando.
URL:https://passpartout.art/evento/a-corpo-libero/
CATEGORIES:Teatri
END:VEVENT
BEGIN:VEVENT
DTSTART;TZID=Europe/Rome:20260124T173000
DTEND;TZID=Europe/Rome:20260124T173000
DTSTAMP:20260420T072500
CREATED:20260103T090930Z
LAST-MODIFIED:20260103T090930Z
UID:7728-1769275800-1769275800@passpartout.art
SUMMARY:Il Mago di Oz
DESCRIPTION:In mezzo agli Stati Uniti c’è il Kansas; in mezzo al Kansas\, ma non proprio a metà\, c’è la fattoria di Dorothy\, una ragazzina vivace e intraprendente\, che un bel giorno visse una straordinaria avventura nel magico regno di Oz.\nLa nostra simpatica amica incontra dapprima uno Spaventapasseri senza cervello\, poi un Uomo di latta senza cuore\, infine un Leone senza coraggio.\nMa non è tutto: laggiù abitano anche streghe malvagie e streghe bellissime\, il popolo dei Ghiottoni e quello dei Golosoni\, oltre\, naturalmente\, al potentissimo Mago di Oz che è in grado di fare qualsiasi incantesimo. O quasi.
URL:https://passpartout.art/evento/il-mago-di-oz-34/
CATEGORIES:Teatri
END:VEVENT
BEGIN:VEVENT
DTSTART;TZID=Europe/Rome:20260125T100000
DTEND;TZID=Europe/Rome:20260125T100000
DTSTAMP:20260420T072500
CREATED:20260103T093804Z
LAST-MODIFIED:20260103T093804Z
UID:7800-1769335200-1769335200@passpartout.art
SUMMARY:A corpo libero
DESCRIPTION:“Storia di un corpo” nasce dall’esigenza di fare ricerca non solo per\, ma con l’infanzia.\nUn’attrice che porta fuori dalla sua sala prove il materiale creato\, si fa osservare e osserva\, ispirandosi alle reazioni delle bambine e dei bambini.\nLo spettacolo vuole raccontare l’importanza di prestare attenzione a ogni singola parte dei nostri corpi e vuole parlare di accettazione\, dei nostri limiti e dei segni che il tempo lascia passando.
URL:https://passpartout.art/evento/a-corpo-libero-2/
CATEGORIES:Teatri
END:VEVENT
BEGIN:VEVENT
DTSTART;TZID=Europe/Rome:20260125T111500
DTEND;TZID=Europe/Rome:20260125T111500
DTSTAMP:20260420T072500
CREATED:20260103T093805Z
LAST-MODIFIED:20260103T093805Z
UID:7801-1769339700-1769339700@passpartout.art
SUMMARY:A corpo libero
DESCRIPTION:“Storia di un corpo” nasce dall’esigenza di fare ricerca non solo per\, ma con l’infanzia.\nUn’attrice che porta fuori dalla sua sala prove il materiale creato\, si fa osservare e osserva\, ispirandosi alle reazioni delle bambine e dei bambini.\nLo spettacolo vuole raccontare l’importanza di prestare attenzione a ogni singola parte dei nostri corpi e vuole parlare di accettazione\, dei nostri limiti e dei segni che il tempo lascia passando.
URL:https://passpartout.art/evento/a-corpo-libero-3/
CATEGORIES:Teatri
END:VEVENT
BEGIN:VEVENT
DTSTART;TZID=Europe/Rome:20260125T150000
DTEND;TZID=Europe/Rome:20260125T150000
DTSTAMP:20260420T072500
CREATED:20260103T090931Z
LAST-MODIFIED:20260103T090931Z
UID:7729-1769353200-1769353200@passpartout.art
SUMMARY:Il Mago di Oz
DESCRIPTION:In mezzo agli Stati Uniti c’è il Kansas; in mezzo al Kansas\, ma non proprio a metà\, c’è la fattoria di Dorothy\, una ragazzina vivace e intraprendente\, che un bel giorno visse una straordinaria avventura nel magico regno di Oz.\nLa nostra simpatica amica incontra dapprima uno Spaventapasseri senza cervello\, poi un Uomo di latta senza cuore\, infine un Leone senza coraggio.\nMa non è tutto: laggiù abitano anche streghe malvagie e streghe bellissime\, il popolo dei Ghiottoni e quello dei Golosoni\, oltre\, naturalmente\, al potentissimo Mago di Oz che è in grado di fare qualsiasi incantesimo. O quasi.
URL:https://passpartout.art/evento/il-mago-di-oz-35/
CATEGORIES:Teatri
END:VEVENT
BEGIN:VEVENT
DTSTART;TZID=Europe/Rome:20260125T163000
DTEND;TZID=Europe/Rome:20260125T163000
DTSTAMP:20260420T072500
CREATED:20260103T093737Z
LAST-MODIFIED:20260103T093737Z
UID:7798-1769358600-1769358600@passpartout.art
SUMMARY:Tutto cambia! Il bruco e la farfalla e altri racconti!
DESCRIPTION:Tre piccole storie\, ispirate da racconti e da opere moderne e scientifiche\, che intrecciano affabulazione e scienza ci mostrano come tutto ciò che ci circonda\, compresa la nostra stessa vita\, sia un lungo e costante cambiamento\, conducendo i giovani spettatori nello stupefacente mondo della metamorfosi. Così come il seme si trasforma in albero e il bruco in farfalla\, una giovane ragazza può mutarsi\, grazie all’immaginazione\, in un’intera foresta. Seguendo un percorso a tappe\, il racconto si rivela un viaggio attorno al tema del cambiamento e affronta con delicatezza quel naturale sentimento di paura che gli è connesso\, mostrando come ogni “metamorfosi” porti con sé una nuova\, grande\, opportunità.
URL:https://passpartout.art/evento/tutto-cambia-il-bruco-e-la-farfalla-e-altri-racconti-2/
CATEGORIES:Teatri
END:VEVENT
BEGIN:VEVENT
DTSTART;TZID=Europe/Rome:20260125T173000
DTEND;TZID=Europe/Rome:20260125T173000
DTSTAMP:20260420T072500
CREATED:20260103T090932Z
LAST-MODIFIED:20260103T090932Z
UID:7730-1769362200-1769362200@passpartout.art
SUMMARY:Il Mago di Oz
DESCRIPTION:In mezzo agli Stati Uniti c’è il Kansas; in mezzo al Kansas\, ma non proprio a metà\, c’è la fattoria di Dorothy\, una ragazzina vivace e intraprendente\, che un bel giorno visse una straordinaria avventura nel magico regno di Oz.\nLa nostra simpatica amica incontra dapprima uno Spaventapasseri senza cervello\, poi un Uomo di latta senza cuore\, infine un Leone senza coraggio.\nMa non è tutto: laggiù abitano anche streghe malvagie e streghe bellissime\, il popolo dei Ghiottoni e quello dei Golosoni\, oltre\, naturalmente\, al potentissimo Mago di Oz che è in grado di fare qualsiasi incantesimo. O quasi.
URL:https://passpartout.art/evento/il-mago-di-oz-36/
CATEGORIES:Teatri
END:VEVENT
BEGIN:VEVENT
DTSTART;TZID=Europe/Rome:20260130T173000
DTEND;TZID=Europe/Rome:20260130T173000
DTSTAMP:20260420T072500
CREATED:20260103T090932Z
LAST-MODIFIED:20260103T090932Z
UID:7731-1769794200-1769794200@passpartout.art
SUMMARY:Lo scimmiottino color di rosa
DESCRIPTION:Nel famosissimo bosco di Vattelapesca\, che dovrebbe trovarsi in Africa o giù di lì\, abita un simpatico scimmiottino di nome Pipì\, che nel linguaggio delle scimmie significa precisamente color di rosa.\nIl signorino Alfredo\, etologo di fama (quasi) mondiale e grandissimo esperto di scimmie\, desidera incontrare Pipì e fargli molte domande; è uno studioso educato e gentile che vuole imparare tutto sugli animali della foresta.\nSulle tracce di Pipì c’è però qualcun altro\, il cattivissimo brigante Golasecca\, che non ci piace assolutamente. Ha progetti poco raccomandabili: di buono\, da lui\, non aspettatevi niente.\nVivrete avventure bizzarre e farete incontri sorprendenti ma – ne siamo certi – sarà Pipì a rubarvi il cuore. Del resto\, dove lo trovate uno scimmiottino rosa\, se non al Teatro Colla?
URL:https://passpartout.art/evento/lo-scimmiottino-color-di-rosa-16/
CATEGORIES:Teatri
END:VEVENT
BEGIN:VEVENT
DTSTART;TZID=Europe/Rome:20260131T150000
DTEND;TZID=Europe/Rome:20260131T150000
DTSTAMP:20260420T072500
CREATED:20260103T090933Z
LAST-MODIFIED:20260103T090933Z
UID:7732-1769871600-1769871600@passpartout.art
SUMMARY:Lo scimmiottino color di rosa
DESCRIPTION:Nel famosissimo bosco di Vattelapesca\, che dovrebbe trovarsi in Africa o giù di lì\, abita un simpatico scimmiottino di nome Pipì\, che nel linguaggio delle scimmie significa precisamente color di rosa.\nIl signorino Alfredo\, etologo di fama (quasi) mondiale e grandissimo esperto di scimmie\, desidera incontrare Pipì e fargli molte domande; è uno studioso educato e gentile che vuole imparare tutto sugli animali della foresta.\nSulle tracce di Pipì c’è però qualcun altro\, il cattivissimo brigante Golasecca\, che non ci piace assolutamente. Ha progetti poco raccomandabili: di buono\, da lui\, non aspettatevi niente.\nVivrete avventure bizzarre e farete incontri sorprendenti ma – ne siamo certi – sarà Pipì a rubarvi il cuore. Del resto\, dove lo trovate uno scimmiottino rosa\, se non al Teatro Colla?
URL:https://passpartout.art/evento/lo-scimmiottino-color-di-rosa-17/
CATEGORIES:Teatri
END:VEVENT
BEGIN:VEVENT
DTSTART;TZID=Europe/Rome:20260131T163000
DTEND;TZID=Europe/Rome:20260131T163000
DTSTAMP:20260420T072500
CREATED:20260103T093805Z
LAST-MODIFIED:20260103T093805Z
UID:7802-1769877000-1769877000@passpartout.art
SUMMARY:Le avventure del signor Bastoncino
DESCRIPTION:Il Signor Bastoncino è un rametto molto speciale\, è un pezzo di ramo con gambe\, braccia\, occhi\, naso e bocca… È metà albero e metà bambino. Vive in cima a un grande albero e svettando dalla sua chioma\, riesce a sentire anche il suono dei pianeti più lontani. Ma un giorno\, la brezza con cui gioca si trasforma in tornado e Signor Bastoncino viene staccato dall’albero e portato molto lontano. Inizia qui per Signor Bastoncino un viaggio avventuroso nel bosco sconosciuto. Perché cosa c’è di più terribile del sentirsi perduto? Cosa c’è di più bello del trovare un amico? Cosa c’è di più emozionante che ritrovare la propria casa?\nLe avventure di Signor Bastoncino s’ispira molto liberamente al libro per l’infanzia “Bastoncino” di Julia Donaldson con le illustrazioni di Axel Scheffler e vuole provare a raccontare ai più piccoli quanto è importante prendere coscienza della propria identità\, unica e insostituibile.
URL:https://passpartout.art/evento/le-avventure-del-signor-bastoncino/
CATEGORIES:Teatri
END:VEVENT
BEGIN:VEVENT
DTSTART;TZID=Europe/Rome:20260131T170000
DTEND;TZID=Europe/Rome:20260131T170000
DTSTAMP:20260420T072500
CREATED:20260103T093805Z
LAST-MODIFIED:20260103T093805Z
UID:7803-1769878800-1769878800@passpartout.art
SUMMARY:La pappa del panda
DESCRIPTION:I Panda rotolano e scivolano sulla neve\, sull’erba e sulle foglie. Rotolano\, scivolano e… mangiano bambù. Non solo bambù\, ma tanto\, tanto bambù… perché il bambù è la loro Pappa!\nLa storia racconta una delle tante avventure di Laura\, una piccola Panda. Di quando incontra una Mongolfiera e poi rimane senza bambù\, senza la sua Pappa.
URL:https://passpartout.art/evento/la-pappa-del-panda/
CATEGORIES:Teatri
END:VEVENT
BEGIN:VEVENT
DTSTART;TZID=Europe/Rome:20260131T173000
DTEND;TZID=Europe/Rome:20260131T173000
DTSTAMP:20260420T072500
CREATED:20260103T090933Z
LAST-MODIFIED:20260103T090933Z
UID:7733-1769880600-1769880600@passpartout.art
SUMMARY:Lo scimmiottino color di rosa
DESCRIPTION:Nel famosissimo bosco di Vattelapesca\, che dovrebbe trovarsi in Africa o giù di lì\, abita un simpatico scimmiottino di nome Pipì\, che nel linguaggio delle scimmie significa precisamente color di rosa.\nIl signorino Alfredo\, etologo di fama (quasi) mondiale e grandissimo esperto di scimmie\, desidera incontrare Pipì e fargli molte domande; è uno studioso educato e gentile che vuole imparare tutto sugli animali della foresta.\nSulle tracce di Pipì c’è però qualcun altro\, il cattivissimo brigante Golasecca\, che non ci piace assolutamente. Ha progetti poco raccomandabili: di buono\, da lui\, non aspettatevi niente.\nVivrete avventure bizzarre e farete incontri sorprendenti ma – ne siamo certi – sarà Pipì a rubarvi il cuore. Del resto\, dove lo trovate uno scimmiottino rosa\, se non al Teatro Colla?
URL:https://passpartout.art/evento/lo-scimmiottino-color-di-rosa-18/
CATEGORIES:Teatri
END:VEVENT
BEGIN:VEVENT
DTSTART;TZID=Europe/Rome:20260208T163000
DTEND;TZID=Europe/Rome:20260208T163000
DTSTAMP:20260420T072500
CREATED:20260201T153212Z
LAST-MODIFIED:20260201T153212Z
UID:7923-1770568200-1770568200@passpartout.art
SUMMARY:Piccino Picciò - GLI SMEI E GLI SMUFI & BIGIO RANDAGIO
DESCRIPTION:Film d’animazione sull’amicizia e su come superare le reciproche differenze;;
URL:https://passpartout.art/evento/piccino-piccio-gli-smei-e-gli-smufi-bigio-randagio/
CATEGORIES:Teatri
END:VEVENT
BEGIN:VEVENT
DTSTART;TZID=Europe/Rome:20260215T163000
DTEND;TZID=Europe/Rome:20260215T163000
DTSTAMP:20260420T072500
CREATED:20260201T153401Z
LAST-MODIFIED:20260201T153401Z
UID:7924-1771173000-1771173000@passpartout.art
SUMMARY:Piccino Picciò - VOLO
DESCRIPTION:Spettacolo teatrale sullo stupore di scoprire le proprie traiettorie di volo e il bagaglio di esperienze arricchito dall’incontro con l’altro;;
URL:https://passpartout.art/evento/piccino-piccio-volo/
LOCATION:Vimercate (MB)
CATEGORIES:Teatri
END:VEVENT
BEGIN:VEVENT
DTSTART;TZID=Europe/Rome:20260222T160000
DTEND;TZID=Europe/Rome:20260222T160000
DTSTAMP:20260420T072500
CREATED:20260201T153401Z
LAST-MODIFIED:20260201T153401Z
UID:7925-1771776000-1771776000@passpartout.art
SUMMARY:Piccino Picciò - MUSICALITÀ - ore 16:00
DESCRIPTION:Il Laboratorio Gordon di Musicalità è un’esperienza di apprendimento musicale condotta attraverso la voce cantata e il movimento. Genitori e bambini verranno accompagnati in un viaggio dove potranno vivere un’esperienza totalmente immersiva.;;
URL:https://passpartout.art/evento/piccino-piccio-musicalita-ore-1600/
CATEGORIES:Teatri
END:VEVENT
BEGIN:VEVENT
DTSTART;TZID=Europe/Rome:20260222T160000
DTEND;TZID=Europe/Rome:20260222T160000
DTSTAMP:20260420T072500
CREATED:20260201T160818Z
LAST-MODIFIED:20260201T160818Z
UID:7932-1771776000-1771776000@passpartout.art
SUMMARY:MAMMA HO PERSO LE FAVOLE + festa in maschera per Carnevale!
DESCRIPTION:È Carnevale! Indossa il tuo costume preferito e salpa con noi per un’avventura piena di magia e divertimento!;;
URL:https://passpartout.art/evento/mamma-ho-perso-le-favole-festa-in-maschera-per-carnevale/
CATEGORIES:Teatri
END:VEVENT
BEGIN:VEVENT
DTSTART;TZID=Europe/Rome:20260222T173000
DTEND;TZID=Europe/Rome:20260222T173000
DTSTAMP:20260420T072500
CREATED:20260201T153402Z
LAST-MODIFIED:20260201T153402Z
UID:7926-1771781400-1771781400@passpartout.art
SUMMARY:Piccino Picciò - MUSICALITÀ - ore 17:30
DESCRIPTION:Il Laboratorio Gordon di Musicalità è un’esperienza di apprendimento musicale condotta attraverso la voce cantata e il movimento. Genitori e bambini verranno accompagnati in un viaggio dove potranno vivere un’esperienza totalmente immersiva.;;
URL:https://passpartout.art/evento/piccino-piccio-musicalita-ore-1730/
CATEGORIES:Teatri
END:VEVENT
BEGIN:VEVENT
DTSTART;TZID=Europe/Rome:20260228T163000
DTEND;TZID=Europe/Rome:20260228T163000
DTSTAMP:20260420T072500
CREATED:20260201T164405Z
LAST-MODIFIED:20260201T164405Z
UID:7970-1772296200-1772296200@passpartout.art
SUMMARY:Cache cache! Nascondino
DESCRIPTION:Come sono i bambini quando nessuno li vede? Dove si nascondono quando cercano uno spazio tutto loro? Che faccia ha il mondo disegnato dai bambini senza l’intervento degli adulti? E noi adulti sappiamo come cercarli quando si nascondono? Sappiamo entrare in quella stanza a misura d’infanzia in cui gli orologi hanno i numeri di marzapane e le lancette si spostano a colpi di giri di giostra? Dove il tempo si misura con il numero di baci della buonanotte e di biscotti sgranocchiati di nascosto prima di cena o con quello delle conchiglie raccolte in spiaggia l’ultimo giorno di vacanza e dei voli in altalena. Dove il vento scompiglia i capricci e le certezze e le insicurezze sono caramelle dello stesso pacchetto solo di gusto differente.;;
URL:https://passpartout.art/evento/cache-cache-nascondino/
CATEGORIES:Teatri
END:VEVENT
BEGIN:VEVENT
DTSTART;TZID=Europe/Rome:20260301T100000
DTEND;TZID=Europe/Rome:20260301T100000
DTSTAMP:20260420T072500
CREATED:20260227T220747Z
LAST-MODIFIED:20260227T220747Z
UID:8167-1772359200-1772359200@passpartout.art
SUMMARY:In riva al mare
DESCRIPTION:Un gioco teatrale che propone e chiede il coinvolgimento attivo non solo dei bambini\, ma anche degli adulti che sono invitati a giocare insieme nella costruzione del percorso di questa narrazione “partecipata”. Un percorso che dalla frenesia della città ci porta lungo sentieri inventati\, improbabili e pieni di piccoli buffi incontri da mimare insieme\, fino alla “nostra” spiaggia. Finalmente seduti\, possiamo sentire il caldo del sole\, i suoni del mare\, le strida di gabbiani attorno a noi. Una piccola onda azzurra si stende allora ai nostri piedi e poi ci copre\, piano\, piano e senza paura. L’onda\, ritirandosi\, segna la fine del gioco teatrale\, lasciando sulla spiaggia piccoli doni (conchiglie\, stelle marine\, cavallucci marini\, legni levigati\, granchi reinventati e colorati) con cui concludere l’avventura assieme\, per aprirci alla libera reinvenzione di nuove storie da giocare insieme\, grandi e piccoli. Un omaggio finale al bellissimo silent-book L’Onda di Suzy Lee che ha ispirato questo gioco teatrale.
URL:https://passpartout.art/evento/in-riva-al-mare-6/
CATEGORIES:Teatri
END:VEVENT
BEGIN:VEVENT
DTSTART;TZID=Europe/Rome:20260301T150000
DTEND;TZID=Europe/Rome:20260301T150000
DTSTAMP:20260420T072500
CREATED:20260227T220646Z
LAST-MODIFIED:20260227T220646Z
UID:8145-1772377200-1772377200@passpartout.art
SUMMARY:Peter Pan
DESCRIPTION:Mamma e papà Darling\, stasera\, escono a cena e sono vestiti eleganti; Michael\, John e Wendy restano a casa con la loro simpatica tata\, un grosso cane di nome Nana. Peter Pan\, insieme alla fata Campanellino\, è in cerca della sua ombra: con loro i bambini Darling impareranno a volare. Cosparsi della polvere fatata raggiungeranno il Paese Che Non C’è dove abitano i Ragazzi Perduti\, il terribile Capitano Uncino\, il suo perfido aiutante Spugna e un allegro coccodrillo che sa ballare il mambo. Voi\, però\, non dimenticatevi di diventare grandi: si possono imparare cose importanti persino dalle fiabe e si può crescere anche continuando a volare
URL:https://passpartout.art/evento/peter-pan-29/
CATEGORIES:Teatri
END:VEVENT
BEGIN:VEVENT
DTSTART;TZID=Europe/Rome:20260301T160000
DTEND;TZID=Europe/Rome:20260301T160000
DTSTAMP:20260420T072500
CREATED:20260227T220030Z
LAST-MODIFIED:20260227T220030Z
UID:8035-1772380800-1772380800@passpartout.art
SUMMARY:Il grande viaggio del piccolo Händel
DESCRIPTION:Un appassionante concerto spettacolo per far conoscere ai più piccoli la storia e la musica del grande compositore e giramondo George Frideric Händel. Nello spettacolo\, i piccoli spettatori viaggeranno dagli innevati paesaggi tedeschi alla scintillante Parigi\, dalle assolate spiagge italiane alle rive del Tamigi\, in compagnia di un gruppo di bizzarri musicisti alla ricerca della “Fonte dell’ispirazione”. A guidarli il maestro Händel in carne e ossa (o meglio in stoffa e gommapiuma!) e la sua assistente Clotilde (Annachiara Zanoli\, attrice e artigiana puppet maker).
URL:https://passpartout.art/evento/il-grande-viaggio-del-piccolo-handel/
CATEGORIES:Teatri
END:VEVENT
BEGIN:VEVENT
DTSTART;TZID=Europe/Rome:20260301T173000
DTEND;TZID=Europe/Rome:20260301T173000
DTSTAMP:20260420T072500
CREATED:20260227T220030Z
LAST-MODIFIED:20260227T220030Z
UID:8036-1772386200-1772386200@passpartout.art
SUMMARY:Il grande viaggio del piccolo Händel
DESCRIPTION:Un appassionante concerto spettacolo per far conoscere ai più piccoli la storia e la musica del grande compositore e giramondo George Frideric Händel. Nello spettacolo\, i piccoli spettatori viaggeranno dagli innevati paesaggi tedeschi alla scintillante Parigi\, dalle assolate spiagge italiane alle rive del Tamigi\, in compagnia di un gruppo di bizzarri musicisti alla ricerca della “Fonte dell’ispirazione”. A guidarli il maestro Händel in carne e ossa (o meglio in stoffa e gommapiuma!) e la sua assistente Clotilde (Annachiara Zanoli\, attrice e artigiana puppet maker).
URL:https://passpartout.art/evento/il-grande-viaggio-del-piccolo-handel-2/
CATEGORIES:Teatri
END:VEVENT
BEGIN:VEVENT
DTSTART;TZID=Europe/Rome:20260301T173000
DTEND;TZID=Europe/Rome:20260301T173000
DTSTAMP:20260420T072500
CREATED:20260227T220646Z
LAST-MODIFIED:20260227T220646Z
UID:8146-1772386200-1772386200@passpartout.art
SUMMARY:Peter Pan
DESCRIPTION:Mamma e papà Darling\, stasera\, escono a cena e sono vestiti eleganti; Michael\, John e Wendy restano a casa con la loro simpatica tata\, un grosso cane di nome Nana. Peter Pan\, insieme alla fata Campanellino\, è in cerca della sua ombra: con loro i bambini Darling impareranno a volare. Cosparsi della polvere fatata raggiungeranno il Paese Che Non C’è dove abitano i Ragazzi Perduti\, il terribile Capitano Uncino\, il suo perfido aiutante Spugna e un allegro coccodrillo che sa ballare il mambo. Voi\, però\, non dimenticatevi di diventare grandi: si possono imparare cose importanti persino dalle fiabe e si può crescere anche continuando a volare
URL:https://passpartout.art/evento/peter-pan-30/
CATEGORIES:Teatri
END:VEVENT
BEGIN:VEVENT
DTSTART;TZID=Europe/Rome:20260304T163000
DTEND;TZID=Europe/Rome:20260304T163000
DTSTAMP:20260420T072500
CREATED:20260227T221101Z
LAST-MODIFIED:20260227T221101Z
UID:8230-1772641800-1772641800@passpartout.art
SUMMARY:Piccoli artigiani - Laboratorio di fotografia
DESCRIPTION:Ogni laboratorio creativo che si rispetti stimola la creatività\, migliora la coordinazione motoria e la capacità di pianificare\, favorisce la socializzazione e aumenta la fiducia in se stessi… ma questi sono laboratori speciali! Quattro artigiani del territorio guideranno i bambini alla scoperta della loro professione\, raccontando il lavoro che svolgono e collaborando con i nostri “piccoli artigiani” alla realizzazione di opere uniche.
URL:https://passpartout.art/evento/piccoli-artigiani-laboratorio-di-fotografia/
CATEGORIES:Teatri
END:VEVENT
BEGIN:VEVENT
DTSTART;TZID=Europe/Rome:20260306T173000
DTEND;TZID=Europe/Rome:20260306T173000
DTSTAMP:20260420T072500
CREATED:20260227T220647Z
LAST-MODIFIED:20260227T220647Z
UID:8147-1772818200-1772818200@passpartout.art
SUMMARY:Cappuccetto Rosso
DESCRIPTION:La mamma di Cappuccetto Rosso sforna dolci buonissimi. La nonna è malata e vorrebbe un po’ di compagnia\, ma anche una fetta di torta non le dispiacerebbe affatto. Cappuccetto Rosso va dalla nonna con una torta appena sfornata; per la strada incontra un circo e assiste allo spettacolo. Gli artisti ci sono tutti: acrobati\, ballerine\, pagliacci e musicisti. Ci sono anche un prestigiatore molto elegante e un lupo molto affamato che al circo si annoia da morire. Secondo voi: chi mangerà la torta?
URL:https://passpartout.art/evento/cappuccetto-rosso-11/
CATEGORIES:Teatri
END:VEVENT
BEGIN:VEVENT
DTSTART;TZID=Europe/Rome:20260307T150000
DTEND;TZID=Europe/Rome:20260307T150000
DTSTAMP:20260420T072500
CREATED:20260227T220700Z
LAST-MODIFIED:20260227T220700Z
UID:8148-1772895600-1772895600@passpartout.art
SUMMARY:Cappuccetto Rosso
DESCRIPTION:La mamma di Cappuccetto Rosso sforna dolci buonissimi. La nonna è malata e vorrebbe un po’ di compagnia\, ma anche una fetta di torta non le dispiacerebbe affatto. Cappuccetto Rosso va dalla nonna con una torta appena sfornata; per la strada incontra un circo e assiste allo spettacolo. Gli artisti ci sono tutti: acrobati\, ballerine\, pagliacci e musicisti. Ci sono anche un prestigiatore molto elegante e un lupo molto affamato che al circo si annoia da morire. Secondo voi: chi mangerà la torta?
URL:https://passpartout.art/evento/cappuccetto-rosso-12/
CATEGORIES:Teatri
END:VEVENT
END:VCALENDAR