BEGIN:VCALENDAR
VERSION:2.0
PRODID:-//Passpartout - ECPv6.15.20//NONSGML v1.0//EN
CALSCALE:GREGORIAN
METHOD:PUBLISH
X-ORIGINAL-URL:https://passpartout.art
X-WR-CALDESC:Eventi per Passpartout
REFRESH-INTERVAL;VALUE=DURATION:PT1H
X-Robots-Tag:noindex
X-PUBLISHED-TTL:PT1H
BEGIN:VTIMEZONE
TZID:Europe/Rome
BEGIN:DAYLIGHT
TZOFFSETFROM:+0100
TZOFFSETTO:+0200
TZNAME:CEST
DTSTART:20240331T010000
END:DAYLIGHT
BEGIN:STANDARD
TZOFFSETFROM:+0200
TZOFFSETTO:+0100
TZNAME:CET
DTSTART:20241027T010000
END:STANDARD
BEGIN:DAYLIGHT
TZOFFSETFROM:+0100
TZOFFSETTO:+0200
TZNAME:CEST
DTSTART:20250330T010000
END:DAYLIGHT
BEGIN:STANDARD
TZOFFSETFROM:+0200
TZOFFSETTO:+0100
TZNAME:CET
DTSTART:20251026T010000
END:STANDARD
BEGIN:DAYLIGHT
TZOFFSETFROM:+0100
TZOFFSETTO:+0200
TZNAME:CEST
DTSTART:20260329T010000
END:DAYLIGHT
BEGIN:STANDARD
TZOFFSETFROM:+0200
TZOFFSETTO:+0100
TZNAME:CET
DTSTART:20261025T010000
END:STANDARD
END:VTIMEZONE
BEGIN:VEVENT
DTSTART;TZID=Europe/Rome:20251205T173000
DTEND;TZID=Europe/Rome:20251205T173000
DTSTAMP:20260420T093551
CREATED:20251205T165135Z
LAST-MODIFIED:20251205T165135Z
UID:7542-1764955800-1764955800@passpartout.art
SUMMARY:CANTO DI NATALE
DESCRIPTION:Venerdì 5 dicembre debutta CANTO DI NATALE\, quarto spettacolo della stagione.
URL:https://passpartout.art/evento/canto-di-natale/
CATEGORIES:Teatri
END:VEVENT
BEGIN:VEVENT
DTSTART;TZID=Europe/Rome:20251206T150000
DTEND;TZID=Europe/Rome:20251206T150000
DTSTAMP:20260420T093551
CREATED:20251205T165136Z
LAST-MODIFIED:20251205T165136Z
UID:7543-1765033200-1765033200@passpartout.art
SUMMARY:CANTO DI NATALE
DESCRIPTION:Venerdì 5 dicembre debutta CANTO DI NATALE\, quarto spettacolo della stagione.
URL:https://passpartout.art/evento/canto-di-natale-2/
CATEGORIES:Teatri
END:VEVENT
BEGIN:VEVENT
DTSTART;TZID=Europe/Rome:20251206T163000
DTEND;TZID=Europe/Rome:20251206T163000
DTSTAMP:20260420T093551
CREATED:20251205T165312Z
LAST-MODIFIED:20251205T165312Z
UID:7590-1765038600-1765038600@passpartout.art
SUMMARY:Becco di Rame
DESCRIPTION:Becco di Rame è la storia vera di un’oca Tolosa che una notte\, per proteggere l’aia e il pollaio\, in una lotta furiosa con una volpe\, perde la parte superiore del becco rischiando di non poter sopravvivere. Ma il veterinario Briganti crea una protesi di rame che le permette di tornare alla vita di sempre.
URL:https://passpartout.art/evento/becco-di-rame-5/
CATEGORIES:Teatri
END:VEVENT
BEGIN:VEVENT
DTSTART;TZID=Europe/Rome:20251206T170000
DTEND;TZID=Europe/Rome:20251206T170000
DTSTAMP:20260420T093551
CREATED:20251205T165321Z
LAST-MODIFIED:20251205T165321Z
UID:7592-1765040400-1765040400@passpartout.art
SUMMARY:Storie nel nido
DESCRIPTION:Un nido – un angolo raccolto di piumoni e cuscini che ci aiuteranno a creare il “nostro” posto e a stare più comodi – è il luogo del nostro racconto\, dove troveremo i libri\, alcuni dei quali saranno suggerimenti per “i grandi” e da usare a casa\, ripercorrendo nella dimensione privata della famiglia il gioco della lettura\, del rapporto genitore/bambino\, ricercando i testi in biblioteche e librerie.
URL:https://passpartout.art/evento/storie-nel-nido-13/
CATEGORIES:Teatri
END:VEVENT
BEGIN:VEVENT
DTSTART;TZID=Europe/Rome:20251206T173000
DTEND;TZID=Europe/Rome:20251206T173000
DTSTAMP:20260420T093551
CREATED:20251205T165136Z
LAST-MODIFIED:20251205T165136Z
UID:7544-1765042200-1765042200@passpartout.art
SUMMARY:CANTO DI NATALE
DESCRIPTION:Venerdì 5 dicembre debutta CANTO DI NATALE\, quarto spettacolo della stagione.
URL:https://passpartout.art/evento/canto-di-natale-3/
CATEGORIES:Teatri
END:VEVENT
BEGIN:VEVENT
DTSTART;TZID=Europe/Rome:20251207T100000
DTEND;TZID=Europe/Rome:20251207T100000
DTSTAMP:20260420T093551
CREATED:20251205T165344Z
LAST-MODIFIED:20251205T165344Z
UID:7607-1765101600-1765101600@passpartout.art
SUMMARY:Patatrac! Le burle di Falstaff
DESCRIPTION:Una palla è una pancia\, una testa\, un corpo di animale. Per gioco si trasforma di continuo\, e tra una burla e l’altra\, è perfino possibile che diventi Falstaff!\nIspirato al capolavoro di Giuseppe Verdi\, questo spettacolo per la primissima infanzia esplora il gioco come linguaggio universale\, trasportando i piccoli spettatori in un universo incantato dove tutto è possibile.\nUn’avventura poetica che stimola l’immaginazione e celebra la fantasia.
URL:https://passpartout.art/evento/patatrac-le-burle-di-falstaff/
CATEGORIES:Teatri
END:VEVENT
BEGIN:VEVENT
DTSTART;TZID=Europe/Rome:20251207T111500
DTEND;TZID=Europe/Rome:20251207T111500
DTSTAMP:20260420T093551
CREATED:20251205T165344Z
LAST-MODIFIED:20251205T165344Z
UID:7608-1765106100-1765106100@passpartout.art
SUMMARY:Patatrac! Le burle di Falstaff
DESCRIPTION:Una palla è una pancia\, una testa\, un corpo di animale. Per gioco si trasforma di continuo\, e tra una burla e l’altra\, è perfino possibile che diventi Falstaff!\nIspirato al capolavoro di Giuseppe Verdi\, questo spettacolo per la primissima infanzia esplora il gioco come linguaggio universale\, trasportando i piccoli spettatori in un universo incantato dove tutto è possibile.\nUn’avventura poetica che stimola l’immaginazione e celebra la fantasia.
URL:https://passpartout.art/evento/patatrac-le-burle-di-falstaff-2/
CATEGORIES:Teatri
END:VEVENT
BEGIN:VEVENT
DTSTART;TZID=Europe/Rome:20251207T150000
DTEND;TZID=Europe/Rome:20251207T150000
DTSTAMP:20260420T093551
CREATED:20251205T165136Z
LAST-MODIFIED:20251205T165136Z
UID:7545-1765119600-1765119600@passpartout.art
SUMMARY:CANTO DI NATALE
DESCRIPTION:Venerdì 5 dicembre debutta CANTO DI NATALE\, quarto spettacolo della stagione.
URL:https://passpartout.art/evento/canto-di-natale-4/
CATEGORIES:Teatri
END:VEVENT
BEGIN:VEVENT
DTSTART;TZID=Europe/Rome:20251207T163000
DTEND;TZID=Europe/Rome:20251207T163000
DTSTAMP:20260420T093551
CREATED:20251205T165313Z
LAST-MODIFIED:20251205T165313Z
UID:7591-1765125000-1765125000@passpartout.art
SUMMARY:Becco di Rame
DESCRIPTION:Becco di Rame è la storia vera di un’oca Tolosa che una notte\, per proteggere l’aia e il pollaio\, in una lotta furiosa con una volpe\, perde la parte superiore del becco rischiando di non poter sopravvivere. Ma il veterinario Briganti crea una protesi di rame che le permette di tornare alla vita di sempre.
URL:https://passpartout.art/evento/becco-di-rame-6/
CATEGORIES:Teatri
END:VEVENT
BEGIN:VEVENT
DTSTART;TZID=Europe/Rome:20251207T173000
DTEND;TZID=Europe/Rome:20251207T173000
DTSTAMP:20260420T093551
CREATED:20251205T165137Z
LAST-MODIFIED:20251205T165137Z
UID:7546-1765128600-1765128600@passpartout.art
SUMMARY:CANTO DI NATALE
DESCRIPTION:Venerdì 5 dicembre debutta CANTO DI NATALE\, quarto spettacolo della stagione.
URL:https://passpartout.art/evento/canto-di-natale-5/
CATEGORIES:Teatri
END:VEVENT
BEGIN:VEVENT
DTSTART;TZID=Europe/Rome:20251208T163000
DTEND;TZID=Europe/Rome:20251208T163000
DTSTAMP:20260420T093551
CREATED:20251205T165323Z
LAST-MODIFIED:20251205T165323Z
UID:7596-1765211400-1765211400@passpartout.art
SUMMARY:Il baule di Natale
DESCRIPTION:Aprire un grande baule è come esplorare un grande mare\, un cielo stellato\, un pozzo profondo\, il Polo Nord\, il sacco di Babbo Natale. Ci trovi cose dimenticate\, storie da raccontare e già raccontate\, domande a cui dare risposte come: Quanti anni ha Babbo natale? Il Natale è vicino e Selly e Gabriele decidono di aprire il grande baule dimenticato in soffitta. Quante sorprese! Troveranno bufere di neve\, un pacchetto misterioso\, la luce brillante della Stella Polare… “Dentro la notte ci sono le stelle si tengono per mano come sorelle; dentro il baule un cuscino di neve; che il Natale sia per tutti dolce\, lieve; dentro al cuore ci son desideri coltiviamoli bene che diventano veri”.
URL:https://passpartout.art/evento/il-baule-di-natale-6/
CATEGORIES:Teatri
END:VEVENT
BEGIN:VEVENT
DTSTART;TZID=Europe/Rome:20251212T173000
DTEND;TZID=Europe/Rome:20251212T173000
DTSTAMP:20260420T093551
CREATED:20251205T165143Z
LAST-MODIFIED:20251205T165143Z
UID:7547-1765560600-1765560600@passpartout.art
SUMMARY:CANTO DI NATALE
DESCRIPTION:Venerdì 5 dicembre debutta CANTO DI NATALE\, quarto spettacolo della stagione.
URL:https://passpartout.art/evento/canto-di-natale-6/
CATEGORIES:Teatri
END:VEVENT
BEGIN:VEVENT
DTSTART;TZID=Europe/Rome:20251213T150000
DTEND;TZID=Europe/Rome:20251213T150000
DTSTAMP:20260420T093551
CREATED:20251205T165143Z
LAST-MODIFIED:20251205T165143Z
UID:7548-1765638000-1765638000@passpartout.art
SUMMARY:CANTO DI NATALE
DESCRIPTION:Venerdì 5 dicembre debutta CANTO DI NATALE\, quarto spettacolo della stagione.
URL:https://passpartout.art/evento/canto-di-natale-7/
CATEGORIES:Teatri
END:VEVENT
BEGIN:VEVENT
DTSTART;TZID=Europe/Rome:20251213T163000
DTEND;TZID=Europe/Rome:20251213T163000
DTSTAMP:20260420T093551
CREATED:20251205T165331Z
LAST-MODIFIED:20251205T165334Z
UID:7597-1765643400-1765643400@passpartout.art
SUMMARY:Bianca Balena. - Piccolo viaggio nel profondo
DESCRIPTION:Una scena blu e bianca accoglie i piccoli spettatori. Una tenda? Una tana sottomarina? O il ventre di una balena?\nSi sente il suono delle onde. Qualcuno che canta. Qualcosa si accende\, qualcosa si muove. Qualcosa che incanta. Un piccolo viaggio subacqueo alla continua scoperta di sorprendenti tesori.\nTra delicate suggestioni visive e sonore\, un’immersione in un grembo teatrale confortevole e immaginifico\, per riscoprire la magia di attendere\, di stare e di lasciarsi cullare.
URL:https://passpartout.art/evento/bianca-balena-piccolo-viaggio-nel-profondo-3/
CATEGORIES:Teatri
END:VEVENT
BEGIN:VEVENT
DTSTART;TZID=Europe/Rome:20251213T163000
DTEND;TZID=Europe/Rome:20251213T163000
DTSTAMP:20260420T093551
CREATED:20251205T165332Z
LAST-MODIFIED:20251205T165335Z
UID:7600-1765643400-1765643400@passpartout.art
SUMMARY:Pandizenzero. Storie dolci di Natale
DESCRIPTION:Mancano solo cinque giorni a Natale: cinque case bianche\, piccole\, col tetto rosso – come un piccolo paese aspetta nel silenzio emozionato – aspettano il giorno della festa.\nCinque case bianche\, piccole\, col tetto rosso – come finestrelle di un breve calendario dell’avvento – aspettano di svelare i doni\, la vita e i desideri di chi le abita. Benedetta e Marta\, una dopo l’altra\, racconteranno delicate storie sensibili\, che ogni casa custodisce\, e poi regala: la storia del signor Muz e del suo cappello\, della stella che manca al suo albero di Natale; di Zahi\, un bambino che viene da lontano e non ha una casa\, e del suo desiderio: una bicicletta rossa come il vestito di Babbo Natale. Pan di Zenzero\, il dolce biscotto che era un bambino ma che poi… non possiamo raccontare tutto\, bisogna aspettare! Nell’attesa\, cominciate a sognare…
URL:https://passpartout.art/evento/pandizenzero-storie-dolci-di-natale-5/
CATEGORIES:Teatri
END:VEVENT
BEGIN:VEVENT
DTSTART;TZID=Europe/Rome:20251213T173000
DTEND;TZID=Europe/Rome:20251213T173000
DTSTAMP:20260420T093551
CREATED:20251205T165144Z
LAST-MODIFIED:20251205T165144Z
UID:7549-1765647000-1765647000@passpartout.art
SUMMARY:CANTO DI NATALE
DESCRIPTION:Venerdì 5 dicembre debutta CANTO DI NATALE\, quarto spettacolo della stagione.
URL:https://passpartout.art/evento/canto-di-natale-8/
CATEGORIES:Teatri
END:VEVENT
BEGIN:VEVENT
DTSTART;TZID=Europe/Rome:20251214T100000
DTEND;TZID=Europe/Rome:20251214T100000
DTSTAMP:20260420T093551
CREATED:20251205T165332Z
LAST-MODIFIED:20251205T165334Z
UID:7598-1765706400-1765706400@passpartout.art
SUMMARY:Bianca Balena. - Piccolo viaggio nel profondo
DESCRIPTION:Una scena blu e bianca accoglie i piccoli spettatori. Una tenda? Una tana sottomarina? O il ventre di una balena?\nSi sente il suono delle onde. Qualcuno che canta. Qualcosa si accende\, qualcosa si muove. Qualcosa che incanta. Un piccolo viaggio subacqueo alla continua scoperta di sorprendenti tesori.\nTra delicate suggestioni visive e sonore\, un’immersione in un grembo teatrale confortevole e immaginifico\, per riscoprire la magia di attendere\, di stare e di lasciarsi cullare.
URL:https://passpartout.art/evento/bianca-balena-piccolo-viaggio-nel-profondo-4/
CATEGORIES:Teatri
END:VEVENT
BEGIN:VEVENT
DTSTART;TZID=Europe/Rome:20251214T111500
DTEND;TZID=Europe/Rome:20251214T111500
DTSTAMP:20260420T093551
CREATED:20251205T165332Z
LAST-MODIFIED:20251205T165334Z
UID:7599-1765710900-1765710900@passpartout.art
SUMMARY:Bianca Balena. - Piccolo viaggio nel profondo
DESCRIPTION:Una scena blu e bianca accoglie i piccoli spettatori. Una tenda? Una tana sottomarina? O il ventre di una balena?\nSi sente il suono delle onde. Qualcuno che canta. Qualcosa si accende\, qualcosa si muove. Qualcosa che incanta. Un piccolo viaggio subacqueo alla continua scoperta di sorprendenti tesori.\nTra delicate suggestioni visive e sonore\, un’immersione in un grembo teatrale confortevole e immaginifico\, per riscoprire la magia di attendere\, di stare e di lasciarsi cullare.
URL:https://passpartout.art/evento/bianca-balena-piccolo-viaggio-nel-profondo-5/
CATEGORIES:Teatri
END:VEVENT
BEGIN:VEVENT
DTSTART;TZID=Europe/Rome:20251214T150000
DTEND;TZID=Europe/Rome:20251214T150000
DTSTAMP:20260420T093551
CREATED:20251205T165144Z
LAST-MODIFIED:20251205T165144Z
UID:7550-1765724400-1765724400@passpartout.art
SUMMARY:CANTO DI NATALE
DESCRIPTION:Venerdì 5 dicembre debutta CANTO DI NATALE\, quarto spettacolo della stagione.
URL:https://passpartout.art/evento/canto-di-natale-9/
CATEGORIES:Teatri
END:VEVENT
BEGIN:VEVENT
DTSTART;TZID=Europe/Rome:20251214T163000
DTEND;TZID=Europe/Rome:20251214T163000
DTSTAMP:20260420T093551
CREATED:20251205T165333Z
LAST-MODIFIED:20251205T165335Z
UID:7601-1765729800-1765729800@passpartout.art
SUMMARY:Pandizenzero. Storie dolci di Natale
DESCRIPTION:Mancano solo cinque giorni a Natale: cinque case bianche\, piccole\, col tetto rosso – come un piccolo paese aspetta nel silenzio emozionato – aspettano il giorno della festa.\nCinque case bianche\, piccole\, col tetto rosso – come finestrelle di un breve calendario dell’avvento – aspettano di svelare i doni\, la vita e i desideri di chi le abita. Benedetta e Marta\, una dopo l’altra\, racconteranno delicate storie sensibili\, che ogni casa custodisce\, e poi regala: la storia del signor Muz e del suo cappello\, della stella che manca al suo albero di Natale; di Zahi\, un bambino che viene da lontano e non ha una casa\, e del suo desiderio: una bicicletta rossa come il vestito di Babbo Natale. Pan di Zenzero\, il dolce biscotto che era un bambino ma che poi… non possiamo raccontare tutto\, bisogna aspettare! Nell’attesa\, cominciate a sognare…
URL:https://passpartout.art/evento/pandizenzero-storie-dolci-di-natale-6/
CATEGORIES:Teatri
END:VEVENT
BEGIN:VEVENT
DTSTART;TZID=Europe/Rome:20251214T173000
DTEND;TZID=Europe/Rome:20251214T173000
DTSTAMP:20260420T093551
CREATED:20251205T165144Z
LAST-MODIFIED:20251205T165144Z
UID:7551-1765733400-1765733400@passpartout.art
SUMMARY:CANTO DI NATALE
DESCRIPTION:Venerdì 5 dicembre debutta CANTO DI NATALE\, quarto spettacolo della stagione.
URL:https://passpartout.art/evento/canto-di-natale-10/
CATEGORIES:Teatri
END:VEVENT
BEGIN:VEVENT
DTSTART;TZID=Europe/Rome:20251216T170000
DTEND;TZID=Europe/Rome:20251216T170000
DTSTAMP:20260420T093551
CREATED:20251205T165539Z
LAST-MODIFIED:20251205T165539Z
UID:7651-1765904400-1765904400@passpartout.art
SUMMARY:Babbo Natale e le formiche
DESCRIPTION:Tanto tempo fa quando Babbo Natale passava per i camini poteva anche capitare di vederlo… ma allora cosa è successo? Perché non riusciamo più a vederlo?
URL:https://passpartout.art/evento/babbo-natale-e-le-formiche/
CATEGORIES:Teatri
END:VEVENT
BEGIN:VEVENT
DTSTART;TZID=Europe/Rome:20251217T170000
DTEND;TZID=Europe/Rome:20251217T170000
DTSTAMP:20260420T093551
CREATED:20251205T165542Z
LAST-MODIFIED:20251205T165542Z
UID:7652-1765990800-1765990800@passpartout.art
SUMMARY:Racconti tra i fiocchi
DESCRIPTION:Libri che accendono scintille nei cuori\, racconti che si vestono di neve\, luci tremolanti e promesse sussurrate: un momento per ascoltare\, come in una favola natalizia\, ed entrare in un mondo fatto di silenzio\, meraviglia e calore.
URL:https://passpartout.art/evento/racconti-tra-i-fiocchi/
CATEGORIES:Teatri
END:VEVENT
BEGIN:VEVENT
DTSTART;TZID=Europe/Rome:20251218T170000
DTEND;TZID=Europe/Rome:20251218T170000
DTSTAMP:20260420T093551
CREATED:20251205T165542Z
LAST-MODIFIED:20251205T165542Z
UID:7653-1766077200-1766077200@passpartout.art
SUMMARY:La fiaba dello Schiaccianoci
DESCRIPTION:Nel racconto\, ispirato al balletto con le musiche di Cajkovskij\, la piccola Clara riceve come regalo uno strano schiaccianoci a forma di soldatino\, e la notte stessa sarà protagonista di un’avventura straordinaria.
URL:https://passpartout.art/evento/la-fiaba-dello-schiaccianoci/
CATEGORIES:Teatri
END:VEVENT
BEGIN:VEVENT
DTSTART;TZID=Europe/Rome:20251219T170000
DTEND;TZID=Europe/Rome:20251219T170000
DTSTAMP:20260420T093551
CREATED:20251205T165542Z
LAST-MODIFIED:20251205T165542Z
UID:7654-1766163600-1766163600@passpartout.art
SUMMARY:Libri sotto all'albero
DESCRIPTION:Una lettura piena di sorrisi\, suoni di campanellini\, risate leggere e piccoli imprevisti che scaldano l’anima: storie che assomigliano a piccoli pacchetti da scartare\, allegre e brillanti\, tutte da ascoltare insieme.
URL:https://passpartout.art/evento/libri-sotto-allalbero/
CATEGORIES:Teatri
END:VEVENT
BEGIN:VEVENT
DTSTART;TZID=Europe/Rome:20251219T173000
DTEND;TZID=Europe/Rome:20251219T173000
DTSTAMP:20260420T093551
CREATED:20251205T165158Z
LAST-MODIFIED:20251205T165158Z
UID:7552-1766165400-1766165400@passpartout.art
SUMMARY:CANTO DI NATALE
DESCRIPTION:Venerdì 5 dicembre debutta CANTO DI NATALE\, quarto spettacolo della stagione.
URL:https://passpartout.art/evento/canto-di-natale-11/
CATEGORIES:Teatri
END:VEVENT
BEGIN:VEVENT
DTSTART;TZID=Europe/Rome:20251219T203000
DTEND;TZID=Europe/Rome:20251219T203000
DTSTAMP:20260420T093551
CREATED:20251205T165322Z
LAST-MODIFIED:20251205T165322Z
UID:7593-1766176200-1766176200@passpartout.art
SUMMARY:Il baule di Natale
DESCRIPTION:Aprire un grande baule è come esplorare un grande mare\, un cielo stellato\, un pozzo profondo\, il Polo Nord\, il sacco di Babbo Natale. Ci trovi cose dimenticate\, storie da raccontare e già raccontate\, domande a cui dare risposte come: Quanti anni ha Babbo natale? Il Natale è vicino e Selly e Gabriele decidono di aprire il grande baule dimenticato in soffitta. Quante sorprese! Troveranno bufere di neve\, un pacchetto misterioso\, la luce brillante della Stella Polare… “Dentro la notte ci sono le stelle si tengono per mano come sorelle; dentro il baule un cuscino di neve; che il Natale sia per tutti dolce\, lieve; dentro al cuore ci son desideri coltiviamoli bene che diventano veri”.
URL:https://passpartout.art/evento/il-baule-di-natale-3/
CATEGORIES:Teatri
END:VEVENT
BEGIN:VEVENT
DTSTART;TZID=Europe/Rome:20251220T150000
DTEND;TZID=Europe/Rome:20251220T150000
DTSTAMP:20260420T093551
CREATED:20251205T165158Z
LAST-MODIFIED:20251205T165158Z
UID:7553-1766242800-1766242800@passpartout.art
SUMMARY:CANTO DI NATALE
DESCRIPTION:Venerdì 5 dicembre debutta CANTO DI NATALE\, quarto spettacolo della stagione.
URL:https://passpartout.art/evento/canto-di-natale-12/
CATEGORIES:Teatri
END:VEVENT
BEGIN:VEVENT
DTSTART;TZID=Europe/Rome:20251220T163000
DTEND;TZID=Europe/Rome:20251220T163000
DTSTAMP:20260420T093551
CREATED:20251205T165322Z
LAST-MODIFIED:20251205T165322Z
UID:7594-1766248200-1766248200@passpartout.art
SUMMARY:Il baule di Natale
DESCRIPTION:Aprire un grande baule è come esplorare un grande mare\, un cielo stellato\, un pozzo profondo\, il Polo Nord\, il sacco di Babbo Natale. Ci trovi cose dimenticate\, storie da raccontare e già raccontate\, domande a cui dare risposte come: Quanti anni ha Babbo natale? Il Natale è vicino e Selly e Gabriele decidono di aprire il grande baule dimenticato in soffitta. Quante sorprese! Troveranno bufere di neve\, un pacchetto misterioso\, la luce brillante della Stella Polare… “Dentro la notte ci sono le stelle si tengono per mano come sorelle; dentro il baule un cuscino di neve; che il Natale sia per tutti dolce\, lieve; dentro al cuore ci son desideri coltiviamoli bene che diventano veri”.
URL:https://passpartout.art/evento/il-baule-di-natale-4/
CATEGORIES:Teatri
END:VEVENT
BEGIN:VEVENT
DTSTART;TZID=Europe/Rome:20251220T173000
DTEND;TZID=Europe/Rome:20251220T173000
DTSTAMP:20260420T093551
CREATED:20251205T165158Z
LAST-MODIFIED:20251205T165158Z
UID:7554-1766251800-1766251800@passpartout.art
SUMMARY:CANTO DI NATALE
DESCRIPTION:Venerdì 5 dicembre debutta CANTO DI NATALE\, quarto spettacolo della stagione.
URL:https://passpartout.art/evento/canto-di-natale-13/
CATEGORIES:Teatri
END:VEVENT
END:VCALENDAR