BEGIN:VCALENDAR
VERSION:2.0
PRODID:-//Passpartout - ECPv6.15.20//NONSGML v1.0//EN
CALSCALE:GREGORIAN
METHOD:PUBLISH
X-ORIGINAL-URL:https://passpartout.art
X-WR-CALDESC:Eventi per Passpartout
REFRESH-INTERVAL;VALUE=DURATION:PT1H
X-Robots-Tag:noindex
X-PUBLISHED-TTL:PT1H
BEGIN:VTIMEZONE
TZID:Europe/Rome
BEGIN:DAYLIGHT
TZOFFSETFROM:+0100
TZOFFSETTO:+0200
TZNAME:CEST
DTSTART:20240331T010000
END:DAYLIGHT
BEGIN:STANDARD
TZOFFSETFROM:+0200
TZOFFSETTO:+0100
TZNAME:CET
DTSTART:20241027T010000
END:STANDARD
BEGIN:DAYLIGHT
TZOFFSETFROM:+0100
TZOFFSETTO:+0200
TZNAME:CEST
DTSTART:20250330T010000
END:DAYLIGHT
BEGIN:STANDARD
TZOFFSETFROM:+0200
TZOFFSETTO:+0100
TZNAME:CET
DTSTART:20251026T010000
END:STANDARD
BEGIN:DAYLIGHT
TZOFFSETFROM:+0100
TZOFFSETTO:+0200
TZNAME:CEST
DTSTART:20260329T010000
END:DAYLIGHT
BEGIN:STANDARD
TZOFFSETFROM:+0200
TZOFFSETTO:+0100
TZNAME:CET
DTSTART:20261025T010000
END:STANDARD
END:VTIMEZONE
BEGIN:VEVENT
DTSTART;TZID=Europe/Rome:20250511T100000
DTEND;TZID=Europe/Rome:20250511T100000
DTSTAMP:20260425T125604
CREATED:20250430T221432Z
LAST-MODIFIED:20250430T221432Z
UID:6519-1746957600-1746957600@passpartout.art
SUMMARY:Nati per il teatro learning - CON GLI OCCHI DEI PICCOLI
DESCRIPTION:Utilizzando alcune pratiche somatiche provenienti dal Body-Mind Centering® proveremo a cambiare il nostro punto di vista\, giocando a indossare nuovi occhi per vedere il mondo e ad abitare nuovi corpi per esplorarlo.
URL:https://passpartout.art/evento/nati-per-il-teatro-learning-con-gli-occhi-dei-piccoli/
CATEGORIES:Teatri
END:VEVENT
BEGIN:VEVENT
DTSTART;TZID=Europe/Rome:20250517T160000
DTEND;TZID=Europe/Rome:20250517T160000
DTSTAMP:20260425T125604
CREATED:20250430T221812Z
LAST-MODIFIED:20250430T221812Z
UID:6596-1747497600-1747497600@passpartout.art
SUMMARY:LA BOTTEGA STRAVAGANTE
DESCRIPTION:Virginia e Simone\, due migliori amiche\, si avventurano nel deposito polveroso di un grande magazzino\, dove vengono ammucchiati vecchie bambole e burattini dimenticati. Incredibilmente\, scoprono che i giocattoli sono animati: automi musicali\, ballerini di can-can meccanici e cosacchi di legno prendono vita davanti ai loro occhi.
URL:https://passpartout.art/evento/la-bottega-stravagante/
CATEGORIES:Teatri
END:VEVENT
BEGIN:VEVENT
DTSTART;TZID=Europe/Rome:20250525T150000
DTEND;TZID=Europe/Rome:20250525T150000
DTSTAMP:20260425T125604
CREATED:20250430T221433Z
LAST-MODIFIED:20250430T221433Z
UID:6520-1748185200-1748185200@passpartout.art
SUMMARY:Nati per il teatro learning - FITNESS RITMICO
DESCRIPTION:Partendo da elementi base dell’uso della voce\, della “body percussion” e di piccoli strumenti a percussione il laboratorio ha come obiettivo lo scoprire come si può fare “ritmo” usando mani\, piedi\, corpo\, voce e strumenti per creare musica d’insieme.
URL:https://passpartout.art/evento/nati-per-il-teatro-learning-fitness-ritmico/
CATEGORIES:Teatri
END:VEVENT
BEGIN:VEVENT
DTSTART;TZID=Europe/Rome:20250605T093000
DTEND;TZID=Europe/Rome:20250605T093000
DTSTAMP:20260425T125604
CREATED:20250529T181502Z
LAST-MODIFIED:20250529T181502Z
UID:6731-1749115800-1749115800@passpartout.art
SUMMARY:Terra
DESCRIPTION:I problemi ambientali che affliggono il nostro pianeta sono molti. Essi minacciano seriamente l’ecosistema\, cioè l’insieme delle forme di vita che la abitano in un delicato equilibrio. Ci si è resi conto che le risorse della Terra non sono illimitate e che non possono essere sfruttate all’infinito.
URL:https://passpartout.art/evento/terra/
CATEGORIES:Teatri
END:VEVENT
BEGIN:VEVENT
DTSTART;TZID=Europe/Rome:20250605T110000
DTEND;TZID=Europe/Rome:20250605T110000
DTSTAMP:20260425T125604
CREATED:20250529T181503Z
LAST-MODIFIED:20250529T181503Z
UID:6732-1749121200-1749121200@passpartout.art
SUMMARY:Terra
DESCRIPTION:I problemi ambientali che affliggono il nostro pianeta sono molti. Essi minacciano seriamente l’ecosistema\, cioè l’insieme delle forme di vita che la abitano in un delicato equilibrio. Ci si è resi conto che le risorse della Terra non sono illimitate e che non possono essere sfruttate all’infinito.
URL:https://passpartout.art/evento/terra-2/
CATEGORIES:Teatri
END:VEVENT
BEGIN:VEVENT
DTSTART;TZID=Europe/Rome:20250606T203000
DTEND;TZID=Europe/Rome:20250606T203000
DTSTAMP:20260425T125604
CREATED:20250529T181318Z
LAST-MODIFIED:20250529T181318Z
UID:6697-1749241800-1749241800@passpartout.art
SUMMARY:SOTTO LA STELLA DI PALESTRINA: CINQUE SECOLI DI SPIRITUALITÀ MUSICALE
DESCRIPTION:nel 500° anniversario della nascita di Giovanni Pierluigi da Palestrina
URL:https://passpartout.art/evento/sotto-la-stella-di-palestrina-cinque-secoli-di-spiritualita-musicale/
CATEGORIES:Teatri
END:VEVENT
BEGIN:VEVENT
DTSTART;TZID=Europe/Rome:20250607T180000
DTEND;TZID=Europe/Rome:20250607T180000
DTSTAMP:20260425T125604
CREATED:20250529T181332Z
LAST-MODIFIED:20250529T181332Z
UID:6700-1749319200-1749319200@passpartout.art
SUMMARY:CONCERTO FINALE COMPAGINI GIOVANILI
DESCRIPTION:Coro Piccole Voci – Coro di Voci Bianche – Orchestra Sinfonica Kids – Coro I Giovani – Orchestra Sinfonica Junior di Milano
URL:https://passpartout.art/evento/concerto-finale-compagini-giovanili/
CATEGORIES:Teatri
END:VEVENT
BEGIN:VEVENT
DTSTART;TZID=Europe/Rome:20250608T100000
DTEND;TZID=Europe/Rome:20250608T100000
DTSTAMP:20260425T125604
CREATED:20250529T180925Z
LAST-MODIFIED:20250529T180925Z
UID:6613-1749376800-1749376800@passpartout.art
SUMMARY:E TU? COSA VEDI? COSA SENTI?
DESCRIPTION:Cosa succede se modifichiamo con semplici oggetti la nostra percezione visiva e ci muoviamo in un ambiente naturale? Se ci affidiamo ad una mano che ci accompagna alla scoperta di nuove sensazioni\, alla percezione di particolari che spesso passano inosservati? Spettacolo nell’ambito del festival Vimercate dei Ragazzi.
URL:https://passpartout.art/evento/e-tu-cosa-vedi-cosa-senti/
CATEGORIES:Teatri
END:VEVENT
BEGIN:VEVENT
DTSTART;TZID=Europe/Rome:20250609T083000
DTEND;TZID=Europe/Rome:20250613T160000
DTSTAMP:20260425T125604
CREATED:20250529T181418Z
LAST-MODIFIED:20250529T181418Z
UID:6717-1749457800-1749830400@passpartout.art
SUMMARY:Un’estate nell’Officina del Teatro
DESCRIPTION:Il Teatro e Accademia de LiNUTILE propongono laboratori teatrali dedicati ai bambini dagli 8 ai 13 anni per un’estate all’insegna della creatività e della recitazione.
URL:https://passpartout.art/evento/unestate-nellofficina-del-teatro/
CATEGORIES:Teatri
END:VEVENT
BEGIN:VEVENT
DTSTART;TZID=Europe/Rome:20250609T090000
DTEND;TZID=Europe/Rome:20250613T123000
DTSTAMP:20260425T125604
CREATED:20250529T181501Z
LAST-MODIFIED:20250529T181501Z
UID:6728-1749459600-1749817800@passpartout.art
SUMMARY:MUSIC CAMP\nCAMPUS DI MUSICA BAMBINI/E
DESCRIPTION:Cinque giorni per lanciarci alla scoperta della musica\, per farci trasportare dai suoni dell’ambiente che ci circonda e per scoprire che non serve essere musicisti per esprimersi e raccontarsi grazie al mondo sonoro.\nAttraverso il gioco\, l’ascolto\, l’immaginazione\, sperimenteremo diversi modi di fare musica. Con il corpo\, la voce e gli strumenti daremo vita a un racconto musicale\, che farà da filo conduttore di tutte le nostre attività.
URL:https://passpartout.art/evento/music-campcampus-di-musica-bambini-e/
CATEGORIES:Teatri
END:VEVENT
BEGIN:VEVENT
DTSTART;TZID=Europe/Rome:20250609T090000
DTEND;TZID=Europe/Rome:20250613T153000
DTSTAMP:20260425T125604
CREATED:20250529T181447Z
LAST-MODIFIED:20250529T181447Z
UID:6726-1749459600-1749828600@passpartout.art
SUMMARY:1\,2\,3…SIPARIO!\nCAMPUS DI TEATRO BAMBINI/E
DESCRIPTION:Due settimane per esplorare il mondo del teatro e scoprire come grazie ad un gruppo unito e un pizzico di fantasia si possa creare uno spettacolo teatrale. Durante il campus verranno utilizzati strumenti come il gioco\, l’immaginazione\, l’azione e soprattutto la relazione\, creando una formula in grado di incantare gli spettatori.
URL:https://passpartout.art/evento/123sipariocampus-di-teatro-bambini-e-3/
CATEGORIES:Teatri
END:VEVENT
BEGIN:VEVENT
DTSTART;TZID=Europe/Rome:20250609T093000
DTEND;TZID=Europe/Rome:20250609T093000
DTSTAMP:20260425T125604
CREATED:20250529T181516Z
LAST-MODIFIED:20250529T181516Z
UID:6733-1749461400-1749461400@passpartout.art
SUMMARY:Cura il Futuro Ala – Al Mare
DESCRIPTION:Un festival di Teatro-Danza pensato per i bambini e le loro famiglie\, ma anche per gli educatori dell’infanzia e per chi se ne occupa\, e prevede il coinvolgimento attivo della comunità attraverso momenti condivisi pre o post spettacolo in collaborazione con associazioni del territorio. Le proposte trattano particolari tematiche\, per portare i bambini a riflettere e imparare\, oltre che divertirsi.
URL:https://passpartout.art/evento/cura-il-futuro-ala-al-mare/
CATEGORIES:Teatri
END:VEVENT
BEGIN:VEVENT
DTSTART;TZID=Europe/Rome:20250609T173000
DTEND;TZID=Europe/Rome:20250609T173000
DTSTAMP:20260425T125604
CREATED:20250529T181518Z
LAST-MODIFIED:20250529T181518Z
UID:6737-1749490200-1749490200@passpartout.art
SUMMARY:Storie a merenda - LIBRILLALLERO LIBRILLALLÀ
DESCRIPTION:Un girotondo allegro e scoppiettante di piccole storie\, rime birichine e racconti fantasiosi. Tra topolini\, tigri\, uccelli e creature strampalate mai viste prima\, i bambini voleranno con la fantasia in mondi magici e divertenti. Ogni storia è una porta aperta al sorriso\, pronta a catturare anche il più vivace dei piccoli ascoltatori!
URL:https://passpartout.art/evento/storie-a-merenda-librillallero-librillalla/
CATEGORIES:Teatri
END:VEVENT
BEGIN:VEVENT
DTSTART;TZID=Europe/Rome:20250610T093000
DTEND;TZID=Europe/Rome:20250610T093000
DTSTAMP:20260425T125604
CREATED:20250529T181516Z
LAST-MODIFIED:20250529T181516Z
UID:6734-1749547800-1749547800@passpartout.art
SUMMARY:Cura il Futuro Ala – Al Mare
DESCRIPTION:Un festival di Teatro-Danza pensato per i bambini e le loro famiglie\, ma anche per gli educatori dell’infanzia e per chi se ne occupa\, e prevede il coinvolgimento attivo della comunità attraverso momenti condivisi pre o post spettacolo in collaborazione con associazioni del territorio. Le proposte trattano particolari tematiche\, per portare i bambini a riflettere e imparare\, oltre che divertirsi.
URL:https://passpartout.art/evento/cura-il-futuro-ala-al-mare-2/
CATEGORIES:Teatri
END:VEVENT
BEGIN:VEVENT
DTSTART;TZID=Europe/Rome:20250610T173000
DTEND;TZID=Europe/Rome:20250610T173000
DTSTAMP:20260425T125604
CREATED:20250529T181531Z
LAST-MODIFIED:20250529T181531Z
UID:6738-1749576600-1749576600@passpartout.art
SUMMARY:Storie a merenda - THE GRUFFALÒ (IL GRUFFALÒ)
DESCRIPTION:Storie in lingua inglese e italiana per bambini e bambine che parlano inglese e anche per chi ha voglia di divertirsi ascoltando i suoni di una lingua non ancora conosciuta accompagnati dalle illustrazioni degli albi illustrati e dall’espressività delle raccontastorie.
URL:https://passpartout.art/evento/storie-a-merenda-the-gruffalo-il-gruffalo/
CATEGORIES:Teatri
END:VEVENT
BEGIN:VEVENT
DTSTART;TZID=Europe/Rome:20250611T173000
DTEND;TZID=Europe/Rome:20250611T173000
DTSTAMP:20260425T125604
CREATED:20250529T181531Z
LAST-MODIFIED:20250529T181531Z
UID:6739-1749663000-1749663000@passpartout.art
SUMMARY:Storie a merenda - IL LAGO DEI CIGNI
DESCRIPTION:Un lago innevato\, un mago crudele\, un principe distratto. E un gruppo di fanciulle trasformate in cigni\, per un maleficio. Una storia straordinaria ispirata al famoso balletto con le musiche di Čajkovskij.
URL:https://passpartout.art/evento/storie-a-merenda-il-lago-dei-cigni/
CATEGORIES:Teatri
END:VEVENT
BEGIN:VEVENT
DTSTART;TZID=Europe/Rome:20250612T173000
DTEND;TZID=Europe/Rome:20250612T173000
DTSTAMP:20260425T125604
CREATED:20250529T181532Z
LAST-MODIFIED:20250529T181532Z
UID:6740-1749749400-1749749400@passpartout.art
SUMMARY:Storie a merenda - FIABE DA FAR PAURA (APPENA\, APPENA\, NON TANTO)
DESCRIPTION:Brividi? Forse. Risate? Sicuro!\nQueste storie sanno far tremare… ma spesso dal ridere. Alcune fanno un po’ paura (ma giusto un pochino)\, altre sembrano spaventose ma poi si rivelano buffe\, e alcune non fanno paura per niente. Perfette per chi ama il mistero\, il brivido e il sorriso.
URL:https://passpartout.art/evento/storie-a-merenda-fiabe-da-far-paura-appena-appena-non-tanto/
CATEGORIES:Teatri
END:VEVENT
BEGIN:VEVENT
DTSTART;TZID=Europe/Rome:20250614T180000
DTEND;TZID=Europe/Rome:20250614T180000
DTSTAMP:20260425T125604
CREATED:20250529T181517Z
LAST-MODIFIED:20250529T181517Z
UID:6735-1749924000-1749924000@passpartout.art
SUMMARY:DEsPRESSO
DESCRIPTION:Viviana e Giorgia: Viviana è una ragazza che sta vivendo la depressione\, mentre Giorgia è una ragazza con la Sindrome di Down che cerca di aiutarla con tutti i mezzi che ha. Lo spettacolo ci invita a ribaltare il punto di vista tradizionale che porta a identificare subito chi è “il diverso”\, e offre una riflessione profonda sul tema del “dopo di noi”\, ovvero cosa accade alle persone con disabilità quando vengono a mancare i loro genitori.
URL:https://passpartout.art/evento/despresso/
CATEGORIES:Teatri
END:VEVENT
BEGIN:VEVENT
DTSTART;TZID=Europe/Rome:20250614T203000
DTEND;TZID=Europe/Rome:20250614T203000
DTSTAMP:20260425T125604
CREATED:20250529T181331Z
LAST-MODIFIED:20250529T181331Z
UID:6698-1749933000-1749933000@passpartout.art
SUMMARY:SOTTO LA STELLA DI PALESTRINA: CINQUE SECOLI DI SPIRITUALITÀ MUSICALE
DESCRIPTION:nel 500° anniversario della nascita di Giovanni Pierluigi da Palestrina
URL:https://passpartout.art/evento/sotto-la-stella-di-palestrina-cinque-secoli-di-spiritualita-musicale-2/
CATEGORIES:Teatri
END:VEVENT
BEGIN:VEVENT
DTSTART;TZID=Europe/Rome:20250616T083000
DTEND;TZID=Europe/Rome:20250620T160000
DTSTAMP:20260425T125604
CREATED:20250529T181431Z
LAST-MODIFIED:20250529T181431Z
UID:6718-1750062600-1750435200@passpartout.art
SUMMARY:Un’estate nell’Officina del Teatro
DESCRIPTION:Il Teatro e Accademia de LiNUTILE propongono laboratori teatrali dedicati ai bambini dagli 8 ai 13 anni per un’estate all’insegna della creatività e della recitazione.
URL:https://passpartout.art/evento/unestate-nellofficina-del-teatro-2/
CATEGORIES:Teatri
END:VEVENT
BEGIN:VEVENT
DTSTART;TZID=Europe/Rome:20250616T083000
DTEND;TZID=Europe/Rome:20250620T160000
DTSTAMP:20260425T125604
CREATED:20250529T181432Z
LAST-MODIFIED:20250529T181432Z
UID:6721-1750062600-1750435200@passpartout.art
SUMMARY:CAMPUS ESTIVI 2025
DESCRIPTION:Anche quest’anno il Teatro del Buratto propone i suoi campus estivi teatrali\, sei settimane di creatività\, gioco e scoperta per bambine\, bambini\, ragazze e ragazzi
URL:https://passpartout.art/evento/campus-estivi-2025-2/
CATEGORIES:Teatri
END:VEVENT
BEGIN:VEVENT
DTSTART;TZID=Europe/Rome:20250616T090000
DTEND;TZID=Europe/Rome:20250620T153000
DTSTAMP:20260425T125604
CREATED:20250529T181448Z
LAST-MODIFIED:20250529T181448Z
UID:6727-1750064400-1750433400@passpartout.art
SUMMARY:1\,2\,3…SIPARIO!\nCAMPUS DI TEATRO BAMBINI/E
DESCRIPTION:Due settimane per esplorare il mondo del teatro e scoprire come grazie ad un gruppo unito e un pizzico di fantasia si possa creare uno spettacolo teatrale. Durante il campus verranno utilizzati strumenti come il gioco\, l’immaginazione\, l’azione e soprattutto la relazione\, creando una formula in grado di incantare gli spettatori.
URL:https://passpartout.art/evento/123sipariocampus-di-teatro-bambini-e-4/
CATEGORIES:Teatri
END:VEVENT
BEGIN:VEVENT
DTSTART;TZID=Europe/Rome:20250616T173000
DTEND;TZID=Europe/Rome:20250616T173000
DTSTAMP:20260425T125604
CREATED:20250529T181518Z
LAST-MODIFIED:20250529T181518Z
UID:6736-1750095000-1750095000@passpartout.art
SUMMARY:Cuordiferro (Premio Otello Sarzi)
DESCRIPTION:Cuordiferro è la storia di un brigante che terrorizza gli abitanti della città di Roccaverde. Nessuno riesce a catturarlo nonostante su di lui penda una ricca ricompensa per la cattura. Un giorno il brigante viene visto da Fragolino\, un bambino povero che è costretto a lavorare per poter vivere. Per paura di essere scoperto Cuordiferro decide di rapirlo e di farne un suo servo.
URL:https://passpartout.art/evento/cuordiferro-premio-otello-sarzi/
CATEGORIES:Teatri
END:VEVENT
BEGIN:VEVENT
DTSTART;TZID=Europe/Rome:20250616T173000
DTEND;TZID=Europe/Rome:20250616T173000
DTSTAMP:20260425T125604
CREATED:20250529T181532Z
LAST-MODIFIED:20250529T181532Z
UID:6741-1750095000-1750095000@passpartout.art
SUMMARY:Storie a merenda - LA CASA DEI MOSTRI
DESCRIPTION:Protagonista di questa storia è una bambina che a casa degli zii incontrerà i mostri che abitano tutte le stanze: la cantina\, la soffitta\, la cucina ecc. Li conoscerà e scoprirà che dopotutto\, nessuno di loro è davvero cattivo\, ognuno di loro ha un punto debole…
URL:https://passpartout.art/evento/storie-a-merenda-la-casa-dei-mostri/
CATEGORIES:Teatri
END:VEVENT
BEGIN:VEVENT
DTSTART;TZID=Europe/Rome:20250617T173000
DTEND;TZID=Europe/Rome:20250617T173000
DTSTAMP:20260425T125604
CREATED:20250529T181533Z
LAST-MODIFIED:20250529T181533Z
UID:6742-1750181400-1750181400@passpartout.art
SUMMARY:Storie a merenda - PUMPKIN SOUP - LA ZUPPA DI ZUCCA
DESCRIPTION:Storie in lingua inglese e italiana per bambini e bambine che parlano inglese e anche per chi ha voglia di divertirsi ascoltando i suoni di una lingua non ancora conosciuta accompagnati dalle illustrazioni degli albi illustrati e dall’espressività delle raccontastorie.
URL:https://passpartout.art/evento/storie-a-merenda-pumpkin-soup-la-zuppa-di-zucca/
CATEGORIES:Teatri
END:VEVENT
BEGIN:VEVENT
DTSTART;TZID=Europe/Rome:20250618T173000
DTEND;TZID=Europe/Rome:20250618T173000
DTSTAMP:20260425T125604
CREATED:20250529T181557Z
LAST-MODIFIED:20250529T181557Z
UID:6743-1750267800-1750267800@passpartout.art
SUMMARY:Storie a merenda - LA BAMBINA DI BURRO E ALTRE STORIE
DESCRIPTION:La storia di una bambina di burro che non può giocare con gli altri perchè se si agita troppo si scioglie\, la storia di un bambino di carta comodo da tenere in tasca\, e di una bambina di piume\, e di un bambino di erba…Racconti brevi di bambini strani per inventarsi modi nuovi per stare bene al mondo.
URL:https://passpartout.art/evento/storie-a-merenda-la-bambina-di-burro-e-altre-storie/
CATEGORIES:Teatri
END:VEVENT
BEGIN:VEVENT
DTSTART;TZID=Europe/Rome:20250619T173000
DTEND;TZID=Europe/Rome:20250619T173000
DTSTAMP:20260425T125604
CREATED:20250529T181558Z
LAST-MODIFIED:20250529T181558Z
UID:6744-1750354200-1750354200@passpartout.art
SUMMARY:Storie a merenda - STORIE SOTTO AI PIEDI
DESCRIPTION:Storie di semi\, di radici\, di un mondo sotterraneo che non è poi così lontano e che influisce quello che succede qui. Storie di piccoli semi potenti che hanno al loro interno la capacità di trasformare la realtà. Storie di cura e di pazienza.
URL:https://passpartout.art/evento/storie-a-merenda-storie-sotto-ai-piedi/
CATEGORIES:Teatri
END:VEVENT
BEGIN:VEVENT
DTSTART;TZID=Europe/Rome:20250622T203000
DTEND;TZID=Europe/Rome:20250622T203000
DTSTAMP:20260425T125604
CREATED:20250529T181331Z
LAST-MODIFIED:20250529T181331Z
UID:6699-1750624200-1750624200@passpartout.art
SUMMARY:SOTTO LA STELLA DI PALESTRINA: CINQUE SECOLI DI SPIRITUALITÀ MUSICALE
DESCRIPTION:nel 500° anniversario della nascita di Giovanni Pierluigi da Palestrina
URL:https://passpartout.art/evento/sotto-la-stella-di-palestrina-cinque-secoli-di-spiritualita-musicale-3/
CATEGORIES:Teatri
END:VEVENT
BEGIN:VEVENT
DTSTART;TZID=Europe/Rome:20250623T083000
DTEND;TZID=Europe/Rome:20250627T160000
DTSTAMP:20260425T125604
CREATED:20250529T181433Z
LAST-MODIFIED:20250529T181433Z
UID:6722-1750667400-1751040000@passpartout.art
SUMMARY:CAMPUS ESTIVI 2025
DESCRIPTION:Anche quest’anno il Teatro del Buratto propone i suoi campus estivi teatrali\, sei settimane di creatività\, gioco e scoperta per bambine\, bambini\, ragazze e ragazzi
URL:https://passpartout.art/evento/campus-estivi-2025-3/
CATEGORIES:Teatri
END:VEVENT
BEGIN:VEVENT
DTSTART;TZID=Europe/Rome:20250623T090000
DTEND;TZID=Europe/Rome:20250627T153000
DTSTAMP:20260425T125604
CREATED:20250529T181501Z
LAST-MODIFIED:20250529T181501Z
UID:6729-1750669200-1751038200@passpartout.art
SUMMARY:TUTTI IN SCENA!\nCAMPUS DI TEATRO
DESCRIPTION:Il teatro è uno spazio magico dove la sperimentazione\, l’immaginazione\, l’azione e soprattutto la relazione con gli altri sono elementi che mescolati tra loro rendono possibili piccole magie che daranno prova del talento dei nostri giovani attori. Durante il percorso\, i ragazzi saranno invitati a scoprire e testare cosa significhi lo “stare in scena” per approcciarsi\, in un secondo momento\, alla creazione di uno spettacolo collettivo con il quale incantare gli spettatori.
URL:https://passpartout.art/evento/tutti-in-scenacampus-di-teatro/
CATEGORIES:Teatri
END:VEVENT
END:VCALENDAR