BEGIN:VCALENDAR
VERSION:2.0
PRODID:-//Passpartout - ECPv6.15.20//NONSGML v1.0//EN
CALSCALE:GREGORIAN
METHOD:PUBLISH
X-WR-CALNAME:Passpartout
X-ORIGINAL-URL:https://passpartout.art
X-WR-CALDESC:Eventi per Passpartout
REFRESH-INTERVAL;VALUE=DURATION:PT1H
X-Robots-Tag:noindex
X-PUBLISHED-TTL:PT1H
BEGIN:VTIMEZONE
TZID:Europe/Rome
BEGIN:DAYLIGHT
TZOFFSETFROM:+0100
TZOFFSETTO:+0200
TZNAME:CEST
DTSTART:20240331T010000
END:DAYLIGHT
BEGIN:STANDARD
TZOFFSETFROM:+0200
TZOFFSETTO:+0100
TZNAME:CET
DTSTART:20241027T010000
END:STANDARD
BEGIN:DAYLIGHT
TZOFFSETFROM:+0100
TZOFFSETTO:+0200
TZNAME:CEST
DTSTART:20250330T010000
END:DAYLIGHT
BEGIN:STANDARD
TZOFFSETFROM:+0200
TZOFFSETTO:+0100
TZNAME:CET
DTSTART:20251026T010000
END:STANDARD
BEGIN:DAYLIGHT
TZOFFSETFROM:+0100
TZOFFSETTO:+0200
TZNAME:CEST
DTSTART:20260329T010000
END:DAYLIGHT
BEGIN:STANDARD
TZOFFSETFROM:+0200
TZOFFSETTO:+0100
TZNAME:CET
DTSTART:20261025T010000
END:STANDARD
BEGIN:DAYLIGHT
TZOFFSETFROM:+0100
TZOFFSETTO:+0200
TZNAME:CEST
DTSTART:20270328T010000
END:DAYLIGHT
BEGIN:STANDARD
TZOFFSETFROM:+0200
TZOFFSETTO:+0100
TZNAME:CET
DTSTART:20271031T010000
END:STANDARD
END:VTIMEZONE
BEGIN:VEVENT
DTSTART;TZID=Europe/Rome:20251214T100000
DTEND;TZID=Europe/Rome:20251214T100000
DTSTAMP:20260420T093236
CREATED:20251205T165332Z
LAST-MODIFIED:20251205T165334Z
UID:7598-1765706400-1765706400@passpartout.art
SUMMARY:Bianca Balena. - Piccolo viaggio nel profondo
DESCRIPTION:Una scena blu e bianca accoglie i piccoli spettatori. Una tenda? Una tana sottomarina? O il ventre di una balena?\nSi sente il suono delle onde. Qualcuno che canta. Qualcosa si accende\, qualcosa si muove. Qualcosa che incanta. Un piccolo viaggio subacqueo alla continua scoperta di sorprendenti tesori.\nTra delicate suggestioni visive e sonore\, un’immersione in un grembo teatrale confortevole e immaginifico\, per riscoprire la magia di attendere\, di stare e di lasciarsi cullare.
URL:https://passpartout.art/evento/bianca-balena-piccolo-viaggio-nel-profondo-4/
CATEGORIES:Teatri
END:VEVENT
BEGIN:VEVENT
DTSTART;TZID=Europe/Rome:20251214T111500
DTEND;TZID=Europe/Rome:20251214T111500
DTSTAMP:20260420T093236
CREATED:20251205T165332Z
LAST-MODIFIED:20251205T165334Z
UID:7599-1765710900-1765710900@passpartout.art
SUMMARY:Bianca Balena. - Piccolo viaggio nel profondo
DESCRIPTION:Una scena blu e bianca accoglie i piccoli spettatori. Una tenda? Una tana sottomarina? O il ventre di una balena?\nSi sente il suono delle onde. Qualcuno che canta. Qualcosa si accende\, qualcosa si muove. Qualcosa che incanta. Un piccolo viaggio subacqueo alla continua scoperta di sorprendenti tesori.\nTra delicate suggestioni visive e sonore\, un’immersione in un grembo teatrale confortevole e immaginifico\, per riscoprire la magia di attendere\, di stare e di lasciarsi cullare.
URL:https://passpartout.art/evento/bianca-balena-piccolo-viaggio-nel-profondo-5/
CATEGORIES:Teatri
END:VEVENT
BEGIN:VEVENT
DTSTART;TZID=Europe/Rome:20251214T150000
DTEND;TZID=Europe/Rome:20251214T150000
DTSTAMP:20260420T093236
CREATED:20251205T165144Z
LAST-MODIFIED:20251205T165144Z
UID:7550-1765724400-1765724400@passpartout.art
SUMMARY:CANTO DI NATALE
DESCRIPTION:Venerdì 5 dicembre debutta CANTO DI NATALE\, quarto spettacolo della stagione.
URL:https://passpartout.art/evento/canto-di-natale-9/
CATEGORIES:Teatri
END:VEVENT
BEGIN:VEVENT
DTSTART;TZID=Europe/Rome:20251214T163000
DTEND;TZID=Europe/Rome:20251214T163000
DTSTAMP:20260420T093236
CREATED:20251205T165333Z
LAST-MODIFIED:20251205T165335Z
UID:7601-1765729800-1765729800@passpartout.art
SUMMARY:Pandizenzero. Storie dolci di Natale
DESCRIPTION:Mancano solo cinque giorni a Natale: cinque case bianche\, piccole\, col tetto rosso – come un piccolo paese aspetta nel silenzio emozionato – aspettano il giorno della festa.\nCinque case bianche\, piccole\, col tetto rosso – come finestrelle di un breve calendario dell’avvento – aspettano di svelare i doni\, la vita e i desideri di chi le abita. Benedetta e Marta\, una dopo l’altra\, racconteranno delicate storie sensibili\, che ogni casa custodisce\, e poi regala: la storia del signor Muz e del suo cappello\, della stella che manca al suo albero di Natale; di Zahi\, un bambino che viene da lontano e non ha una casa\, e del suo desiderio: una bicicletta rossa come il vestito di Babbo Natale. Pan di Zenzero\, il dolce biscotto che era un bambino ma che poi… non possiamo raccontare tutto\, bisogna aspettare! Nell’attesa\, cominciate a sognare…
URL:https://passpartout.art/evento/pandizenzero-storie-dolci-di-natale-6/
CATEGORIES:Teatri
END:VEVENT
BEGIN:VEVENT
DTSTART;TZID=Europe/Rome:20251214T173000
DTEND;TZID=Europe/Rome:20251214T173000
DTSTAMP:20260420T093236
CREATED:20251205T165144Z
LAST-MODIFIED:20251205T165144Z
UID:7551-1765733400-1765733400@passpartout.art
SUMMARY:CANTO DI NATALE
DESCRIPTION:Venerdì 5 dicembre debutta CANTO DI NATALE\, quarto spettacolo della stagione.
URL:https://passpartout.art/evento/canto-di-natale-10/
CATEGORIES:Teatri
END:VEVENT
BEGIN:VEVENT
DTSTART;TZID=Europe/Rome:20251216T170000
DTEND;TZID=Europe/Rome:20251216T170000
DTSTAMP:20260420T093236
CREATED:20251205T165539Z
LAST-MODIFIED:20251205T165539Z
UID:7651-1765904400-1765904400@passpartout.art
SUMMARY:Babbo Natale e le formiche
DESCRIPTION:Tanto tempo fa quando Babbo Natale passava per i camini poteva anche capitare di vederlo… ma allora cosa è successo? Perché non riusciamo più a vederlo?
URL:https://passpartout.art/evento/babbo-natale-e-le-formiche/
CATEGORIES:Teatri
END:VEVENT
BEGIN:VEVENT
DTSTART;TZID=Europe/Rome:20251217T170000
DTEND;TZID=Europe/Rome:20251217T170000
DTSTAMP:20260420T093236
CREATED:20251205T165542Z
LAST-MODIFIED:20251205T165542Z
UID:7652-1765990800-1765990800@passpartout.art
SUMMARY:Racconti tra i fiocchi
DESCRIPTION:Libri che accendono scintille nei cuori\, racconti che si vestono di neve\, luci tremolanti e promesse sussurrate: un momento per ascoltare\, come in una favola natalizia\, ed entrare in un mondo fatto di silenzio\, meraviglia e calore.
URL:https://passpartout.art/evento/racconti-tra-i-fiocchi/
CATEGORIES:Teatri
END:VEVENT
BEGIN:VEVENT
DTSTART;TZID=Europe/Rome:20251218T170000
DTEND;TZID=Europe/Rome:20251218T170000
DTSTAMP:20260420T093236
CREATED:20251205T165542Z
LAST-MODIFIED:20251205T165542Z
UID:7653-1766077200-1766077200@passpartout.art
SUMMARY:La fiaba dello Schiaccianoci
DESCRIPTION:Nel racconto\, ispirato al balletto con le musiche di Cajkovskij\, la piccola Clara riceve come regalo uno strano schiaccianoci a forma di soldatino\, e la notte stessa sarà protagonista di un’avventura straordinaria.
URL:https://passpartout.art/evento/la-fiaba-dello-schiaccianoci/
CATEGORIES:Teatri
END:VEVENT
BEGIN:VEVENT
DTSTART;TZID=Europe/Rome:20251219T170000
DTEND;TZID=Europe/Rome:20251219T170000
DTSTAMP:20260420T093236
CREATED:20251205T165542Z
LAST-MODIFIED:20251205T165542Z
UID:7654-1766163600-1766163600@passpartout.art
SUMMARY:Libri sotto all'albero
DESCRIPTION:Una lettura piena di sorrisi\, suoni di campanellini\, risate leggere e piccoli imprevisti che scaldano l’anima: storie che assomigliano a piccoli pacchetti da scartare\, allegre e brillanti\, tutte da ascoltare insieme.
URL:https://passpartout.art/evento/libri-sotto-allalbero/
CATEGORIES:Teatri
END:VEVENT
BEGIN:VEVENT
DTSTART;TZID=Europe/Rome:20251219T173000
DTEND;TZID=Europe/Rome:20251219T173000
DTSTAMP:20260420T093236
CREATED:20251205T165158Z
LAST-MODIFIED:20251205T165158Z
UID:7552-1766165400-1766165400@passpartout.art
SUMMARY:CANTO DI NATALE
DESCRIPTION:Venerdì 5 dicembre debutta CANTO DI NATALE\, quarto spettacolo della stagione.
URL:https://passpartout.art/evento/canto-di-natale-11/
CATEGORIES:Teatri
END:VEVENT
BEGIN:VEVENT
DTSTART;TZID=Europe/Rome:20251219T203000
DTEND;TZID=Europe/Rome:20251219T203000
DTSTAMP:20260420T093236
CREATED:20251205T165322Z
LAST-MODIFIED:20251205T165322Z
UID:7593-1766176200-1766176200@passpartout.art
SUMMARY:Il baule di Natale
DESCRIPTION:Aprire un grande baule è come esplorare un grande mare\, un cielo stellato\, un pozzo profondo\, il Polo Nord\, il sacco di Babbo Natale. Ci trovi cose dimenticate\, storie da raccontare e già raccontate\, domande a cui dare risposte come: Quanti anni ha Babbo natale? Il Natale è vicino e Selly e Gabriele decidono di aprire il grande baule dimenticato in soffitta. Quante sorprese! Troveranno bufere di neve\, un pacchetto misterioso\, la luce brillante della Stella Polare… “Dentro la notte ci sono le stelle si tengono per mano come sorelle; dentro il baule un cuscino di neve; che il Natale sia per tutti dolce\, lieve; dentro al cuore ci son desideri coltiviamoli bene che diventano veri”.
URL:https://passpartout.art/evento/il-baule-di-natale-3/
CATEGORIES:Teatri
END:VEVENT
BEGIN:VEVENT
DTSTART;TZID=Europe/Rome:20251220T150000
DTEND;TZID=Europe/Rome:20251220T150000
DTSTAMP:20260420T093236
CREATED:20251205T165158Z
LAST-MODIFIED:20251205T165158Z
UID:7553-1766242800-1766242800@passpartout.art
SUMMARY:CANTO DI NATALE
DESCRIPTION:Venerdì 5 dicembre debutta CANTO DI NATALE\, quarto spettacolo della stagione.
URL:https://passpartout.art/evento/canto-di-natale-12/
CATEGORIES:Teatri
END:VEVENT
BEGIN:VEVENT
DTSTART;TZID=Europe/Rome:20251220T163000
DTEND;TZID=Europe/Rome:20251220T163000
DTSTAMP:20260420T093236
CREATED:20251205T165322Z
LAST-MODIFIED:20251205T165322Z
UID:7594-1766248200-1766248200@passpartout.art
SUMMARY:Il baule di Natale
DESCRIPTION:Aprire un grande baule è come esplorare un grande mare\, un cielo stellato\, un pozzo profondo\, il Polo Nord\, il sacco di Babbo Natale. Ci trovi cose dimenticate\, storie da raccontare e già raccontate\, domande a cui dare risposte come: Quanti anni ha Babbo natale? Il Natale è vicino e Selly e Gabriele decidono di aprire il grande baule dimenticato in soffitta. Quante sorprese! Troveranno bufere di neve\, un pacchetto misterioso\, la luce brillante della Stella Polare… “Dentro la notte ci sono le stelle si tengono per mano come sorelle; dentro il baule un cuscino di neve; che il Natale sia per tutti dolce\, lieve; dentro al cuore ci son desideri coltiviamoli bene che diventano veri”.
URL:https://passpartout.art/evento/il-baule-di-natale-4/
CATEGORIES:Teatri
END:VEVENT
BEGIN:VEVENT
DTSTART;TZID=Europe/Rome:20251220T173000
DTEND;TZID=Europe/Rome:20251220T173000
DTSTAMP:20260420T093236
CREATED:20251205T165158Z
LAST-MODIFIED:20251205T165158Z
UID:7554-1766251800-1766251800@passpartout.art
SUMMARY:CANTO DI NATALE
DESCRIPTION:Venerdì 5 dicembre debutta CANTO DI NATALE\, quarto spettacolo della stagione.
URL:https://passpartout.art/evento/canto-di-natale-13/
CATEGORIES:Teatri
END:VEVENT
BEGIN:VEVENT
DTSTART;TZID=Europe/Rome:20251221T150000
DTEND;TZID=Europe/Rome:20251221T150000
DTSTAMP:20260420T093236
CREATED:20251205T165159Z
LAST-MODIFIED:20251205T165159Z
UID:7555-1766329200-1766329200@passpartout.art
SUMMARY:CANTO DI NATALE
DESCRIPTION:Venerdì 5 dicembre debutta CANTO DI NATALE\, quarto spettacolo della stagione.
URL:https://passpartout.art/evento/canto-di-natale-14/
CATEGORIES:Teatri
END:VEVENT
BEGIN:VEVENT
DTSTART;TZID=Europe/Rome:20251221T163000
DTEND;TZID=Europe/Rome:20251221T163000
DTSTAMP:20260420T093236
CREATED:20251205T165322Z
LAST-MODIFIED:20251205T165322Z
UID:7595-1766334600-1766334600@passpartout.art
SUMMARY:Il baule di Natale
DESCRIPTION:Aprire un grande baule è come esplorare un grande mare\, un cielo stellato\, un pozzo profondo\, il Polo Nord\, il sacco di Babbo Natale. Ci trovi cose dimenticate\, storie da raccontare e già raccontate\, domande a cui dare risposte come: Quanti anni ha Babbo natale? Il Natale è vicino e Selly e Gabriele decidono di aprire il grande baule dimenticato in soffitta. Quante sorprese! Troveranno bufere di neve\, un pacchetto misterioso\, la luce brillante della Stella Polare… “Dentro la notte ci sono le stelle si tengono per mano come sorelle; dentro il baule un cuscino di neve; che il Natale sia per tutti dolce\, lieve; dentro al cuore ci son desideri coltiviamoli bene che diventano veri”.
URL:https://passpartout.art/evento/il-baule-di-natale-5/
CATEGORIES:Teatri
END:VEVENT
BEGIN:VEVENT
DTSTART;TZID=Europe/Rome:20251221T163000
DTEND;TZID=Europe/Rome:20251221T163000
DTSTAMP:20260420T093236
CREATED:20251205T165548Z
LAST-MODIFIED:20251205T165548Z
UID:7661-1766334600-1766334600@passpartout.art
SUMMARY:Il Teatro Verde in giallo
DESCRIPTION:Le follette più amate di Fucina alle prese con una nuova amicizia e un mistero da risolvere!
URL:https://passpartout.art/evento/il-teatro-verde-in-giallo/
CATEGORIES:Teatri
END:VEVENT
BEGIN:VEVENT
DTSTART;TZID=Europe/Rome:20251221T173000
DTEND;TZID=Europe/Rome:20251221T173000
DTSTAMP:20260420T093236
CREATED:20251205T165159Z
LAST-MODIFIED:20251205T165159Z
UID:7556-1766338200-1766338200@passpartout.art
SUMMARY:CANTO DI NATALE
DESCRIPTION:Venerdì 5 dicembre debutta CANTO DI NATALE\, quarto spettacolo della stagione.
URL:https://passpartout.art/evento/canto-di-natale-15/
CATEGORIES:Teatri
END:VEVENT
BEGIN:VEVENT
DTSTART;TZID=Europe/Rome:20251227T170000
DTEND;TZID=Europe/Rome:20251227T170000
DTSTAMP:20260420T093236
CREATED:20251205T165543Z
LAST-MODIFIED:20251205T165543Z
UID:7655-1766854800-1766854800@passpartout.art
SUMMARY:L’incantesimo della lupa e altre rinascite
DESCRIPTION:Una bambina che si batte per aiutare l’amica vittima di un sortilegio lanciato da una lupa-strega\, un principe bambino allevato da una tigre lontano dalla sua famiglia\, tutti personaggi che si trovano in situazioni difficili ma che riescono alla fine ad attraversare le difficoltà\, gli ostacoli per rinascere in “un’altra pelle”\, più forti e grandi. Storie di grandi cambiamenti grazie al coraggio e all’amicizia.
URL:https://passpartout.art/evento/lincantesimo-della-lupa-e-altre-rinascite/
CATEGORIES:Teatri
END:VEVENT
BEGIN:VEVENT
DTSTART;TZID=Europe/Rome:20251228T153000
DTEND;TZID=Europe/Rome:20251228T153000
DTSTAMP:20260420T093236
CREATED:20251205T165556Z
LAST-MODIFIED:20251205T165556Z
UID:7662-1766935800-1766935800@passpartout.art
SUMMARY:Radici di suoni: l’inverno
DESCRIPTION:Un concerto per piccole orecchie a cura di Valentina Cavazzana\, ispirato all’Inverno di Vivaldi
URL:https://passpartout.art/evento/radici-di-suoni-linverno/
CATEGORIES:Teatri
END:VEVENT
BEGIN:VEVENT
DTSTART;TZID=Europe/Rome:20251228T163000
DTEND;TZID=Europe/Rome:20251228T163000
DTSTAMP:20260420T093236
CREATED:20251205T165558Z
LAST-MODIFIED:20251205T165558Z
UID:7663-1766939400-1766939400@passpartout.art
SUMMARY:Radici di suoni: l’inverno
DESCRIPTION:Un concerto per piccole orecchie a cura di Valentina Cavazzana\, ispirato all’Inverno di Vivaldi
URL:https://passpartout.art/evento/radici-di-suoni-linverno-2/
CATEGORIES:Teatri
END:VEVENT
BEGIN:VEVENT
DTSTART;TZID=Europe/Rome:20251229T170000
DTEND;TZID=Europe/Rome:20251229T170000
DTSTAMP:20260420T093236
CREATED:20251205T165543Z
LAST-MODIFIED:20251205T165543Z
UID:7656-1767027600-1767027600@passpartout.art
SUMMARY:La bella addormentata
DESCRIPTION:Alla festa per il battesimo della principessa Aurora\, una fata che il re non aveva invitato\, si presenta ugualmente… una storia di oscuri incantesimi\, foreste intricate e trasformazioni.
URL:https://passpartout.art/evento/la-bella-addormentata/
CATEGORIES:Teatri
END:VEVENT
BEGIN:VEVENT
DTSTART;TZID=Europe/Rome:20251230T170000
DTEND;TZID=Europe/Rome:20251230T170000
DTSTAMP:20260420T093236
CREATED:20251205T165546Z
LAST-MODIFIED:20251205T165546Z
UID:7657-1767114000-1767114000@passpartout.art
SUMMARY:Storie in festa
DESCRIPTION:Un girotondo di letture\, suoni e racconti. Due attrici si danno appuntamento sul palco e dal loro incontro nascono storie\, confidenze\, consigli di libri\, piccoli dialoghi e divertenti sfide.
URL:https://passpartout.art/evento/storie-in-festa/
CATEGORIES:Teatri
END:VEVENT
BEGIN:VEVENT
DTSTART;TZID=Europe/Rome:20260103T150000
DTEND;TZID=Europe/Rome:20260103T150000
DTSTAMP:20260420T093236
CREATED:20260103T090909Z
LAST-MODIFIED:20260103T090909Z
UID:7710-1767452400-1767452400@passpartout.art
SUMMARY:LA FRECCIA AZZURRA
DESCRIPTION:Il negozio di giocattoli della Befana\, una signora molto distinta e quasi nobile\, è tra i più forniti della città.\nNella sua vetrina fanno bella mostra di sé la splendida Bambola Rosa dal vezzoso accento francese\, il burbero comandante\, il cane Spicciola\, l’orsacchiotto\, il grande capo Penna d’Argento\, il capotreno e la mitica Freccia Azzurra\, che è un treno davvero da sogno.\nUn ragazzo di nome Francesco se ne innamora perdutamente\, ma è troppo povero per comprarsela; i giocattoli della vetrina decidono allora di avventurarsi per il mondo alla ricerca del nuovo amico.\nIncontrerete dunque un piccolo e determinato esercito di giocattoli capace di raccontarvi una storia delicata e gentile ricca di significato poetico e umano.
URL:https://passpartout.art/evento/la-freccia-azzurra-21/
CATEGORIES:Teatri
END:VEVENT
BEGIN:VEVENT
DTSTART;TZID=Europe/Rome:20260103T160000
DTEND;TZID=Europe/Rome:20260103T160000
DTSTAMP:20260420T093236
CREATED:20260103T094350Z
LAST-MODIFIED:20260103T094350Z
UID:7852-1767456000-1767456000@passpartout.art
SUMMARY:RUDOLPH OPERAZIONE NATALE
DESCRIPTION:Può accadere che tre fratellini sgattaiolino dal letto per incontrare Babbo Natale e si ritrovino invece catapultati nel bel mezzo di un’incredibile avventura tra castori\, polpi ballerini\, pipistrelli pasticcioni\, scimmiette doppiogiochiste e inservienti pieni di sogni.
URL:https://passpartout.art/evento/rudolph-operazione-natale/
CATEGORIES:Teatri
END:VEVENT
BEGIN:VEVENT
DTSTART;TZID=Europe/Rome:20260103T173000
DTEND;TZID=Europe/Rome:20260103T173000
DTSTAMP:20260420T093236
CREATED:20260103T090909Z
LAST-MODIFIED:20260103T090909Z
UID:7711-1767461400-1767461400@passpartout.art
SUMMARY:LA FRECCIA AZZURRA
DESCRIPTION:Il negozio di giocattoli della Befana\, una signora molto distinta e quasi nobile\, è tra i più forniti della città.\nNella sua vetrina fanno bella mostra di sé la splendida Bambola Rosa dal vezzoso accento francese\, il burbero comandante\, il cane Spicciola\, l’orsacchiotto\, il grande capo Penna d’Argento\, il capotreno e la mitica Freccia Azzurra\, che è un treno davvero da sogno.\nUn ragazzo di nome Francesco se ne innamora perdutamente\, ma è troppo povero per comprarsela; i giocattoli della vetrina decidono allora di avventurarsi per il mondo alla ricerca del nuovo amico.\nIncontrerete dunque un piccolo e determinato esercito di giocattoli capace di raccontarvi una storia delicata e gentile ricca di significato poetico e umano.
URL:https://passpartout.art/evento/la-freccia-azzurra-22/
CATEGORIES:Teatri
END:VEVENT
BEGIN:VEVENT
DTSTART;TZID=Europe/Rome:20260104T150000
DTEND;TZID=Europe/Rome:20260104T150000
DTSTAMP:20260420T093236
CREATED:20260103T090909Z
LAST-MODIFIED:20260103T090909Z
UID:7712-1767538800-1767538800@passpartout.art
SUMMARY:LA FRECCIA AZZURRA
DESCRIPTION:Il negozio di giocattoli della Befana\, una signora molto distinta e quasi nobile\, è tra i più forniti della città.\nNella sua vetrina fanno bella mostra di sé la splendida Bambola Rosa dal vezzoso accento francese\, il burbero comandante\, il cane Spicciola\, l’orsacchiotto\, il grande capo Penna d’Argento\, il capotreno e la mitica Freccia Azzurra\, che è un treno davvero da sogno.\nUn ragazzo di nome Francesco se ne innamora perdutamente\, ma è troppo povero per comprarsela; i giocattoli della vetrina decidono allora di avventurarsi per il mondo alla ricerca del nuovo amico.\nIncontrerete dunque un piccolo e determinato esercito di giocattoli capace di raccontarvi una storia delicata e gentile ricca di significato poetico e umano.
URL:https://passpartout.art/evento/la-freccia-azzurra-23/
CATEGORIES:Teatri
END:VEVENT
BEGIN:VEVENT
DTSTART;TZID=Europe/Rome:20260104T173000
DTEND;TZID=Europe/Rome:20260104T173000
DTSTAMP:20260420T093236
CREATED:20260103T090909Z
LAST-MODIFIED:20260103T090909Z
UID:7713-1767547800-1767547800@passpartout.art
SUMMARY:LA FRECCIA AZZURRA
DESCRIPTION:Il negozio di giocattoli della Befana\, una signora molto distinta e quasi nobile\, è tra i più forniti della città.\nNella sua vetrina fanno bella mostra di sé la splendida Bambola Rosa dal vezzoso accento francese\, il burbero comandante\, il cane Spicciola\, l’orsacchiotto\, il grande capo Penna d’Argento\, il capotreno e la mitica Freccia Azzurra\, che è un treno davvero da sogno.\nUn ragazzo di nome Francesco se ne innamora perdutamente\, ma è troppo povero per comprarsela; i giocattoli della vetrina decidono allora di avventurarsi per il mondo alla ricerca del nuovo amico.\nIncontrerete dunque un piccolo e determinato esercito di giocattoli capace di raccontarvi una storia delicata e gentile ricca di significato poetico e umano.
URL:https://passpartout.art/evento/la-freccia-azzurra-24/
CATEGORIES:Teatri
END:VEVENT
BEGIN:VEVENT
DTSTART;TZID=Europe/Rome:20260106T150000
DTEND;TZID=Europe/Rome:20260106T150000
DTSTAMP:20260420T093236
CREATED:20260103T090910Z
LAST-MODIFIED:20260103T090910Z
UID:7714-1767711600-1767711600@passpartout.art
SUMMARY:LA FRECCIA AZZURRA
DESCRIPTION:Il negozio di giocattoli della Befana\, una signora molto distinta e quasi nobile\, è tra i più forniti della città.\nNella sua vetrina fanno bella mostra di sé la splendida Bambola Rosa dal vezzoso accento francese\, il burbero comandante\, il cane Spicciola\, l’orsacchiotto\, il grande capo Penna d’Argento\, il capotreno e la mitica Freccia Azzurra\, che è un treno davvero da sogno.\nUn ragazzo di nome Francesco se ne innamora perdutamente\, ma è troppo povero per comprarsela; i giocattoli della vetrina decidono allora di avventurarsi per il mondo alla ricerca del nuovo amico.\nIncontrerete dunque un piccolo e determinato esercito di giocattoli capace di raccontarvi una storia delicata e gentile ricca di significato poetico e umano.
URL:https://passpartout.art/evento/la-freccia-azzurra-25/
CATEGORIES:Teatri
END:VEVENT
BEGIN:VEVENT
DTSTART;TZID=Europe/Rome:20260106T170000
DTEND;TZID=Europe/Rome:20260106T170000
DTSTAMP:20260420T093236
CREATED:20260103T094450Z
LAST-MODIFIED:20260103T094450Z
UID:7872-1767718800-1767718800@passpartout.art
SUMMARY:CONCERTO PER L'EPIFANIA - Osnago (LC)
DESCRIPTION:Concerto per chiudere in armonia le festività natalizie\, a cura del Corpo musicale Osnago-Lomagna
URL:https://passpartout.art/evento/concerto-per-lepifania-osnago-lc/
LOCATION:Vimercate (MB)
CATEGORIES:Teatri
END:VEVENT
END:VCALENDAR