BEGIN:VCALENDAR
VERSION:2.0
PRODID:-//Passpartout - ECPv6.15.20//NONSGML v1.0//EN
CALSCALE:GREGORIAN
METHOD:PUBLISH
X-WR-CALNAME:Passpartout
X-ORIGINAL-URL:https://passpartout.art
X-WR-CALDESC:Eventi per Passpartout
REFRESH-INTERVAL;VALUE=DURATION:PT1H
X-Robots-Tag:noindex
X-PUBLISHED-TTL:PT1H
BEGIN:VTIMEZONE
TZID:Europe/Rome
BEGIN:DAYLIGHT
TZOFFSETFROM:+0100
TZOFFSETTO:+0200
TZNAME:CEST
DTSTART:20240331T010000
END:DAYLIGHT
BEGIN:STANDARD
TZOFFSETFROM:+0200
TZOFFSETTO:+0100
TZNAME:CET
DTSTART:20241027T010000
END:STANDARD
BEGIN:DAYLIGHT
TZOFFSETFROM:+0100
TZOFFSETTO:+0200
TZNAME:CEST
DTSTART:20250330T010000
END:DAYLIGHT
BEGIN:STANDARD
TZOFFSETFROM:+0200
TZOFFSETTO:+0100
TZNAME:CET
DTSTART:20251026T010000
END:STANDARD
BEGIN:DAYLIGHT
TZOFFSETFROM:+0100
TZOFFSETTO:+0200
TZNAME:CEST
DTSTART:20260329T010000
END:DAYLIGHT
BEGIN:STANDARD
TZOFFSETFROM:+0200
TZOFFSETTO:+0100
TZNAME:CET
DTSTART:20261025T010000
END:STANDARD
END:VTIMEZONE
BEGIN:VEVENT
DTSTART;TZID=Europe/Rome:20250707T090000
DTEND;TZID=Europe/Rome:20250711T163000
DTSTAMP:20260424T174720
CREATED:20250704T142939Z
LAST-MODIFIED:20250704T142939Z
UID:6790-1751878800-1752251400@passpartout.art
SUMMARY:CAMPUS ESTIVI 2025
DESCRIPTION:Anche quest’anno il Teatro del Buratto propone i suoi campus estivi teatrali\, sei settimane di creatività\, gioco e scoperta per bambine\, bambini\, ragazze e ragazzi
URL:https://passpartout.art/evento/campus-estivi-2025-5/
CATEGORIES:Teatri
END:VEVENT
BEGIN:VEVENT
DTSTART;TZID=Europe/Rome:20250710T203000
DTEND;TZID=Europe/Rome:20250710T203000
DTSTAMP:20260424T174720
CREATED:20250704T142821Z
LAST-MODIFIED:20250704T142821Z
UID:6784-1752179400-1752179400@passpartout.art
SUMMARY:Le avventure di Tom Sawyer
DESCRIPTION:Spettacolo teatrale per bambini ispirato al celebre romanzo di Mark Twain nella splendida cornice del parco giochi di Salter
URL:https://passpartout.art/evento/le-avventure-di-tom-sawyer/
CATEGORIES:Teatri
END:VEVENT
BEGIN:VEVENT
DTSTART;TZID=Europe/Rome:20250714T090000
DTEND;TZID=Europe/Rome:20250718T163000
DTSTAMP:20260424T174720
CREATED:20250704T142939Z
LAST-MODIFIED:20250704T142939Z
UID:6791-1752483600-1752856200@passpartout.art
SUMMARY:CAMPUS ESTIVI 2025
DESCRIPTION:Anche quest’anno il Teatro del Buratto propone i suoi campus estivi teatrali\, sei settimane di creatività\, gioco e scoperta per bambine\, bambini\, ragazze e ragazzi
URL:https://passpartout.art/evento/campus-estivi-2025-6/
CATEGORIES:Teatri
END:VEVENT
BEGIN:VEVENT
DTSTART;TZID=Europe/Rome:20250717T203000
DTEND;TZID=Europe/Rome:20250717T203000
DTSTAMP:20260424T174720
CREATED:20250704T142836Z
LAST-MODIFIED:20250704T142836Z
UID:6785-1752784200-1752784200@passpartout.art
SUMMARY:Il gatto con gli stivali
DESCRIPTION:Spettacolo teatrale per bambini ispirato alla celebre fiaba popolare “il gatto con gli stivali” nella splendida cornice del parco giochi di Romeno
URL:https://passpartout.art/evento/il-gatto-con-gli-stivali/
CATEGORIES:Teatri
END:VEVENT
BEGIN:VEVENT
DTSTART;TZID=Europe/Rome:20250718T200000
DTEND;TZID=Europe/Rome:20250718T200000
DTSTAMP:20260424T174720
CREATED:20250704T142955Z
LAST-MODIFIED:20250704T142955Z
UID:6798-1752868800-1752868800@passpartout.art
SUMMARY:The Sound of Fantasy
DESCRIPTION:Concerto dell’orchestra sinfonica di Milano dedicato agli amanti del genere Fantasy!
URL:https://passpartout.art/evento/the-sound-of-fantasy/
CATEGORIES:Teatri
END:VEVENT
BEGIN:VEVENT
DTSTART;TZID=Europe/Rome:20250718T203000
DTEND;TZID=Europe/Rome:20250718T203000
DTSTAMP:20260424T174720
CREATED:20250704T142836Z
LAST-MODIFIED:20250704T142836Z
UID:6786-1752870600-1752870600@passpartout.art
SUMMARY:Rhum e Cola
DESCRIPTION:Rhum e Cola\, due clown fuori dall’ordinario: simpatici ed estroversi\, che viaggiano di piazza in piazza suonando il loro organetto di Barberia. I protagonisti recitano\, giocano e interagiscono con il pubblico\, instaurando così un rapporto di complicità con grandi e piccini.
URL:https://passpartout.art/evento/rhum-e-cola/
CATEGORIES:Teatri
END:VEVENT
BEGIN:VEVENT
DTSTART;TZID=Europe/Rome:20250721T090000
DTEND;TZID=Europe/Rome:20250725T163000
DTSTAMP:20260424T174720
CREATED:20250704T142940Z
LAST-MODIFIED:20250704T142940Z
UID:6792-1753088400-1753461000@passpartout.art
SUMMARY:CAMPUS ESTIVI 2025
DESCRIPTION:Anche quest’anno il Teatro del Buratto propone i suoi campus estivi teatrali\, sei settimane di creatività\, gioco e scoperta per bambine\, bambini\, ragazze e ragazzi
URL:https://passpartout.art/evento/campus-estivi-2025-7/
CATEGORIES:Teatri
END:VEVENT
BEGIN:VEVENT
DTSTART;TZID=Europe/Rome:20250724T150000
DTEND;TZID=Europe/Rome:20250724T150000
DTSTAMP:20260424T174720
CREATED:20250704T142837Z
LAST-MODIFIED:20250704T142837Z
UID:6787-1753369200-1753369200@passpartout.art
SUMMARY:Cuordiferro
DESCRIPTION:Cuordiferro è la storia di un brigante che terrorizza gli abitanti della città di Roccaverde. Nessuno riesce a catturarlo. Un giorno\, Cuordiferro diventerà amico di Fragolino\, un bambino povero che è costretto a lavorare per poter vivere… come andrà a finire?
URL:https://passpartout.art/evento/cuordiferro/
CATEGORIES:Teatri
END:VEVENT
BEGIN:VEVENT
DTSTART;TZID=Europe/Rome:20250725T190000
DTEND;TZID=Europe/Rome:20250725T190000
DTSTAMP:20260424T174720
CREATED:20250704T142837Z
LAST-MODIFIED:20250704T142837Z
UID:6788-1753470000-1753470000@passpartout.art
SUMMARY:Cuordiferro
DESCRIPTION:Cuordiferro è la storia di un brigante che terrorizza gli abitanti della città di Roccaverde. Nessuno riesce a catturarlo. Un giorno\, Cuordiferro diventerà amico di Fragolino\, un bambino povero che è costretto a lavorare per poter vivere… come andrà a finire?
URL:https://passpartout.art/evento/cuordiferro-2/
CATEGORIES:Teatri
END:VEVENT
BEGIN:VEVENT
DTSTART;TZID=Europe/Rome:20250728T180000
DTEND;TZID=Europe/Rome:20250728T180000
DTSTAMP:20260424T174720
CREATED:20250704T142838Z
LAST-MODIFIED:20250704T142838Z
UID:6789-1753725600-1753725600@passpartout.art
SUMMARY:Mamma Orsa
DESCRIPTION:Spettacolo teatrale per bambini ispirato al celebre racconto “mamma orsa” nella splendida cornice del cortile urbano di Rovereto
URL:https://passpartout.art/evento/mamma-orsa/
CATEGORIES:Teatri
END:VEVENT
BEGIN:VEVENT
DTSTART;TZID=Europe/Rome:20250910T173000
DTEND;TZID=Europe/Rome:20250910T173000
DTSTAMP:20260424T174720
CREATED:20250826T213945Z
LAST-MODIFIED:20250826T213945Z
UID:7266-1757525400-1757525400@passpartout.art
SUMMARY:Piccino Picciò d'estate - UN'ONDA CHIAMATA MARINA
DESCRIPTION:Marina è un’onda che vive nei freddi mari del nord… il cielo è grigio\, con poca luce\, Maregrigio non le dà un attimo di tregua; Marina è grigia e triste… raramente vede il sole.\nPer sfuggire a Maregrigio l’onda Marina intraprenderà un avventuroso viaggio dove incontrerà la balena Molly il polpo Nuotasvelto… e… tanti\, tanti colori.
URL:https://passpartout.art/evento/piccino-piccio-destate-unonda-chiamata-marina/
LOCATION:Vimercate (MB)
CATEGORIES:Teatri
END:VEVENT
BEGIN:VEVENT
DTSTART;TZID=Europe/Rome:20250914T100000
DTEND;TZID=Europe/Rome:20250914T100000
DTSTAMP:20260424T174720
CREATED:20250826T213945Z
LAST-MODIFIED:20250826T213945Z
UID:7267-1757844000-1757844000@passpartout.art
SUMMARY:Piccino Picciò d'estate - E TU? COSA VEDI? COSA SENTI?
DESCRIPTION:Uno spettacolo itinerante recitato\, suonato e danzato\, site specific nella natura\, andando a scoprire le bellezze della natura che ci circonda.\nUn’esperienza outdoor\, un percorso teatrale ed esperienziale che può farci riconnettere con la natura e con i nostri sensi\, giocando con essi\, facendoci vedere il mondo naturale così come forse non lo abbiamo mai visto: ad occhi chiusi\, spalancati\, moltiplicati.
URL:https://passpartout.art/evento/piccino-piccio-destate-e-tu-cosa-vedi-cosa-senti/
LOCATION:Vimercate (MB)
CATEGORIES:Teatri
END:VEVENT
BEGIN:VEVENT
DTSTART;TZID=Europe/Rome:20250914T113000
DTEND;TZID=Europe/Rome:20250914T113000
DTSTAMP:20260424T174720
CREATED:20250826T213945Z
LAST-MODIFIED:20250826T213945Z
UID:7268-1757849400-1757849400@passpartout.art
SUMMARY:Piccino Picciò d'estate - E TU? COSA VEDI? COSA SENTI?
DESCRIPTION:Uno spettacolo itinerante recitato\, suonato e danzato\, site specific nella natura\, andando a scoprire le bellezze della natura che ci circonda.\nUn’esperienza outdoor\, un percorso teatrale ed esperienziale che può farci riconnettere con la natura e con i nostri sensi\, giocando con essi\, facendoci vedere il mondo naturale così come forse non lo abbiamo mai visto: ad occhi chiusi\, spalancati\, moltiplicati.
URL:https://passpartout.art/evento/piccino-piccio-destate-e-tu-cosa-vedi-cosa-senti-2/
LOCATION:Vimercate (MB)
CATEGORIES:Teatri
END:VEVENT
BEGIN:VEVENT
DTSTART;TZID=Europe/Rome:20250920T183000
DTEND;TZID=Europe/Rome:20250920T183000
DTSTAMP:20260424T174720
CREATED:20250826T213944Z
LAST-MODIFIED:20250826T213944Z
UID:7265-1758393000-1758393000@passpartout.art
SUMMARY:Testa di Legno
DESCRIPTION:Un viaggio teatrale tra oggetti\, musica\, danza e racconto che reinterpreta la storia di Pinocchio con uno sguardo attuale e profondo.\nNel mondo moderno\, il Gatto e la Volpe si nascondono tra le luci dei social\, il Paese dei Balocchi è a portata di clic\, e Pinocchio resta un personaggio irresistibile: disobbediente\, ingenuo\, ma pieno di vita e desiderio di crescere.\n“Testa di Legno” parla ai bambini e agli adulti\, affrontando con delicatezza temi come la difficoltà degli adulti nel dire “no”\, il peso delle responsabilità educative e il valore del perdono come chiave per crescere davvero.\nUno spettacolo poetico e coinvolgente\, che fa riflettere e sognare.
URL:https://passpartout.art/evento/testa-di-legno/
CATEGORIES:Teatri
END:VEVENT
BEGIN:VEVENT
DTSTART;TZID=Europe/Rome:20250921T173000
DTEND;TZID=Europe/Rome:20250921T173000
DTSTAMP:20260424T174720
CREATED:20250826T213959Z
LAST-MODIFIED:20250826T213959Z
UID:7269-1758475800-1758475800@passpartout.art
SUMMARY:Piccino Picciò d'estate - ATELIER DEL GUSTO
DESCRIPTION:Un nuovo laboratorio di cucina per cuochi e cuoche in erba\,\nUna cuoca professionista li guiderà nella preparazione di una semplice ricetta.\ne per finire: Buon Appetito!
URL:https://passpartout.art/evento/piccino-piccio-destate-atelier-del-gusto/
CATEGORIES:Teatri
END:VEVENT
BEGIN:VEVENT
DTSTART;TZID=Europe/Rome:20250927T103000
DTEND;TZID=Europe/Rome:20250927T103000
DTSTAMP:20260424T174720
CREATED:20250826T213959Z
LAST-MODIFIED:20250826T213959Z
UID:7270-1758969000-1758969000@passpartout.art
SUMMARY:Piccino Picciò d'estate - COSA C'È...?
DESCRIPTION:Bianco come il pane\, le nuvole e la mozzarella ecco che un grande fazzoletto si trasforma in una casa/tenda con un fuori e un dentro dove con la mano\, il naso ci si può intrufolare\, con l’occhio guardare\, e scoprire! E poi ancora…microcosmi di suoni\, odori\, forme\, oggetti\, colori\, pezzetti di mondo dentro i quali si nascondono altri pezzetti di mondo. Un personaggio lieve e curioso vi si aggira\, toccando\, ascoltando\, rovesciando\, svelando\, guardando le cose da dentro e da fuori\, risuonando i rumori e le cose\, intessendo il suo viaggio.\nUno spettacolo sulla curiosità\, sull’aprire e chiudere\, sul mostrare e nascondere\, sul sentire\, toccare\, guardare. Sullo stare dentro e stare fuori. Per facilitare la scoperta delle relazioni spaziali.
URL:https://passpartout.art/evento/piccino-piccio-destate-cosa-ce/
LOCATION:Vimercate (MB)
CATEGORIES:Teatri
END:VEVENT
BEGIN:VEVENT
DTSTART;TZID=Europe/Rome:20251002T163000
DTEND;TZID=Europe/Rome:20251002T163000
DTSTAMP:20260424T174720
CREATED:20251003T154835Z
LAST-MODIFIED:20251003T154835Z
UID:7315-1759422600-1759422600@passpartout.art
SUMMARY:Piccino Picciò - ONDE
DESCRIPTION:L’incontro con il mare\, nella sua bellezza e nella sua potenza\, risveglia una serie di emozioni e stati d’animo contrastanti: curiosità\, fascinazione\, paura… Sospeso tra il reale e l’immaginario\, la voce e la musica ci guidano in questo viaggio in cui ci travolge la fantasia. Concepito sotto effetto dell’omonimo silent book dell’illustratrice coreana Suzy Lee.
URL:https://passpartout.art/evento/piccino-piccio-onde/
LOCATION:Vimercate (MB)
CATEGORIES:Teatri
END:VEVENT
BEGIN:VEVENT
DTSTART;TZID=Europe/Rome:20251002T180000
DTEND;TZID=Europe/Rome:20251002T180000
DTSTAMP:20260424T174720
CREATED:20251003T154835Z
LAST-MODIFIED:20251003T154835Z
UID:7316-1759428000-1759428000@passpartout.art
SUMMARY:Piccino Picciò - ONDE
DESCRIPTION:L’incontro con il mare\, nella sua bellezza e nella sua potenza\, risveglia una serie di emozioni e stati d’animo contrastanti: curiosità\, fascinazione\, paura… Sospeso tra il reale e l’immaginario\, la voce e la musica ci guidano in questo viaggio in cui ci travolge la fantasia. Concepito sotto effetto dell’omonimo silent book dell’illustratrice coreana Suzy Lee.
URL:https://passpartout.art/evento/piccino-piccio-onde-2/
LOCATION:Vimercate (MB)
CATEGORIES:Teatri
END:VEVENT
BEGIN:VEVENT
DTSTART;TZID=Europe/Rome:20251011T160000
DTEND;TZID=Europe/Rome:20251011T160000
DTSTAMP:20260424T174720
CREATED:20251003T154832Z
LAST-MODIFIED:20251003T154832Z
UID:7314-1760198400-1760198400@passpartout.art
SUMMARY:Scusa (Piccoli Idilli)
DESCRIPTION:Uno spettacolo di Clochart e Piccoli Idilli.
URL:https://passpartout.art/evento/scusa-piccoli-idilli/
CATEGORIES:Teatri
END:VEVENT
BEGIN:VEVENT
DTSTART;TZID=Europe/Rome:20251011T163000
DTEND;TZID=Europe/Rome:20251011T163000
DTSTAMP:20260424T174720
CREATED:20251003T155051Z
LAST-MODIFIED:20251003T155051Z
UID:7363-1760200200-1760200200@passpartout.art
SUMMARY:Kai nel cuore del blu
DESCRIPTION:Un cane e Kai\, la sua piccola persona\, portati contro voglia al mare si ritrovano lontani dalla loro quotidianità cittadina e senza niente da fare. Nella noia i due sono attirati dal misterioso suono di un enorme cuore che sembra provenire dal mare e partono così alla sua ricerca. Diversi personaggi metteranno alla prova il loro desiderio di raggiungere le profondità del mare: granchi confusionari e un pellicano superficiale che tenteranno di fargli perdere la rotta\, ottusi balenieri impegnati in una caccia feroce e un inquietante mostro di spazzatura che tenterà di intrappolarli. Con la tecnica di animazione del teatro su nero i paesaggi marini prendono vita e si popolano di creature e presenze affascinanti.\nDal buio della scena emergono l’incanto delle profondità marine e insieme i segni dell’impatto umano sull’ambiente. Nel racconto la noia diventa la scintilla che accende il desiderio\, attesa e pazienza si rivelano alleate preziose per scoprire cosa pulsa nel cuore del blu.\nIl desiderio è quello di dedicare questo spettacolo a tutti quei bambini che\, con la curiosità dell’infanzia\, sono pronti ad affrontare avventure che li porteranno a scoprire il mondo.
URL:https://passpartout.art/evento/kai-nel-cuore-del-blu-3/
CATEGORIES:Teatri
END:VEVENT
BEGIN:VEVENT
DTSTART;TZID=Europe/Rome:20251012T100000
DTEND;TZID=Europe/Rome:20251012T100000
DTSTAMP:20260424T174720
CREATED:20251003T155105Z
LAST-MODIFIED:20251003T155105Z
UID:7365-1760263200-1760263200@passpartout.art
SUMMARY:La stanza delle storie di Aurelia - Il lupo e i sette capretti
DESCRIPTION:“C’era una volta\, anzi\, c’è! Al Teatro Munari un luogo magico in cui alcune domeniche le storie prendono vita nella “Stanza delle Storie”. \nLe porte del Teatro Munari si aprono per accogliere piccoli e grandi che hanno bisogno di storie\, favole\, racconti
URL:https://passpartout.art/evento/la-stanza-delle-storie-di-aurelia-il-lupo-e-i-sette-capretti/
CATEGORIES:Teatri
END:VEVENT
BEGIN:VEVENT
DTSTART;TZID=Europe/Rome:20251012T163000
DTEND;TZID=Europe/Rome:20251012T163000
DTSTAMP:20260424T174720
CREATED:20251003T155052Z
LAST-MODIFIED:20251003T155052Z
UID:7364-1760286600-1760286600@passpartout.art
SUMMARY:Kai nel cuore del blu
DESCRIPTION:Un cane e Kai\, la sua piccola persona\, portati contro voglia al mare si ritrovano lontani dalla loro quotidianità cittadina e senza niente da fare. Nella noia i due sono attirati dal misterioso suono di un enorme cuore che sembra provenire dal mare e partono così alla sua ricerca. Diversi personaggi metteranno alla prova il loro desiderio di raggiungere le profondità del mare: granchi confusionari e un pellicano superficiale che tenteranno di fargli perdere la rotta\, ottusi balenieri impegnati in una caccia feroce e un inquietante mostro di spazzatura che tenterà di intrappolarli. Con la tecnica di animazione del teatro su nero i paesaggi marini prendono vita e si popolano di creature e presenze affascinanti.\nDal buio della scena emergono l’incanto delle profondità marine e insieme i segni dell’impatto umano sull’ambiente. Nel racconto la noia diventa la scintilla che accende il desiderio\, attesa e pazienza si rivelano alleate preziose per scoprire cosa pulsa nel cuore del blu.\nIl desiderio è quello di dedicare questo spettacolo a tutti quei bambini che\, con la curiosità dell’infanzia\, sono pronti ad affrontare avventure che li porteranno a scoprire il mondo.
URL:https://passpartout.art/evento/kai-nel-cuore-del-blu-4/
CATEGORIES:Teatri
END:VEVENT
BEGIN:VEVENT
DTSTART;TZID=Europe/Rome:20251101T163000
DTEND;TZID=Europe/Rome:20251101T163000
DTSTAMP:20260424T174720
CREATED:20251030T133928Z
LAST-MODIFIED:20251030T133928Z
UID:7460-1762014600-1762014600@passpartout.art
SUMMARY:Ti vedo. La leggenda del basilisco
DESCRIPTION:“Weekend da paura” \nUn abito storia che racconta un mito. Una grande gonna che contiene in se tutti gli elementi di questa storia. Ora però dobbiamo fronteggiare il Re dei serpenti\, una creatura non adatta alla vita tra gli uomini\, dai poteri soprannaturali\, che semina terrore e che con il solo sguardo trasforma gli esseri viventi in pietra. Nei secoli molte leggende lo hanno visto come protagonista terribile e mortale.
URL:https://passpartout.art/evento/ti-vedo-la-leggenda-del-basilisco-5/
CATEGORIES:Teatri
END:VEVENT
BEGIN:VEVENT
DTSTART;TZID=Europe/Rome:20251101T170000
DTEND;TZID=Europe/Rome:20251101T170000
DTSTAMP:20260424T174720
CREATED:20251030T133623Z
LAST-MODIFIED:20251030T133623Z
UID:7395-1762016400-1762016400@passpartout.art
SUMMARY:L'aviatore
DESCRIPTION:Uno spettacolo di Clochart che si terrà alla Filarmonica di Rovereto
URL:https://passpartout.art/evento/laviatore/
CATEGORIES:Teatri
END:VEVENT
BEGIN:VEVENT
DTSTART;TZID=Europe/Rome:20251101T170000
DTEND;TZID=Europe/Rome:20251101T170000
DTSTAMP:20260424T174720
CREATED:20251030T133928Z
LAST-MODIFIED:20251030T133928Z
UID:7462-1762016400-1762016400@passpartout.art
SUMMARY:Storie nel nido
DESCRIPTION:Incontro teatrale di promozione del libro e della lettura per la prima infanzia\, ispirato al progetto “Nati per leggere”\nUn nido – un angolo raccolto di piumoni e cuscini che ci aiuteranno a creare il “nostro” posto e a stare più comodi – è il luogo del nostro racconto\, dove troveremo i libri\, alcuni dei quali saranno suggerimenti per “i grandi” e da usare a casa\, ripercorrendo nella dimensione privata della famiglia il gioco della lettura\, del rapporto genitore/bambino\, ricercando i testi in biblioteche e librerie.\nAd accogliere e guidare il pubblico ci saranno due attori narratori\, che guideranno bambini e genitori a prendere posto nel nido; sistemandosi “comodi\, comodi” attorno ad un curioso grosso uovo\, da scoprire\, accudire e… che sarà lo spunto per partire con le narrazioni tratte dai libri prescelti\, coinvolgendo gli stessi genitori nella costruzione dell’azione\, rendendoli “complici attivi”.
URL:https://passpartout.art/evento/storie-nel-nido-11/
CATEGORIES:Teatri
END:VEVENT
BEGIN:VEVENT
DTSTART;TZID=Europe/Rome:20251102T100000
DTEND;TZID=Europe/Rome:20251102T100000
DTSTAMP:20260424T174720
CREATED:20251030T133942Z
LAST-MODIFIED:20251030T133942Z
UID:7463-1762077600-1762077600@passpartout.art
SUMMARY:Storie nel nido
DESCRIPTION:Incontro teatrale di promozione del libro e della lettura per la prima infanzia\, ispirato al progetto “Nati per leggere”\nUn nido – un angolo raccolto di piumoni e cuscini che ci aiuteranno a creare il “nostro” posto e a stare più comodi – è il luogo del nostro racconto\, dove troveremo i libri\, alcuni dei quali saranno suggerimenti per “i grandi” e da usare a casa\, ripercorrendo nella dimensione privata della famiglia il gioco della lettura\, del rapporto genitore/bambino\, ricercando i testi in biblioteche e librerie.\nAd accogliere e guidare il pubblico ci saranno due attori narratori\, che guideranno bambini e genitori a prendere posto nel nido; sistemandosi “comodi\, comodi” attorno ad un curioso grosso uovo\, da scoprire\, accudire e… che sarà lo spunto per partire con le narrazioni tratte dai libri prescelti\, coinvolgendo gli stessi genitori nella costruzione dell’azione\, rendendoli “complici attivi”.
URL:https://passpartout.art/evento/storie-nel-nido-12/
CATEGORIES:Teatri
END:VEVENT
BEGIN:VEVENT
DTSTART;TZID=Europe/Rome:20251102T163000
DTEND;TZID=Europe/Rome:20251102T163000
DTSTAMP:20260424T174720
CREATED:20251030T133622Z
LAST-MODIFIED:20251030T133622Z
UID:7393-1762101000-1762101000@passpartout.art
SUMMARY:Scusa
DESCRIPTION:Uno spettacolo di Clochart che si terrà a Fucina Culturale Machiavelli.
URL:https://passpartout.art/evento/scusa/
CATEGORIES:Teatri
END:VEVENT
BEGIN:VEVENT
DTSTART;TZID=Europe/Rome:20251102T163000
DTEND;TZID=Europe/Rome:20251102T163000
DTSTAMP:20260424T174720
CREATED:20251030T133626Z
LAST-MODIFIED:20251030T133626Z
UID:7398-1762101000-1762101000@passpartout.art
SUMMARY:Piccino Picciò - KNUET (Nodo)
DESCRIPTION:Ai piccoli spettatori si apre un mondo meraviglioso di corde diverse: corde da unire\, corde come tende\, corde come scale e altalene\, fili da tirare insieme\, fili tra una persona e l’altra\, corde che legano con ogni fibra\, nastri che uniscono\, fili da tirare e linee da lasciare andare.\nIn questo mondo che invita a soffermarsi\, meravigliarsi e scoprire\, tre artisti (musicisti/ballerini o performer) incontrano il pubblico a livello visivo. Esplorano questo universo insieme ai piccoli spettatori e ai loro accompagnatori.
URL:https://passpartout.art/evento/piccino-piccio-knuet-nodo/
CATEGORIES:Teatri
END:VEVENT
BEGIN:VEVENT
DTSTART;TZID=Europe/Rome:20251102T163000
DTEND;TZID=Europe/Rome:20251102T163000
DTSTAMP:20260424T174720
CREATED:20251030T133928Z
LAST-MODIFIED:20251030T133928Z
UID:7461-1762101000-1762101000@passpartout.art
SUMMARY:Ti vedo. La leggenda del basilisco
DESCRIPTION:“Weekend da paura” \nUn abito storia che racconta un mito. Una grande gonna che contiene in se tutti gli elementi di questa storia. Ora però dobbiamo fronteggiare il Re dei serpenti\, una creatura non adatta alla vita tra gli uomini\, dai poteri soprannaturali\, che semina terrore e che con il solo sguardo trasforma gli esseri viventi in pietra. Nei secoli molte leggende lo hanno visto come protagonista terribile e mortale.
URL:https://passpartout.art/evento/ti-vedo-la-leggenda-del-basilisco-6/
CATEGORIES:Teatri
END:VEVENT
BEGIN:VEVENT
DTSTART;TZID=Europe/Rome:20251102T180000
DTEND;TZID=Europe/Rome:20251102T180000
DTSTAMP:20260424T174720
CREATED:20251030T133626Z
LAST-MODIFIED:20251030T133626Z
UID:7399-1762106400-1762106400@passpartout.art
SUMMARY:Piccino Picciò - KNUET (Nodo)
DESCRIPTION:Ai piccoli spettatori si apre un mondo meraviglioso di corde diverse: corde da unire\, corde come tende\, corde come scale e altalene\, fili da tirare insieme\, fili tra una persona e l’altra\, corde che legano con ogni fibra\, nastri che uniscono\, fili da tirare e linee da lasciare andare.\nIn questo mondo che invita a soffermarsi\, meravigliarsi e scoprire\, tre artisti (musicisti/ballerini o performer) incontrano il pubblico a livello visivo. Esplorano questo universo insieme ai piccoli spettatori e ai loro accompagnatori.
URL:https://passpartout.art/evento/piccino-piccio-knuet-nodo-2/
LOCATION:Vimercate (MB)
CATEGORIES:Teatri
END:VEVENT
END:VCALENDAR