BEGIN:VCALENDAR
VERSION:2.0
PRODID:-//Passpartout - ECPv6.15.20//NONSGML v1.0//EN
CALSCALE:GREGORIAN
METHOD:PUBLISH
X-WR-CALNAME:Passpartout
X-ORIGINAL-URL:https://passpartout.art
X-WR-CALDESC:Eventi per Passpartout
REFRESH-INTERVAL;VALUE=DURATION:PT1H
X-Robots-Tag:noindex
X-PUBLISHED-TTL:PT1H
BEGIN:VTIMEZONE
TZID:Europe/Rome
BEGIN:DAYLIGHT
TZOFFSETFROM:+0100
TZOFFSETTO:+0200
TZNAME:CEST
DTSTART:20240331T010000
END:DAYLIGHT
BEGIN:STANDARD
TZOFFSETFROM:+0200
TZOFFSETTO:+0100
TZNAME:CET
DTSTART:20241027T010000
END:STANDARD
BEGIN:DAYLIGHT
TZOFFSETFROM:+0100
TZOFFSETTO:+0200
TZNAME:CEST
DTSTART:20250330T010000
END:DAYLIGHT
BEGIN:STANDARD
TZOFFSETFROM:+0200
TZOFFSETTO:+0100
TZNAME:CET
DTSTART:20251026T010000
END:STANDARD
BEGIN:DAYLIGHT
TZOFFSETFROM:+0100
TZOFFSETTO:+0200
TZNAME:CEST
DTSTART:20260329T010000
END:DAYLIGHT
BEGIN:STANDARD
TZOFFSETFROM:+0200
TZOFFSETTO:+0100
TZNAME:CET
DTSTART:20261025T010000
END:STANDARD
END:VTIMEZONE
BEGIN:VEVENT
DTSTART;TZID=Europe/Rome:20250630T083000
DTEND;TZID=Europe/Rome:20250704T160000
DTSTAMP:20260424T101457
CREATED:20250529T181446Z
LAST-MODIFIED:20250529T181446Z
UID:6723-1751272200-1751644800@passpartout.art
SUMMARY:CAMPUS ESTIVI 2025
DESCRIPTION:Anche quest’anno il Teatro del Buratto propone i suoi campus estivi teatrali\, sei settimane di creatività\, gioco e scoperta per bambine\, bambini\, ragazze e ragazzi
URL:https://passpartout.art/evento/campus-estivi-2025-4/
CATEGORIES:Teatri
END:VEVENT
BEGIN:VEVENT
DTSTART;TZID=Europe/Rome:20250630T090000
DTEND;TZID=Europe/Rome:20250704T153000
DTSTAMP:20260424T101457
CREATED:20250529T181502Z
LAST-MODIFIED:20250704T143041Z
UID:6730-1751274000-1751643000@passpartout.art
SUMMARY:TUTTI IN SCENA!\nCAMPUS DI TEATRO
DESCRIPTION:Il teatro è uno spazio magico dove la sperimentazione\, l’immaginazione\, l’azione e soprattutto la relazione con gli altri sono elementi che mescolati tra loro rendono possibili piccole magie che daranno prova del talento dei nostri giovani attori. Durante il percorso\, i ragazzi saranno invitati a scoprire e testare cosa significhi lo “stare in scena” per approcciarsi\, in un secondo momento\, alla creazione di uno spettacolo collettivo con il quale incantare gli spettatori.
URL:https://passpartout.art/evento/tutti-in-scenacampus-di-teatro-2/
CATEGORIES:Teatri
END:VEVENT
BEGIN:VEVENT
DTSTART;TZID=Europe/Rome:20250703T203000
DTEND;TZID=Europe/Rome:20250703T203000
DTSTAMP:20260424T101457
CREATED:20250704T142821Z
LAST-MODIFIED:20250704T142821Z
UID:6783-1751574600-1751574600@passpartout.art
SUMMARY:Alla ricerca del Re Sentiunpo'
DESCRIPTION:Spettacolo teatrale per bambini ispirato ad una fiaba musicale nella splendida cornice del parco giochi di Malgolo
URL:https://passpartout.art/evento/alla-ricerca-del-re-sentiunpo/
CATEGORIES:Teatri
END:VEVENT
BEGIN:VEVENT
DTSTART;TZID=Europe/Rome:20250707T090000
DTEND;TZID=Europe/Rome:20250711T163000
DTSTAMP:20260424T101457
CREATED:20250704T142939Z
LAST-MODIFIED:20250704T142939Z
UID:6790-1751878800-1752251400@passpartout.art
SUMMARY:CAMPUS ESTIVI 2025
DESCRIPTION:Anche quest’anno il Teatro del Buratto propone i suoi campus estivi teatrali\, sei settimane di creatività\, gioco e scoperta per bambine\, bambini\, ragazze e ragazzi
URL:https://passpartout.art/evento/campus-estivi-2025-5/
CATEGORIES:Teatri
END:VEVENT
BEGIN:VEVENT
DTSTART;TZID=Europe/Rome:20250710T203000
DTEND;TZID=Europe/Rome:20250710T203000
DTSTAMP:20260424T101457
CREATED:20250704T142821Z
LAST-MODIFIED:20250704T142821Z
UID:6784-1752179400-1752179400@passpartout.art
SUMMARY:Le avventure di Tom Sawyer
DESCRIPTION:Spettacolo teatrale per bambini ispirato al celebre romanzo di Mark Twain nella splendida cornice del parco giochi di Salter
URL:https://passpartout.art/evento/le-avventure-di-tom-sawyer/
CATEGORIES:Teatri
END:VEVENT
BEGIN:VEVENT
DTSTART;TZID=Europe/Rome:20250714T090000
DTEND;TZID=Europe/Rome:20250718T163000
DTSTAMP:20260424T101457
CREATED:20250704T142939Z
LAST-MODIFIED:20250704T142939Z
UID:6791-1752483600-1752856200@passpartout.art
SUMMARY:CAMPUS ESTIVI 2025
DESCRIPTION:Anche quest’anno il Teatro del Buratto propone i suoi campus estivi teatrali\, sei settimane di creatività\, gioco e scoperta per bambine\, bambini\, ragazze e ragazzi
URL:https://passpartout.art/evento/campus-estivi-2025-6/
CATEGORIES:Teatri
END:VEVENT
BEGIN:VEVENT
DTSTART;TZID=Europe/Rome:20250717T203000
DTEND;TZID=Europe/Rome:20250717T203000
DTSTAMP:20260424T101457
CREATED:20250704T142836Z
LAST-MODIFIED:20250704T142836Z
UID:6785-1752784200-1752784200@passpartout.art
SUMMARY:Il gatto con gli stivali
DESCRIPTION:Spettacolo teatrale per bambini ispirato alla celebre fiaba popolare “il gatto con gli stivali” nella splendida cornice del parco giochi di Romeno
URL:https://passpartout.art/evento/il-gatto-con-gli-stivali/
CATEGORIES:Teatri
END:VEVENT
BEGIN:VEVENT
DTSTART;TZID=Europe/Rome:20250718T200000
DTEND;TZID=Europe/Rome:20250718T200000
DTSTAMP:20260424T101457
CREATED:20250704T142955Z
LAST-MODIFIED:20250704T142955Z
UID:6798-1752868800-1752868800@passpartout.art
SUMMARY:The Sound of Fantasy
DESCRIPTION:Concerto dell’orchestra sinfonica di Milano dedicato agli amanti del genere Fantasy!
URL:https://passpartout.art/evento/the-sound-of-fantasy/
CATEGORIES:Teatri
END:VEVENT
BEGIN:VEVENT
DTSTART;TZID=Europe/Rome:20250718T203000
DTEND;TZID=Europe/Rome:20250718T203000
DTSTAMP:20260424T101457
CREATED:20250704T142836Z
LAST-MODIFIED:20250704T142836Z
UID:6786-1752870600-1752870600@passpartout.art
SUMMARY:Rhum e Cola
DESCRIPTION:Rhum e Cola\, due clown fuori dall’ordinario: simpatici ed estroversi\, che viaggiano di piazza in piazza suonando il loro organetto di Barberia. I protagonisti recitano\, giocano e interagiscono con il pubblico\, instaurando così un rapporto di complicità con grandi e piccini.
URL:https://passpartout.art/evento/rhum-e-cola/
CATEGORIES:Teatri
END:VEVENT
BEGIN:VEVENT
DTSTART;TZID=Europe/Rome:20250721T090000
DTEND;TZID=Europe/Rome:20250725T163000
DTSTAMP:20260424T101457
CREATED:20250704T142940Z
LAST-MODIFIED:20250704T142940Z
UID:6792-1753088400-1753461000@passpartout.art
SUMMARY:CAMPUS ESTIVI 2025
DESCRIPTION:Anche quest’anno il Teatro del Buratto propone i suoi campus estivi teatrali\, sei settimane di creatività\, gioco e scoperta per bambine\, bambini\, ragazze e ragazzi
URL:https://passpartout.art/evento/campus-estivi-2025-7/
CATEGORIES:Teatri
END:VEVENT
BEGIN:VEVENT
DTSTART;TZID=Europe/Rome:20250724T150000
DTEND;TZID=Europe/Rome:20250724T150000
DTSTAMP:20260424T101457
CREATED:20250704T142837Z
LAST-MODIFIED:20250704T142837Z
UID:6787-1753369200-1753369200@passpartout.art
SUMMARY:Cuordiferro
DESCRIPTION:Cuordiferro è la storia di un brigante che terrorizza gli abitanti della città di Roccaverde. Nessuno riesce a catturarlo. Un giorno\, Cuordiferro diventerà amico di Fragolino\, un bambino povero che è costretto a lavorare per poter vivere… come andrà a finire?
URL:https://passpartout.art/evento/cuordiferro/
CATEGORIES:Teatri
END:VEVENT
BEGIN:VEVENT
DTSTART;TZID=Europe/Rome:20250725T190000
DTEND;TZID=Europe/Rome:20250725T190000
DTSTAMP:20260424T101457
CREATED:20250704T142837Z
LAST-MODIFIED:20250704T142837Z
UID:6788-1753470000-1753470000@passpartout.art
SUMMARY:Cuordiferro
DESCRIPTION:Cuordiferro è la storia di un brigante che terrorizza gli abitanti della città di Roccaverde. Nessuno riesce a catturarlo. Un giorno\, Cuordiferro diventerà amico di Fragolino\, un bambino povero che è costretto a lavorare per poter vivere… come andrà a finire?
URL:https://passpartout.art/evento/cuordiferro-2/
CATEGORIES:Teatri
END:VEVENT
BEGIN:VEVENT
DTSTART;TZID=Europe/Rome:20250728T180000
DTEND;TZID=Europe/Rome:20250728T180000
DTSTAMP:20260424T101457
CREATED:20250704T142838Z
LAST-MODIFIED:20250704T142838Z
UID:6789-1753725600-1753725600@passpartout.art
SUMMARY:Mamma Orsa
DESCRIPTION:Spettacolo teatrale per bambini ispirato al celebre racconto “mamma orsa” nella splendida cornice del cortile urbano di Rovereto
URL:https://passpartout.art/evento/mamma-orsa/
CATEGORIES:Teatri
END:VEVENT
END:VCALENDAR