BEGIN:VCALENDAR
VERSION:2.0
PRODID:-//Passpartout - ECPv6.15.20//NONSGML v1.0//EN
CALSCALE:GREGORIAN
METHOD:PUBLISH
X-WR-CALNAME:Passpartout
X-ORIGINAL-URL:https://passpartout.art
X-WR-CALDESC:Eventi per Passpartout
REFRESH-INTERVAL;VALUE=DURATION:PT1H
X-Robots-Tag:noindex
X-PUBLISHED-TTL:PT1H
BEGIN:VTIMEZONE
TZID:Europe/Rome
BEGIN:DAYLIGHT
TZOFFSETFROM:+0100
TZOFFSETTO:+0200
TZNAME:CEST
DTSTART:20240331T010000
END:DAYLIGHT
BEGIN:STANDARD
TZOFFSETFROM:+0200
TZOFFSETTO:+0100
TZNAME:CET
DTSTART:20241027T010000
END:STANDARD
BEGIN:DAYLIGHT
TZOFFSETFROM:+0100
TZOFFSETTO:+0200
TZNAME:CEST
DTSTART:20250330T010000
END:DAYLIGHT
BEGIN:STANDARD
TZOFFSETFROM:+0200
TZOFFSETTO:+0100
TZNAME:CET
DTSTART:20251026T010000
END:STANDARD
BEGIN:DAYLIGHT
TZOFFSETFROM:+0100
TZOFFSETTO:+0200
TZNAME:CEST
DTSTART:20260329T010000
END:DAYLIGHT
BEGIN:STANDARD
TZOFFSETFROM:+0200
TZOFFSETTO:+0100
TZNAME:CET
DTSTART:20261025T010000
END:STANDARD
END:VTIMEZONE
BEGIN:VEVENT
DTSTART;TZID=Europe/Rome:20250511T100000
DTEND;TZID=Europe/Rome:20250511T100000
DTSTAMP:20260425T022113
CREATED:20250430T221432Z
LAST-MODIFIED:20250430T221432Z
UID:6519-1746957600-1746957600@passpartout.art
SUMMARY:Nati per il teatro learning - CON GLI OCCHI DEI PICCOLI
DESCRIPTION:Utilizzando alcune pratiche somatiche provenienti dal Body-Mind Centering® proveremo a cambiare il nostro punto di vista\, giocando a indossare nuovi occhi per vedere il mondo e ad abitare nuovi corpi per esplorarlo.
URL:https://passpartout.art/evento/nati-per-il-teatro-learning-con-gli-occhi-dei-piccoli/
CATEGORIES:Teatri
END:VEVENT
BEGIN:VEVENT
DTSTART;TZID=Europe/Rome:20250517T160000
DTEND;TZID=Europe/Rome:20250517T160000
DTSTAMP:20260425T022113
CREATED:20250430T221812Z
LAST-MODIFIED:20250430T221812Z
UID:6596-1747497600-1747497600@passpartout.art
SUMMARY:LA BOTTEGA STRAVAGANTE
DESCRIPTION:Virginia e Simone\, due migliori amiche\, si avventurano nel deposito polveroso di un grande magazzino\, dove vengono ammucchiati vecchie bambole e burattini dimenticati. Incredibilmente\, scoprono che i giocattoli sono animati: automi musicali\, ballerini di can-can meccanici e cosacchi di legno prendono vita davanti ai loro occhi.
URL:https://passpartout.art/evento/la-bottega-stravagante/
CATEGORIES:Teatri
END:VEVENT
BEGIN:VEVENT
DTSTART;TZID=Europe/Rome:20250525T150000
DTEND;TZID=Europe/Rome:20250525T150000
DTSTAMP:20260425T022113
CREATED:20250430T221433Z
LAST-MODIFIED:20250430T221433Z
UID:6520-1748185200-1748185200@passpartout.art
SUMMARY:Nati per il teatro learning - FITNESS RITMICO
DESCRIPTION:Partendo da elementi base dell’uso della voce\, della “body percussion” e di piccoli strumenti a percussione il laboratorio ha come obiettivo lo scoprire come si può fare “ritmo” usando mani\, piedi\, corpo\, voce e strumenti per creare musica d’insieme.
URL:https://passpartout.art/evento/nati-per-il-teatro-learning-fitness-ritmico/
CATEGORIES:Teatri
END:VEVENT
END:VCALENDAR