BEGIN:VCALENDAR
VERSION:2.0
PRODID:-//Passpartout - ECPv6.15.20//NONSGML v1.0//EN
CALSCALE:GREGORIAN
METHOD:PUBLISH
X-WR-CALNAME:Passpartout
X-ORIGINAL-URL:https://passpartout.art
X-WR-CALDESC:Eventi per Passpartout
REFRESH-INTERVAL;VALUE=DURATION:PT1H
X-Robots-Tag:noindex
X-PUBLISHED-TTL:PT1H
BEGIN:VTIMEZONE
TZID:Europe/Rome
BEGIN:DAYLIGHT
TZOFFSETFROM:+0100
TZOFFSETTO:+0200
TZNAME:CEST
DTSTART:19690531T230000
END:DAYLIGHT
BEGIN:STANDARD
TZOFFSETFROM:+0200
TZOFFSETTO:+0100
TZNAME:CET
DTSTART:19690927T230000
END:STANDARD
BEGIN:DAYLIGHT
TZOFFSETFROM:+0100
TZOFFSETTO:+0200
TZNAME:CEST
DTSTART:19700530T230000
END:DAYLIGHT
BEGIN:STANDARD
TZOFFSETFROM:+0200
TZOFFSETTO:+0100
TZNAME:CET
DTSTART:19700926T230000
END:STANDARD
BEGIN:DAYLIGHT
TZOFFSETFROM:+0100
TZOFFSETTO:+0200
TZNAME:CEST
DTSTART:19710522T230000
END:DAYLIGHT
BEGIN:STANDARD
TZOFFSETFROM:+0200
TZOFFSETTO:+0100
TZNAME:CET
DTSTART:19710925T230000
END:STANDARD
BEGIN:DAYLIGHT
TZOFFSETFROM:+0100
TZOFFSETTO:+0200
TZNAME:CEST
DTSTART:19720527T230000
END:DAYLIGHT
BEGIN:STANDARD
TZOFFSETFROM:+0200
TZOFFSETTO:+0100
TZNAME:CET
DTSTART:19720930T230000
END:STANDARD
BEGIN:DAYLIGHT
TZOFFSETFROM:+0100
TZOFFSETTO:+0200
TZNAME:CEST
DTSTART:19730602T230000
END:DAYLIGHT
BEGIN:STANDARD
TZOFFSETFROM:+0200
TZOFFSETTO:+0100
TZNAME:CET
DTSTART:19730929T230000
END:STANDARD
BEGIN:DAYLIGHT
TZOFFSETFROM:+0100
TZOFFSETTO:+0200
TZNAME:CEST
DTSTART:19740525T230000
END:DAYLIGHT
BEGIN:STANDARD
TZOFFSETFROM:+0200
TZOFFSETTO:+0100
TZNAME:CET
DTSTART:19740928T230000
END:STANDARD
BEGIN:DAYLIGHT
TZOFFSETFROM:+0100
TZOFFSETTO:+0200
TZNAME:CEST
DTSTART:19750531T230000
END:DAYLIGHT
BEGIN:STANDARD
TZOFFSETFROM:+0200
TZOFFSETTO:+0100
TZNAME:CET
DTSTART:19750927T230000
END:STANDARD
BEGIN:DAYLIGHT
TZOFFSETFROM:+0100
TZOFFSETTO:+0200
TZNAME:CEST
DTSTART:19760529T230000
END:DAYLIGHT
BEGIN:STANDARD
TZOFFSETFROM:+0200
TZOFFSETTO:+0100
TZNAME:CET
DTSTART:19760925T230000
END:STANDARD
BEGIN:DAYLIGHT
TZOFFSETFROM:+0100
TZOFFSETTO:+0200
TZNAME:CEST
DTSTART:19770521T230000
END:DAYLIGHT
BEGIN:STANDARD
TZOFFSETFROM:+0200
TZOFFSETTO:+0100
TZNAME:CET
DTSTART:19770924T230000
END:STANDARD
BEGIN:DAYLIGHT
TZOFFSETFROM:+0100
TZOFFSETTO:+0200
TZNAME:CEST
DTSTART:19780527T230000
END:DAYLIGHT
BEGIN:STANDARD
TZOFFSETFROM:+0200
TZOFFSETTO:+0100
TZNAME:CET
DTSTART:19780930T230000
END:STANDARD
BEGIN:DAYLIGHT
TZOFFSETFROM:+0100
TZOFFSETTO:+0200
TZNAME:CEST
DTSTART:19790526T230000
END:DAYLIGHT
BEGIN:STANDARD
TZOFFSETFROM:+0200
TZOFFSETTO:+0100
TZNAME:CET
DTSTART:19790929T230000
END:STANDARD
BEGIN:DAYLIGHT
TZOFFSETFROM:+0100
TZOFFSETTO:+0200
TZNAME:CEST
DTSTART:19800406T010000
END:DAYLIGHT
BEGIN:STANDARD
TZOFFSETFROM:+0200
TZOFFSETTO:+0100
TZNAME:CET
DTSTART:19800928T010000
END:STANDARD
BEGIN:DAYLIGHT
TZOFFSETFROM:+0100
TZOFFSETTO:+0200
TZNAME:CEST
DTSTART:19810329T010000
END:DAYLIGHT
BEGIN:STANDARD
TZOFFSETFROM:+0200
TZOFFSETTO:+0100
TZNAME:CET
DTSTART:19810927T010000
END:STANDARD
BEGIN:DAYLIGHT
TZOFFSETFROM:+0100
TZOFFSETTO:+0200
TZNAME:CEST
DTSTART:19820328T010000
END:DAYLIGHT
BEGIN:STANDARD
TZOFFSETFROM:+0200
TZOFFSETTO:+0100
TZNAME:CET
DTSTART:19820926T010000
END:STANDARD
BEGIN:DAYLIGHT
TZOFFSETFROM:+0100
TZOFFSETTO:+0200
TZNAME:CEST
DTSTART:19830327T010000
END:DAYLIGHT
BEGIN:STANDARD
TZOFFSETFROM:+0200
TZOFFSETTO:+0100
TZNAME:CET
DTSTART:19830925T010000
END:STANDARD
BEGIN:DAYLIGHT
TZOFFSETFROM:+0100
TZOFFSETTO:+0200
TZNAME:CEST
DTSTART:19840325T010000
END:DAYLIGHT
BEGIN:STANDARD
TZOFFSETFROM:+0200
TZOFFSETTO:+0100
TZNAME:CET
DTSTART:19840930T010000
END:STANDARD
BEGIN:DAYLIGHT
TZOFFSETFROM:+0100
TZOFFSETTO:+0200
TZNAME:CEST
DTSTART:19850331T010000
END:DAYLIGHT
BEGIN:STANDARD
TZOFFSETFROM:+0200
TZOFFSETTO:+0100
TZNAME:CET
DTSTART:19850929T010000
END:STANDARD
BEGIN:DAYLIGHT
TZOFFSETFROM:+0100
TZOFFSETTO:+0200
TZNAME:CEST
DTSTART:19860330T010000
END:DAYLIGHT
BEGIN:STANDARD
TZOFFSETFROM:+0200
TZOFFSETTO:+0100
TZNAME:CET
DTSTART:19860928T010000
END:STANDARD
BEGIN:DAYLIGHT
TZOFFSETFROM:+0100
TZOFFSETTO:+0200
TZNAME:CEST
DTSTART:19870329T010000
END:DAYLIGHT
BEGIN:STANDARD
TZOFFSETFROM:+0200
TZOFFSETTO:+0100
TZNAME:CET
DTSTART:19870927T010000
END:STANDARD
BEGIN:DAYLIGHT
TZOFFSETFROM:+0100
TZOFFSETTO:+0200
TZNAME:CEST
DTSTART:19880327T010000
END:DAYLIGHT
BEGIN:STANDARD
TZOFFSETFROM:+0200
TZOFFSETTO:+0100
TZNAME:CET
DTSTART:19880925T010000
END:STANDARD
BEGIN:DAYLIGHT
TZOFFSETFROM:+0100
TZOFFSETTO:+0200
TZNAME:CEST
DTSTART:19890326T010000
END:DAYLIGHT
BEGIN:STANDARD
TZOFFSETFROM:+0200
TZOFFSETTO:+0100
TZNAME:CET
DTSTART:19890924T010000
END:STANDARD
BEGIN:DAYLIGHT
TZOFFSETFROM:+0100
TZOFFSETTO:+0200
TZNAME:CEST
DTSTART:19900325T010000
END:DAYLIGHT
BEGIN:STANDARD
TZOFFSETFROM:+0200
TZOFFSETTO:+0100
TZNAME:CET
DTSTART:19900930T010000
END:STANDARD
BEGIN:DAYLIGHT
TZOFFSETFROM:+0100
TZOFFSETTO:+0200
TZNAME:CEST
DTSTART:19910331T010000
END:DAYLIGHT
BEGIN:STANDARD
TZOFFSETFROM:+0200
TZOFFSETTO:+0100
TZNAME:CET
DTSTART:19910929T010000
END:STANDARD
BEGIN:DAYLIGHT
TZOFFSETFROM:+0100
TZOFFSETTO:+0200
TZNAME:CEST
DTSTART:19920329T010000
END:DAYLIGHT
BEGIN:STANDARD
TZOFFSETFROM:+0200
TZOFFSETTO:+0100
TZNAME:CET
DTSTART:19920927T010000
END:STANDARD
BEGIN:DAYLIGHT
TZOFFSETFROM:+0100
TZOFFSETTO:+0200
TZNAME:CEST
DTSTART:19930328T010000
END:DAYLIGHT
BEGIN:STANDARD
TZOFFSETFROM:+0200
TZOFFSETTO:+0100
TZNAME:CET
DTSTART:19930926T010000
END:STANDARD
BEGIN:DAYLIGHT
TZOFFSETFROM:+0100
TZOFFSETTO:+0200
TZNAME:CEST
DTSTART:19940327T010000
END:DAYLIGHT
BEGIN:STANDARD
TZOFFSETFROM:+0200
TZOFFSETTO:+0100
TZNAME:CET
DTSTART:19940925T010000
END:STANDARD
BEGIN:DAYLIGHT
TZOFFSETFROM:+0100
TZOFFSETTO:+0200
TZNAME:CEST
DTSTART:19950326T010000
END:DAYLIGHT
BEGIN:STANDARD
TZOFFSETFROM:+0200
TZOFFSETTO:+0100
TZNAME:CET
DTSTART:19950924T010000
END:STANDARD
BEGIN:DAYLIGHT
TZOFFSETFROM:+0100
TZOFFSETTO:+0200
TZNAME:CEST
DTSTART:19960331T010000
END:DAYLIGHT
BEGIN:STANDARD
TZOFFSETFROM:+0200
TZOFFSETTO:+0100
TZNAME:CET
DTSTART:19961027T010000
END:STANDARD
BEGIN:DAYLIGHT
TZOFFSETFROM:+0100
TZOFFSETTO:+0200
TZNAME:CEST
DTSTART:19970330T010000
END:DAYLIGHT
BEGIN:STANDARD
TZOFFSETFROM:+0200
TZOFFSETTO:+0100
TZNAME:CET
DTSTART:19971026T010000
END:STANDARD
BEGIN:DAYLIGHT
TZOFFSETFROM:+0100
TZOFFSETTO:+0200
TZNAME:CEST
DTSTART:19980329T010000
END:DAYLIGHT
BEGIN:STANDARD
TZOFFSETFROM:+0200
TZOFFSETTO:+0100
TZNAME:CET
DTSTART:19981025T010000
END:STANDARD
BEGIN:DAYLIGHT
TZOFFSETFROM:+0100
TZOFFSETTO:+0200
TZNAME:CEST
DTSTART:19990328T010000
END:DAYLIGHT
BEGIN:STANDARD
TZOFFSETFROM:+0200
TZOFFSETTO:+0100
TZNAME:CET
DTSTART:19991031T010000
END:STANDARD
BEGIN:DAYLIGHT
TZOFFSETFROM:+0100
TZOFFSETTO:+0200
TZNAME:CEST
DTSTART:20000326T010000
END:DAYLIGHT
BEGIN:STANDARD
TZOFFSETFROM:+0200
TZOFFSETTO:+0100
TZNAME:CET
DTSTART:20001029T010000
END:STANDARD
BEGIN:DAYLIGHT
TZOFFSETFROM:+0100
TZOFFSETTO:+0200
TZNAME:CEST
DTSTART:20010325T010000
END:DAYLIGHT
BEGIN:STANDARD
TZOFFSETFROM:+0200
TZOFFSETTO:+0100
TZNAME:CET
DTSTART:20011028T010000
END:STANDARD
BEGIN:DAYLIGHT
TZOFFSETFROM:+0100
TZOFFSETTO:+0200
TZNAME:CEST
DTSTART:20020331T010000
END:DAYLIGHT
BEGIN:STANDARD
TZOFFSETFROM:+0200
TZOFFSETTO:+0100
TZNAME:CET
DTSTART:20021027T010000
END:STANDARD
BEGIN:DAYLIGHT
TZOFFSETFROM:+0100
TZOFFSETTO:+0200
TZNAME:CEST
DTSTART:20030330T010000
END:DAYLIGHT
BEGIN:STANDARD
TZOFFSETFROM:+0200
TZOFFSETTO:+0100
TZNAME:CET
DTSTART:20031026T010000
END:STANDARD
BEGIN:DAYLIGHT
TZOFFSETFROM:+0100
TZOFFSETTO:+0200
TZNAME:CEST
DTSTART:20040328T010000
END:DAYLIGHT
BEGIN:STANDARD
TZOFFSETFROM:+0200
TZOFFSETTO:+0100
TZNAME:CET
DTSTART:20041031T010000
END:STANDARD
BEGIN:DAYLIGHT
TZOFFSETFROM:+0100
TZOFFSETTO:+0200
TZNAME:CEST
DTSTART:20050327T010000
END:DAYLIGHT
BEGIN:STANDARD
TZOFFSETFROM:+0200
TZOFFSETTO:+0100
TZNAME:CET
DTSTART:20051030T010000
END:STANDARD
BEGIN:DAYLIGHT
TZOFFSETFROM:+0100
TZOFFSETTO:+0200
TZNAME:CEST
DTSTART:20060326T010000
END:DAYLIGHT
BEGIN:STANDARD
TZOFFSETFROM:+0200
TZOFFSETTO:+0100
TZNAME:CET
DTSTART:20061029T010000
END:STANDARD
BEGIN:DAYLIGHT
TZOFFSETFROM:+0100
TZOFFSETTO:+0200
TZNAME:CEST
DTSTART:20070325T010000
END:DAYLIGHT
BEGIN:STANDARD
TZOFFSETFROM:+0200
TZOFFSETTO:+0100
TZNAME:CET
DTSTART:20071028T010000
END:STANDARD
BEGIN:DAYLIGHT
TZOFFSETFROM:+0100
TZOFFSETTO:+0200
TZNAME:CEST
DTSTART:20080330T010000
END:DAYLIGHT
BEGIN:STANDARD
TZOFFSETFROM:+0200
TZOFFSETTO:+0100
TZNAME:CET
DTSTART:20081026T010000
END:STANDARD
BEGIN:DAYLIGHT
TZOFFSETFROM:+0100
TZOFFSETTO:+0200
TZNAME:CEST
DTSTART:20090329T010000
END:DAYLIGHT
BEGIN:STANDARD
TZOFFSETFROM:+0200
TZOFFSETTO:+0100
TZNAME:CET
DTSTART:20091025T010000
END:STANDARD
BEGIN:DAYLIGHT
TZOFFSETFROM:+0100
TZOFFSETTO:+0200
TZNAME:CEST
DTSTART:20100328T010000
END:DAYLIGHT
BEGIN:STANDARD
TZOFFSETFROM:+0200
TZOFFSETTO:+0100
TZNAME:CET
DTSTART:20101031T010000
END:STANDARD
BEGIN:DAYLIGHT
TZOFFSETFROM:+0100
TZOFFSETTO:+0200
TZNAME:CEST
DTSTART:20110327T010000
END:DAYLIGHT
BEGIN:STANDARD
TZOFFSETFROM:+0200
TZOFFSETTO:+0100
TZNAME:CET
DTSTART:20111030T010000
END:STANDARD
BEGIN:DAYLIGHT
TZOFFSETFROM:+0100
TZOFFSETTO:+0200
TZNAME:CEST
DTSTART:20120325T010000
END:DAYLIGHT
BEGIN:STANDARD
TZOFFSETFROM:+0200
TZOFFSETTO:+0100
TZNAME:CET
DTSTART:20121028T010000
END:STANDARD
BEGIN:DAYLIGHT
TZOFFSETFROM:+0100
TZOFFSETTO:+0200
TZNAME:CEST
DTSTART:20130331T010000
END:DAYLIGHT
BEGIN:STANDARD
TZOFFSETFROM:+0200
TZOFFSETTO:+0100
TZNAME:CET
DTSTART:20131027T010000
END:STANDARD
BEGIN:DAYLIGHT
TZOFFSETFROM:+0100
TZOFFSETTO:+0200
TZNAME:CEST
DTSTART:20140330T010000
END:DAYLIGHT
BEGIN:STANDARD
TZOFFSETFROM:+0200
TZOFFSETTO:+0100
TZNAME:CET
DTSTART:20141026T010000
END:STANDARD
BEGIN:DAYLIGHT
TZOFFSETFROM:+0100
TZOFFSETTO:+0200
TZNAME:CEST
DTSTART:20150329T010000
END:DAYLIGHT
BEGIN:STANDARD
TZOFFSETFROM:+0200
TZOFFSETTO:+0100
TZNAME:CET
DTSTART:20151025T010000
END:STANDARD
BEGIN:DAYLIGHT
TZOFFSETFROM:+0100
TZOFFSETTO:+0200
TZNAME:CEST
DTSTART:20160327T010000
END:DAYLIGHT
BEGIN:STANDARD
TZOFFSETFROM:+0200
TZOFFSETTO:+0100
TZNAME:CET
DTSTART:20161030T010000
END:STANDARD
BEGIN:DAYLIGHT
TZOFFSETFROM:+0100
TZOFFSETTO:+0200
TZNAME:CEST
DTSTART:20170326T010000
END:DAYLIGHT
BEGIN:STANDARD
TZOFFSETFROM:+0200
TZOFFSETTO:+0100
TZNAME:CET
DTSTART:20171029T010000
END:STANDARD
BEGIN:DAYLIGHT
TZOFFSETFROM:+0100
TZOFFSETTO:+0200
TZNAME:CEST
DTSTART:20180325T010000
END:DAYLIGHT
BEGIN:STANDARD
TZOFFSETFROM:+0200
TZOFFSETTO:+0100
TZNAME:CET
DTSTART:20181028T010000
END:STANDARD
BEGIN:DAYLIGHT
TZOFFSETFROM:+0100
TZOFFSETTO:+0200
TZNAME:CEST
DTSTART:20190331T010000
END:DAYLIGHT
BEGIN:STANDARD
TZOFFSETFROM:+0200
TZOFFSETTO:+0100
TZNAME:CET
DTSTART:20191027T010000
END:STANDARD
BEGIN:DAYLIGHT
TZOFFSETFROM:+0100
TZOFFSETTO:+0200
TZNAME:CEST
DTSTART:20200329T010000
END:DAYLIGHT
BEGIN:STANDARD
TZOFFSETFROM:+0200
TZOFFSETTO:+0100
TZNAME:CET
DTSTART:20201025T010000
END:STANDARD
BEGIN:DAYLIGHT
TZOFFSETFROM:+0100
TZOFFSETTO:+0200
TZNAME:CEST
DTSTART:20210328T010000
END:DAYLIGHT
BEGIN:STANDARD
TZOFFSETFROM:+0200
TZOFFSETTO:+0100
TZNAME:CET
DTSTART:20211031T010000
END:STANDARD
BEGIN:DAYLIGHT
TZOFFSETFROM:+0100
TZOFFSETTO:+0200
TZNAME:CEST
DTSTART:20220327T010000
END:DAYLIGHT
BEGIN:STANDARD
TZOFFSETFROM:+0200
TZOFFSETTO:+0100
TZNAME:CET
DTSTART:20221030T010000
END:STANDARD
BEGIN:DAYLIGHT
TZOFFSETFROM:+0100
TZOFFSETTO:+0200
TZNAME:CEST
DTSTART:20230326T010000
END:DAYLIGHT
BEGIN:STANDARD
TZOFFSETFROM:+0200
TZOFFSETTO:+0100
TZNAME:CET
DTSTART:20231029T010000
END:STANDARD
BEGIN:DAYLIGHT
TZOFFSETFROM:+0100
TZOFFSETTO:+0200
TZNAME:CEST
DTSTART:20240331T010000
END:DAYLIGHT
BEGIN:STANDARD
TZOFFSETFROM:+0200
TZOFFSETTO:+0100
TZNAME:CET
DTSTART:20241027T010000
END:STANDARD
BEGIN:DAYLIGHT
TZOFFSETFROM:+0100
TZOFFSETTO:+0200
TZNAME:CEST
DTSTART:20250330T010000
END:DAYLIGHT
BEGIN:STANDARD
TZOFFSETFROM:+0200
TZOFFSETTO:+0100
TZNAME:CET
DTSTART:20251026T010000
END:STANDARD
END:VTIMEZONE
BEGIN:VEVENT
DTSTART;TZID=Europe/Rome:20241208T110000
DTEND;TZID=Europe/Rome:20241208T110000
DTSTAMP:20260420T031656
CREATED:20241129T223926Z
LAST-MODIFIED:20241129T223926Z
UID:5886-1733655600-1733655600@passpartout.art
SUMMARY:LABORATORI DI NATALE PER BAMBINI A VILLA ARCONATI
DESCRIPTION:Villa Arconati si prepara a festeggiare il Natale con un ricco programma di eventi e attività per grandi e piccini. Tra le tante proposte\, spiccano i laboratori creativi dedicati ai bambini\, che si terranno tutte le domeniche dal 24 Novembre al 15 Dicembre.
URL:https://passpartout.art/evento/laboratori-di-natale-per-bambini-a-villa-arconati-3/
CATEGORIES:monumenti,Parchi,ville
END:VEVENT
BEGIN:VEVENT
DTSTART;TZID=Europe/Rome:20241201T110000
DTEND;TZID=Europe/Rome:20241201T110000
DTSTAMP:20260420T031656
CREATED:20241129T223913Z
LAST-MODIFIED:20241129T223913Z
UID:5885-1733050800-1733050800@passpartout.art
SUMMARY:LABORATORI DI NATALE PER BAMBINI A VILLA ARCONATI
DESCRIPTION:Villa Arconati si prepara a festeggiare il Natale con un ricco programma di eventi e attività per grandi e piccini. Tra le tante proposte\, spiccano i laboratori creativi dedicati ai bambini\, che si terranno tutte le domeniche dal 24 Novembre al 15 Dicembre.
URL:https://passpartout.art/evento/laboratori-di-natale-per-bambini-a-villa-arconati-2/
CATEGORIES:monumenti,Parchi,ville
END:VEVENT
BEGIN:VEVENT
DTSTART;TZID=Europe/Rome:20240912T210000
DTEND;TZID=Europe/Rome:20240914T230000
DTSTAMP:20260420T031656
CREATED:20240828T211439Z
LAST-MODIFIED:20240828T211439Z
UID:5225-1726174800-1726354800@passpartout.art
SUMMARY:ULTRAJAM FESTIVAL
DESCRIPTION:Concerti serali\, gonfiabili per bambini e food truk
URL:https://passpartout.art/evento/ultrajam-festival/
CATEGORIES:monumenti,Parchi,ville
END:VEVENT
BEGIN:VEVENT
DTSTART;TZID=Europe/Rome:20240730T190000
DTEND;TZID=Europe/Rome:20240730T190000
DTSTAMP:20260420T031656
CREATED:20240702T225943Z
LAST-MODIFIED:20240702T225943Z
UID:5169-1722366000-1722366000@passpartout.art
SUMMARY:Serate musicali all'Anfiteatro - Willos' - Musica tradizionale irlandese
DESCRIPTION:Un’ora di musica al tramonto\, un calice di vino con le cantine del territorio e…picnic ad arte (su richiesta). Vi presentiamo la 14esima stagione delle “Serate Musicali all’Anfiteatro”\, per cantare\, ballare e divertirci insieme al tramonto nelle serate d’estate al Parco!
URL:https://passpartout.art/evento/serate-musicali-allanfiteatro-willos-musica-tradizionale-irlandese/
CATEGORIES:monumenti,Parchi,ville
END:VEVENT
BEGIN:VEVENT
DTSTART;TZID=Europe/Rome:20240723T190000
DTEND;TZID=Europe/Rome:20240723T190000
DTSTAMP:20260420T031656
CREATED:20240702T225943Z
LAST-MODIFIED:20240702T225943Z
UID:5168-1721761200-1721761200@passpartout.art
SUMMARY:Serate musicali all'Anfiteatro - The Stompers - Jazz e swing classico
DESCRIPTION:Un’ora di musica al tramonto\, un calice di vino con le cantine del territorio e…picnic ad arte (su richiesta). Vi presentiamo la 14esima stagione delle “Serate Musicali all’Anfiteatro”\, per cantare\, ballare e divertirci insieme al tramonto nelle serate d’estate al Parco!
URL:https://passpartout.art/evento/serate-musicali-allanfiteatro-the-stompers-jazz-e-swing-classico/
CATEGORIES:monumenti,Parchi,ville
END:VEVENT
BEGIN:VEVENT
DTSTART;TZID=Europe/Rome:20240716T190000
DTEND;TZID=Europe/Rome:20240716T190000
DTSTAMP:20260420T031656
CREATED:20240702T225942Z
LAST-MODIFIED:20240702T225942Z
UID:5167-1721156400-1721156400@passpartout.art
SUMMARY:Serate musicali all'Anfiteatro - Grillo Bel Grillo - Canzoni popolari toscane di campagna
DESCRIPTION:Un’ora di musica al tramonto\, un calice di vino con le cantine del territorio e…picnic ad arte (su richiesta). Vi presentiamo la 14esima stagione delle “Serate Musicali all’Anfiteatro”\, per cantare\, ballare e divertirci insieme al tramonto nelle serate d’estate al Parco!
URL:https://passpartout.art/evento/serate-musicali-allanfiteatro-grillo-bel-grillo-canzoni-popolari-toscane-di-campagna/
CATEGORIES:monumenti,Parchi,ville
END:VEVENT
BEGIN:VEVENT
DTSTART;TZID=Europe/Rome:20240710T190000
DTEND;TZID=Europe/Rome:20240710T190000
DTSTAMP:20260420T031656
CREATED:20240702T225942Z
LAST-MODIFIED:20240702T225942Z
UID:5166-1720638000-1720638000@passpartout.art
SUMMARY:Serate musicali all'Anfiteatro - Train de Vie - Venti
DESCRIPTION:Un’ora di musica al tramonto\, un calice di vino con le cantine del territorio e…picnic ad arte (su richiesta). Vi presentiamo la 14esima stagione delle “Serate Musicali all’Anfiteatro”\, per cantare\, ballare e divertirci insieme al tramonto nelle serate d’estate al Parco!
URL:https://passpartout.art/evento/serate-musicali-allanfiteatro-train-de-vie-venti/
CATEGORIES:monumenti,Parchi,ville
END:VEVENT
BEGIN:VEVENT
DTSTART;TZID=Europe/Rome:20240603T180000
DTEND;TZID=Europe/Rome:20240603T180000
DTSTAMP:20260420T031656
CREATED:20240530T230157Z
LAST-MODIFIED:20240530T230157Z
UID:5119-1717437600-1717437600@passpartout.art
SUMMARY:Peter Pan Orchestra al Parco Sculture del Chianti
DESCRIPTION:Un meraviglioso mezzo didattico di accostamento dei bambini alla musica moderna
URL:https://passpartout.art/evento/peter-pan-orchestra-al-parco-sculture-del-chianti/
CATEGORIES:monumenti,Parchi,ville
END:VEVENT
BEGIN:VEVENT
DTSTART;TZID=Europe/Rome:20240602T110000
DTEND;TZID=Europe/Rome:20240602T110000
DTSTAMP:20260420T031656
CREATED:20240530T230157Z
LAST-MODIFIED:20240530T230157Z
UID:5120-1717326000-1717326000@passpartout.art
SUMMARY:Caccia al tesoro nel giardino di Villa Arconati
DESCRIPTION:Partecipa alla Caccia al tesoro nel giardino di Villa Arconati: ti aspettiamo per una giornata di esplorazione e divertimento con tutta la famiglia. Sarà un’avventura a suon di enigmi e indovinelli.\nVi verrà consegnato un kit segreto con materiali vari\, suggerimenti\, una mappa e qualche consiglio per diventare dei veri esploratori del mondo.\nUn modo per conoscere in totale autonomia le meraviglie botaniche e artistiche del parco\, anche e soprattutto nelle sfumature più nascoste\, quelle che si vedono ad occhi chiusi.. o a testa in giù!
URL:https://passpartout.art/evento/caccia-al-tesoro-nel-giardino-di-villa-arconati-2/
CATEGORIES:monumenti,Parchi,ville
END:VEVENT
BEGIN:VEVENT
DTSTART;TZID=Europe/Rome:20240602T090000
DTEND;TZID=Europe/Rome:20240602T090000
DTSTAMP:20260420T031656
CREATED:20240530T230158Z
LAST-MODIFIED:20240530T230158Z
UID:5123-1717318800-1717318800@passpartout.art
SUMMARY:Festa della Repubblica e Mercatino della Repubblica  a CIttadella
DESCRIPTION:Mercato di artigianato locale\, prodotti tipici\, prodotti per il benessere e la cura del corpo\, streetfood e animazioni per bambini nelle vie del centro. \nAperto:\nCamminamento di Ronda\,\nTeatro Sociale\, Museo del Duomo\, Palazzo Pretorio\, Oratorio del Salvatore
URL:https://passpartout.art/evento/festa-della-repubblica-e-mercatino-della-repubblica-a-cittadella/
CATEGORIES:monumenti,Parchi,ville
END:VEVENT
BEGIN:VEVENT
DTSTART;TZID=Europe/Rome:20240601T160000
DTEND;TZID=Europe/Rome:20240601T160000
DTSTAMP:20260420T031656
CREATED:20240530T230050Z
LAST-MODIFIED:20240530T230050Z
UID:5117-1717257600-1717257600@passpartout.art
SUMMARY:Impara l'arte e mettila da parte
DESCRIPTION:Laboratori di pittura e scultura condotti da veri artisti in una location incredibile: vietato non sporcarsi e limitare la creatività!
URL:https://passpartout.art/evento/impara-larte-e-mettila-da-parte-2/
CATEGORIES:monumenti,Parchi,ville
END:VEVENT
BEGIN:VEVENT
DTSTART;TZID=Europe/Rome:20240601T160000
DTEND;TZID=Europe/Rome:20240601T160000
DTSTAMP:20260420T031656
CREATED:20240530T230050Z
LAST-MODIFIED:20240530T230050Z
UID:5118-1717257600-1717257600@passpartout.art
SUMMARY:Impara l'arte e mettila da parte
DESCRIPTION:Laboratori di pittura e scultura condotti da veri artisti in una location incredibile: vietato non sporcarsi e limitare la creatività!
URL:https://passpartout.art/evento/impara-larte-e-mettila-da-parte-3/
CATEGORIES:monumenti,Parchi,ville
END:VEVENT
BEGIN:VEVENT
DTSTART;TZID=Europe/Rome:20230613T170000
DTEND;TZID=Europe/Rome:20230613T170000
DTSTAMP:20260420T031656
CREATED:20230601T180844Z
LAST-MODIFIED:20230601T180844Z
UID:3213-1686675600-1686675600@passpartout.art
SUMMARY:BAM Workshop KIDS: L’arcobaleno nel piatto
DESCRIPTION:Workshop per insegnare ai giovani una sana alimentazione attraverso scelte sostenibili per noi e l’ambiente.
URL:https://passpartout.art/evento/bam-workshop-kids-larcobaleno-nel-piatto/
CATEGORIES:monumenti,Parchi,ville
END:VEVENT
BEGIN:VEVENT
DTSTART;TZID=Europe/Rome:20230613T164500
DTEND;TZID=Europe/Rome:20230613T164500
DTSTAMP:20260420T031656
CREATED:20230601T180843Z
LAST-MODIFIED:20230601T180843Z
UID:3212-1686674700-1686674700@passpartout.art
SUMMARY:BAM Workshop KIDS
DESCRIPTION:Tutti i martedì al Giardino De Castillia i bambini impareranno a coltivare e a scoprire i segreti di un orto!
URL:https://passpartout.art/evento/bam-workshop-kids/
CATEGORIES:monumenti,Parchi,ville
END:VEVENT
BEGIN:VEVENT
DTSTART;TZID=Europe/Rome:20230611T140000
DTEND;TZID=Europe/Rome:20230611T140000
DTSTAMP:20260420T031656
CREATED:20230601T180815Z
LAST-MODIFIED:20230601T180815Z
UID:3201-1686492000-1686492000@passpartout.art
SUMMARY:Domenica con Usborne
DESCRIPTION:Laboratori e letture animate per imparare l’inglese divertendosi con la casa editrice Usborne.
URL:https://passpartout.art/evento/domenica-con-usborne/
CATEGORIES:monumenti,Parchi,ville
END:VEVENT
BEGIN:VEVENT
DTSTART;TZID=Europe/Rome:20230604T160000
DTEND;TZID=Europe/Rome:20230604T160000
DTSTAMP:20260420T031656
CREATED:20230601T181412Z
LAST-MODIFIED:20230601T181412Z
UID:3322-1685894400-1685894400@passpartout.art
SUMMARY:Coltivarte
DESCRIPTION:Laboratorio di coltivazione e deliziosa merenda in collaborazione con la fattoria culturale LUNA ETRUSCA.
URL:https://passpartout.art/evento/coltivarte/
CATEGORIES:monumenti,Parchi,ville
END:VEVENT
BEGIN:VEVENT
DTSTART;TZID=Europe/Rome:20230604T150000
DTEND;TZID=Europe/Rome:20230604T150000
DTSTAMP:20260420T031656
CREATED:20230601T180758Z
LAST-MODIFIED:20230601T180758Z
UID:3200-1685890800-1685890800@passpartout.art
SUMMARY:Appuntamento in giardino - Fuga dal labirinto
DESCRIPTION:Intrappolati nel Labirinto tra enigmi\, indovinelli\, prove ed inganni servirà tutta la vostra intelligenza e la vostra abilità per riuscire ad uscire!
URL:https://passpartout.art/evento/appuntamento-in-giardino-fuga-dal-labirinto/
CATEGORIES:monumenti,Parchi,ville
END:VEVENT
BEGIN:VEVENT
DTSTART;TZID=Europe/Rome:20230604T110000
DTEND;TZID=Europe/Rome:20230604T110000
DTSTAMP:20260420T031656
CREATED:20230601T181343Z
LAST-MODIFIED:20230601T181343Z
UID:3315-1685876400-1685876400@passpartout.art
SUMMARY:Caccia al tesoro nel giardino di Villa Arconati
DESCRIPTION:Con il vostro kit segreto e la mappa partirete alla scoperta del giardino e diventerete esploratori del mondo!
URL:https://passpartout.art/evento/caccia-al-tesoro-nel-giardino-di-villa-arconati/
CATEGORIES:monumenti,Parchi,ville
END:VEVENT
BEGIN:VEVENT
DTSTART;TZID=Europe/Rome:20230603T140000
DTEND;TZID=Europe/Rome:20230603T140000
DTSTAMP:20260420T031656
CREATED:20230601T181411Z
LAST-MODIFIED:20230601T181411Z
UID:3321-1685800800-1685800800@passpartout.art
SUMMARY:Impara l'arte e mettila da parte
DESCRIPTION:Laboratori di pittura e scultura condotti da veri artisti in una location incredibile: vietato non sporcarsi e limitare la creatività!
URL:https://passpartout.art/evento/impara-larte-e-mettila-da-parte/
CATEGORIES:monumenti,Parchi,ville
END:VEVENT
BEGIN:VEVENT
DTSTART;TZID=Europe/Rome:20230603T103000
DTEND;TZID=Europe/Rome:20230603T103000
DTSTAMP:20260420T031656
CREATED:20230601T180758Z
LAST-MODIFIED:20230601T180758Z
UID:3199-1685788200-1685788200@passpartout.art
SUMMARY:Aperture speciali - Storie di voli
DESCRIPTION:Visite guidate e laboratori speciali tra Labirinto\, Giardino Segreto e Prato dei 100 passi.
URL:https://passpartout.art/evento/aperture-speciali-storie-di-voli-2/
CATEGORIES:monumenti,Parchi,ville
END:VEVENT
BEGIN:VEVENT
DTSTART;TZID=Europe/Rome:20230602T103000
DTEND;TZID=Europe/Rome:20230602T103000
DTSTAMP:20260420T031656
CREATED:20230601T180757Z
LAST-MODIFIED:20230601T180757Z
UID:3198-1685701800-1685701800@passpartout.art
SUMMARY:Aperture speciali - Storie di voli
DESCRIPTION:Visite guidate e laboratori speciali tra Labirinto\, Giardino Segreto e Prato dei 100 passi.
URL:https://passpartout.art/evento/aperture-speciali-storie-di-voli/
CATEGORIES:monumenti,Parchi,ville
END:VEVENT
BEGIN:VEVENT
DTSTART;TZID=Europe/Rome:20230410T110000
DTEND;TZID=Europe/Rome:20230410T110000
DTSTAMP:20260420T031656
CREATED:20230402T221153Z
LAST-MODIFIED:20230402T222104Z
UID:3027-1681124400-1681124400@passpartout.art
SUMMARY:Caccia al tesoro botanico
DESCRIPTION:Con la mappa del tesoro\, passando attraverso enigmi ed indovinelli\, i bambini e le loro famiglie partiranno alla scoperta delle meraviglie botaniche e artistiche di Villa Arconati.
URL:https://passpartout.art/evento/caccia-al-tesoro-botanico-2/
CATEGORIES:monumenti,Parchi,ville
END:VEVENT
BEGIN:VEVENT
DTSTART;TZID=Europe/Rome:20230410T100000
DTEND;TZID=Europe/Rome:20230410T100000
DTSTAMP:20260420T031656
CREATED:20230402T221053Z
LAST-MODIFIED:20230402T222004Z
UID:3008-1681120800-1681120800@passpartout.art
SUMMARY:Pasquetta con caccia al tesoro
DESCRIPTION:Alla ricerca del tesoro botanico insieme alla famiglia e agli amici per scoprire dov’è il tesoro!
URL:https://passpartout.art/evento/pasquetta-con-caccia-al-tesoro-2/
CATEGORIES:monumenti,Parchi,ville
END:VEVENT
BEGIN:VEVENT
DTSTART;TZID=Europe/Rome:20260420T031656
DTEND;TZID=Europe/Rome:20260420T031656
DTSTAMP:20260420T031656
CREATED:20240530T230212Z
LAST-MODIFIED:20240530T230212Z
UID:5124-0-0@passpartout.art
SUMMARY:Cittadella Comix
DESCRIPTION:Evento dedicato al fumetto\, ai cosplay\, al gioco\, alla cultura pop e nerd.
URL:https://passpartout.art/evento/cittadella-comix/
CATEGORIES:monumenti,Parchi,ville
END:VEVENT
END:VCALENDAR