BEGIN:VCALENDAR
VERSION:2.0
PRODID:-//Passpartout - ECPv6.15.20//NONSGML v1.0//EN
CALSCALE:GREGORIAN
METHOD:PUBLISH
X-ORIGINAL-URL:https://passpartout.art
X-WR-CALDESC:Eventi per Passpartout
REFRESH-INTERVAL;VALUE=DURATION:PT1H
X-Robots-Tag:noindex
X-PUBLISHED-TTL:PT1H
BEGIN:VTIMEZONE
TZID:Europe/Rome
BEGIN:DAYLIGHT
TZOFFSETFROM:+0100
TZOFFSETTO:+0200
TZNAME:CEST
DTSTART:20240331T010000
END:DAYLIGHT
BEGIN:STANDARD
TZOFFSETFROM:+0200
TZOFFSETTO:+0100
TZNAME:CET
DTSTART:20241027T010000
END:STANDARD
BEGIN:DAYLIGHT
TZOFFSETFROM:+0100
TZOFFSETTO:+0200
TZNAME:CEST
DTSTART:20250330T010000
END:DAYLIGHT
BEGIN:STANDARD
TZOFFSETFROM:+0200
TZOFFSETTO:+0100
TZNAME:CET
DTSTART:20251026T010000
END:STANDARD
BEGIN:DAYLIGHT
TZOFFSETFROM:+0100
TZOFFSETTO:+0200
TZNAME:CEST
DTSTART:20260329T010000
END:DAYLIGHT
BEGIN:STANDARD
TZOFFSETFROM:+0200
TZOFFSETTO:+0100
TZNAME:CET
DTSTART:20261025T010000
END:STANDARD
END:VTIMEZONE
BEGIN:VEVENT
DTSTART;TZID=Europe/Rome:20250720T100000
DTEND;TZID=Europe/Rome:20250720T100000
DTSTAMP:20260420T233226
CREATED:20250704T143155Z
LAST-MODIFIED:20250704T143155Z
UID:6836-1753005600-1753005600@passpartout.art
SUMMARY:SAGRETTA DEL CARMINE
DESCRIPTION:Domenica mattina dalle 10: Santa Messa alla Chiesa della Madonna del Carmine\, benedizione dei veicoli. In occasione della sagra\, l’oratorio rimarrà aperto dalle 9 alle 12\n Presso il viale della Stazione di Cittadella\n Pro Cittadella 0495970627
URL:https://passpartout.art/evento/sagretta-del-carmine-3/
CATEGORIES:monumenti,Parchi,ville
END:VEVENT
BEGIN:VEVENT
DTSTART;TZID=Europe/Rome:20250721T080000
DTEND;TZID=Europe/Rome:20250721T080000
DTSTAMP:20260420T233226
CREATED:20250704T143209Z
LAST-MODIFIED:20250704T143209Z
UID:6840-1753084800-1753084800@passpartout.art
SUMMARY:MERCATO CITTADINO
DESCRIPTION:Mercato cittadino settimanale con ogni genere di articoli. Presso centro storico
URL:https://passpartout.art/evento/mercato-cittadino-3/
CATEGORIES:monumenti,Parchi,ville
END:VEVENT
BEGIN:VEVENT
DTSTART;TZID=Europe/Rome:20250721T203000
DTEND;TZID=Europe/Rome:20250721T203000
DTSTAMP:20260420T233226
CREATED:20250704T143126Z
LAST-MODIFIED:20250704T143126Z
UID:6828-1753129800-1753129800@passpartout.art
SUMMARY:ANTICHE MURA TEATRO FESTIVAL
DESCRIPTION:Spettacoli teatrali a cura di Teatro Bresci.\n Al Teatro all’Aperto in Campo della Marta. (in caso di maltempo in Villa Rina)\n Ingresso ad offerta libera\n Pre spettacolo 20.30\n Spettacolo 21.30\n www.antichemurateatrofestival.com
URL:https://passpartout.art/evento/antiche-mura-teatro-festival-3/
CATEGORIES:monumenti,Parchi,ville
END:VEVENT
BEGIN:VEVENT
DTSTART;TZID=Europe/Rome:20250721T210000
DTEND;TZID=Europe/Rome:20250721T210000
DTSTAMP:20260420T233226
CREATED:20250704T143056Z
LAST-MODIFIED:20250704T143056Z
UID:6819-1753131600-1753131600@passpartout.art
SUMMARY:CAMMINAMENTO BY NIGHT
DESCRIPTION:Passeggiata notturna lungo il Cammino di Ronda.\n In occasione della notte bianca “Tutti Fuori – Vivi Cittadella” in centro storico.\n Il Camminamento di Ronda sulle mura medievali potrà essere percorso in versione notturna\, dalle 21:00 alle 23:00.\n Lasciatevi affascinare da questa romantica e suggestiva passeggiata a quindici metri di altezza.\n Ingresso e biglietteria del Camminamento a Porta Bassano €5 / €3.\n Prenotazione consigliata\, evento annullato in caso di pioggia forte\n Info: cittadella@historiatravel.it
URL:https://passpartout.art/evento/camminamento-by-night-4/
CATEGORIES:monumenti,Parchi,ville
END:VEVENT
BEGIN:VEVENT
DTSTART;TZID=Europe/Rome:20250722T110000
DTEND;TZID=Europe/Rome:20250725T153000
DTSTAMP:20260420T233226
CREATED:20250704T143111Z
LAST-MODIFIED:20250704T143111Z
UID:6823-1753182000-1753457400@passpartout.art
SUMMARY:TOUR DISCOVER CITTADELLA
DESCRIPTION:Dal martedì al venerdì\, per tutto il mese\, tour alla scoperta dei 3 monumenti principali del centro storico.\n Palazzo Pretorio\, Teatro Sociale\, Museo del Duomo\n Orari di partenza del Tour: 11 – 12:30 – 14 – 15:30 dall’Ufficio Turistico IAT in Porte Bassanesi\n Costo € 10 a persona per 4 ingressi\n Il costo include:\n – il biglietto d’ingresso ai 3 monumenti\n – l’operatore culturale che vi accompagna\n – l’ingresso alle Mura\, da svolgersi autonomamente o prima o dopo il tour\n Senza prenotazione\, 4 partenze garantite al giorno\n Presentarsi in IAT 10 minuti prima dell’inizio del tour scelto\n Info: cittadella@historiatravel.it
URL:https://passpartout.art/evento/tour-discover-cittadella-4/
CATEGORIES:monumenti,Parchi,ville
END:VEVENT
BEGIN:VEVENT
DTSTART;TZID=Europe/Rome:20250722T203000
DTEND;TZID=Europe/Rome:20250722T203000
DTSTAMP:20260420T233226
CREATED:20250704T143126Z
LAST-MODIFIED:20250704T143126Z
UID:6829-1753216200-1753216200@passpartout.art
SUMMARY:ANTICHE MURA TEATRO FESTIVAL
DESCRIPTION:Spettacoli teatrali a cura di Teatro Bresci.\n Al Teatro all’Aperto in Campo della Marta. (in caso di maltempo in Villa Rina)\n Ingresso ad offerta libera\n Pre spettacolo 20.30\n Spettacolo 21.30\n www.antichemurateatrofestival.com
URL:https://passpartout.art/evento/antiche-mura-teatro-festival-4/
CATEGORIES:monumenti,Parchi,ville
END:VEVENT
BEGIN:VEVENT
DTSTART;TZID=Europe/Rome:20250724T080000
DTEND;TZID=Europe/Rome:20250724T080000
DTSTAMP:20260420T233226
CREATED:20250704T143211Z
LAST-MODIFIED:20250704T143211Z
UID:6844-1753344000-1753344000@passpartout.art
SUMMARY:MERCATO KM0
DESCRIPTION:Mercato degli agricoltori e produtori del cittadellese. Presso: piazza Pierobon
URL:https://passpartout.art/evento/mercato-km0-3/
CATEGORIES:monumenti,Parchi,ville
END:VEVENT
BEGIN:VEVENT
DTSTART;TZID=Europe/Rome:20250728T080000
DTEND;TZID=Europe/Rome:20250728T080000
DTSTAMP:20260420T233226
CREATED:20250704T143210Z
LAST-MODIFIED:20250704T143210Z
UID:6841-1753689600-1753689600@passpartout.art
SUMMARY:MERCATO CITTADINO
DESCRIPTION:Mercato degli agricoltori e produtori del cittadellese. Presso: piazza Pierobon
URL:https://passpartout.art/evento/mercato-cittadino-4/
CATEGORIES:monumenti,Parchi,ville
END:VEVENT
BEGIN:VEVENT
DTSTART;TZID=Europe/Rome:20250729T110000
DTEND;TZID=Europe/Rome:20250731T153000
DTSTAMP:20260420T233226
CREATED:20250704T143111Z
LAST-MODIFIED:20250704T143111Z
UID:6824-1753786800-1753975800@passpartout.art
SUMMARY:TOUR DISCOVER CITTADELLA
DESCRIPTION:Dal martedì al venerdì\, per tutto il mese\, tour alla scoperta dei 3 monumenti principali del centro storico.\n Palazzo Pretorio\, Teatro Sociale\, Museo del Duomo\n Orari di partenza del Tour: 11 – 12:30 – 14 – 15:30 dall’Ufficio Turistico IAT in Porte Bassanesi\n Costo € 10 a persona per 4 ingressi\n Il costo include:\n – il biglietto d’ingresso ai 3 monumenti\n – l’operatore culturale che vi accompagna\n – l’ingresso alle Mura\, da svolgersi autonomamente o prima o dopo il tour\n Senza prenotazione\, 4 partenze garantite al giorno\n Presentarsi in IAT 10 minuti prima dell’inizio del tour scelto\n Info: cittadella@historiatravel.it
URL:https://passpartout.art/evento/tour-discover-cittadella-5/
CATEGORIES:monumenti,Parchi,ville
END:VEVENT
END:VCALENDAR