BEGIN:VCALENDAR
VERSION:2.0
PRODID:-//Passpartout - ECPv6.15.20//NONSGML v1.0//EN
CALSCALE:GREGORIAN
METHOD:PUBLISH
X-WR-CALNAME:Passpartout
X-ORIGINAL-URL:https://passpartout.art
X-WR-CALDESC:Eventi per Passpartout
REFRESH-INTERVAL;VALUE=DURATION:PT1H
X-Robots-Tag:noindex
X-PUBLISHED-TTL:PT1H
BEGIN:VTIMEZONE
TZID:Europe/Rome
BEGIN:DAYLIGHT
TZOFFSETFROM:+0100
TZOFFSETTO:+0200
TZNAME:CEST
DTSTART:20240331T010000
END:DAYLIGHT
BEGIN:STANDARD
TZOFFSETFROM:+0200
TZOFFSETTO:+0100
TZNAME:CET
DTSTART:20241027T010000
END:STANDARD
BEGIN:DAYLIGHT
TZOFFSETFROM:+0100
TZOFFSETTO:+0200
TZNAME:CEST
DTSTART:20250330T010000
END:DAYLIGHT
BEGIN:STANDARD
TZOFFSETFROM:+0200
TZOFFSETTO:+0100
TZNAME:CET
DTSTART:20251026T010000
END:STANDARD
BEGIN:DAYLIGHT
TZOFFSETFROM:+0100
TZOFFSETTO:+0200
TZNAME:CEST
DTSTART:20260329T010000
END:DAYLIGHT
BEGIN:STANDARD
TZOFFSETFROM:+0200
TZOFFSETTO:+0100
TZNAME:CET
DTSTART:20261025T010000
END:STANDARD
END:VTIMEZONE
BEGIN:VEVENT
DTSTART;TZID=Europe/Rome:20250708T110000
DTEND;TZID=Europe/Rome:20250814T153000
DTSTAMP:20260420T172806
CREATED:20250704T143110Z
LAST-MODIFIED:20250704T143853Z
UID:6821-1751972400-1755185400@passpartout.art
SUMMARY:TOUR DISCOVER CITTADELLA
DESCRIPTION:Dal martedì al venerdì\, per tutto il mese\, tour alla scoperta dei 3 monumenti principali del centro storico.\nPalazzo Pretorio\, Teatro Sociale\, Museo del Duomo\nOrari di partenza del Tour: 11 – 12:30 – 14 – 15:30 dall’Ufficio Turistico IAT in Porte Bassanesi\nCosto € 10 a persona per 4 ingressi\nIl costo include:\n– il biglietto d’ingresso ai 3 monumenti\n– l’operatore culturale che vi accompagna\n– l’ingresso alle Mura\, da svolgersi autonomamente o prima o dopo il tour\nSenza prenotazione\, 4 partenze garantite al giorno\nPresentarsi in IAT 10 minuti prima dell’inizio del tour scelto\nInfo: cittadella@historiatravel.it
URL:https://passpartout.art/evento/tour-discover-cittadella-2/
CATEGORIES:monumenti,Parchi,ville
END:VEVENT
BEGIN:VEVENT
DTSTART;TZID=Europe/Rome:20250711T210000
DTEND;TZID=Europe/Rome:20250711T210000
DTSTAMP:20260420T172806
CREATED:20250704T143139Z
LAST-MODIFIED:20250704T143139Z
UID:6830-1752267600-1752267600@passpartout.art
SUMMARY:NOTTE DEI SALDI
DESCRIPTION:I negozi del centro e dei borghi inaugurano ufficialmente la stagione dei saldi e vi aspettano\n con un’apertura straordinaria dalle 21:00 alle 24:00.\n Shopping\, aperitivo\, street food e musica dal vivo per le vie del centro.\n Camminamento di Ronda By Night dalle 21:00 alle 23:00.\n Info: info.vivicittadella@gmail.com
URL:https://passpartout.art/evento/notte-dei-saldi-2/
CATEGORIES:monumenti,Parchi,ville
END:VEVENT
BEGIN:VEVENT
DTSTART;TZID=Europe/Rome:20250711T210000
DTEND;TZID=Europe/Rome:20250711T210000
DTSTAMP:20260420T172806
CREATED:20250704T143139Z
LAST-MODIFIED:20250704T143139Z
UID:6831-1752267600-1752267600@passpartout.art
SUMMARY:ULTRAJAM FESTIVAL
DESCRIPTION:Tre giorni di concerti al Teatro all’Aperto in Campo della Marta\n Venerdì 11 ore 21: 32° Parallelo\, Nomadi tribute band\n info 333 917 9838
URL:https://passpartout.art/evento/ultrajam-festival-2/
CATEGORIES:monumenti,Parchi,ville
END:VEVENT
END:VCALENDAR